Workbook

Sheet TH Tool
A1: Transitional Housing Monitoring Tool | B1: 1 | C1: =B1+1 -> 2 | D1: =C1+1 -> 3 | E1: =D1+1 -> 4 | F1: =E1+1 -> 5 | G1: =F1+1 -> 6 | H1: =G1+1 -> 7 | I1: =H1+1 -> 8 | J1: =I1+1 -> 9 | ... AY1: =AX1+1 -> 50
A2: Agency Name
A3: Program Name
A4: Monitoring Date
A6: Client ID HMIS
A7: Last Name
A8: Entry Date
A9: Exit Date
A10: Length of Stay-Days | B10: =IF(B9="",$B$4-B8,B9-B8) -> 0 | C10: =IF(C9="",$B$4-C8,C9-C8) -> 0 | D10: =IF(D9="",$B$4-D8,D9-D8) -> 0 | E10: =IF(E9="",$B$4-E8,E9-E8) -> 0 | F10: =IF(F9="",$B$4-F8,F9-F8) -> 0 | G10: =IF(G9="",$B$4-G8,G9-G8) -> 0 | H10: =IF(H9="",$B$4-H8,H9-H8) -> 0 | I10: =IF(I9="",$B$4-I8,I9-I8) -> 0 | ... AY10: =IF(AY9="",$B$4-AY8,AY9-AY8) -> 0
A13: Standard | B13: Determination and Notes | C13: Determination and Notes | D13: Determination and Notes | E13: Determination and Notes | F13: Determination and Notes | G13: Determination and Notes | H13: Determination and Notes | I13: Determination and Notes | J13: Determination and Notes | K13: Determination and Notes | L13: Determination and Notes | M13: Determination and Notes | N13: Determination and Notes | O13: Determination and Notes | P13: Determination and Notes | Q13: Determination and Notes | R13: Determination and Notes | S13: Determination and Notes | T13: Determination and Notes | U13: Determination and Notes | V13: Determination and Notes | W13: Determination and Notes | X13: Determination and Notes | Y13: Determination and Notes | Z13: Determination and Notes | AA13: Determination and Notes | AB13: Determination and Notes | AC13: Determination and Notes | AD13: Determination and Notes | AE13: Determination and Notes | AF13: Determination and Notes | AG13: Determination and Notes | AH13: Determination and Notes | AI13: Determination and Notes | AJ13: Determination and Notes | AK13: Determination and Notes | AL13: Determination and Notes | AM13: Determination and Notes | AN13: Determination and Notes | AO13: Determination and Notes | AP13: Determination and Notes | AQ13: Determination and Notes | AR13: Determination and Notes | AS13: Determination and Notes | AT13: Determination and Notes | AU13: Determination and Notes | AV13: Determination and Notes | AW13: Determination and Notes | AX13: Determination and Notes | AY13: Determination and Notes
A14: Documentation of Homlessness
A16: Evaluation / Needs Assessment
A18: Annual Reassessment
A20: Termination and Appeals Acknowledgement
A22: Termination and Appeals Documentation
A24: Individualized Housing Stability Plans
A26: Case file documentation
A28: Lease or Housing Agreement Requirements
A30: VAWA client notification
A32: Documentation of Habitability Inspection
A34: Lead Based Paint
A36: Provision of Eligible Assistance
... A40: FMR/Rent Reasonableness
B46: Yes
B47: No
B48: N/A
A50: =A14 -> Documentation of Homlessness
A51: Files Reviewed | B51: =IF(B14="",0,1) -> 0 | C51: =IF(C14="",0,1) -> 0 | D51: =IF(D14="",0,1) -> 0 | E51: =IF(E14="",0,1) -> 0 | F51: =IF(F14="",0,1) -> 0 | G51: =IF(G14="",0,1) -> 0 | H51: =IF(H14="",0,1) -> 0 | I51: =IF(I14="",0,1) -> 0 | ... AY51: =IF(AY14="",0,1) -> 0 | AZ51: =SUM(B51:AY51) -> 0
A52: Applicable Files | B52: =IF(B14="N/A",0,1) -> 1 | C52: =IF(C14="N/A",0,1) -> 1 | D52: =IF(D14="N/A",0,1) -> 1 | E52: =IF(E14="N/A",0,1) -> 1 | F52: =IF(F14="N/A",0,1) -> 1 | G52: =IF(G14="N/A",0,1) -> 1 | H52: =IF(H14="N/A",0,1) -> 1 | I52: =IF(I14="N/A",0,1) -> 1 | ... AY52: =IF(AY14="N/A",0,1) -> 1 | AZ52: =SUM(B52:AY52) -> 50
A53: Non Compliant | B53: =IF(B14="NO",1,0) -> 0 | C53: =IF(C14="NO",1,0) -> 0 | D53: =IF(D14="NO",1,0) -> 0 | E53: =IF(E14="NO",1,0) -> 0 | F53: =IF(F14="NO",1,0) -> 0 | G53: =IF(G14="NO",1,0) -> 0 | H53: =IF(H14="NO",1,0) -> 0 | I53: =IF(I14="NO",1,0) -> 0 | ... AY53: =IF(AY14="NO",1,0) -> 0 | AZ53: =SUM(B53:AY53) -> 0
A54: =A16 -> Evaluation / Needs Assessment
A55: Files Reviewed | B55: =IF(B16="",0,1) -> 0 | C55: =IF(C16="",0,1) -> 0 | D55: =IF(D16="",0,1) -> 0 | E55: =IF(E16="",0,1) -> 0 | F55: =IF(F16="",0,1) -> 0 | G55: =IF(G16="",0,1) -> 0 | H55: =IF(H16="",0,1) -> 0 | I55: =IF(I16="",0,1) -> 0 | ... AY55: =IF(AY16="",0,1) -> 0 | AZ55: =SUM(B55:AY55) -> 0
A56: Applicable Files | B56: =IF(B16="N/A",0,1) -> 1 | C56: =IF(C16="N/A",0,1) -> 1 | D56: =IF(D16="N/A",0,1) -> 1 | E56: =IF(E16="N/A",0,1) -> 1 | F56: =IF(F16="N/A",0,1) -> 1 | G56: =IF(G16="N/A",0,1) -> 1 | H56: =IF(H16="N/A",0,1) -> 1 | I56: =IF(I16="N/A",0,1) -> 1 | ... AY56: =IF(AY16="N/A",0,1) -> 1 | AZ56: =SUM(B56:AY56) -> 50
A57: Non Compliant | B57: =IF(B16="NO",1,0) -> 0 | C57: =IF(C16="NO",1,0) -> 0 | D57: =IF(D16="NO",1,0) -> 0 | E57: =IF(E16="NO",1,0) -> 0 | F57: =IF(F16="NO",1,0) -> 0 | G57: =IF(G16="NO",1,0) -> 0 | H57: =IF(H16="NO",1,0) -> 0 | I57: =IF(I16="NO",1,0) -> 0 | ... AY57: =IF(AY16="NO",1,0) -> 0 | AZ57: =SUM(B57:AY57) -> 0
A58: =A18 -> Annual Reassessment
A59: Files Reviewed | B59: =IF(B18="",0,1) -> 0 | C59: =IF(C18="",0,1) -> 0 | D59: =IF(D18="",0,1) -> 0 | E59: =IF(E18="",0,1) -> 0 | F59: =IF(F18="",0,1) -> 0 | G59: =IF(G18="",0,1) -> 0 | H59: =IF(H18="",0,1) -> 0 | I59: =IF(I18="",0,1) -> 0 | ... AY59: =IF(AY18="",0,1) -> 0 | AZ59: =SUM(B59:AY59) -> 0
A60: Applicable Files | B60: =IF(B18="N/A",0,1) -> 1 | C60: =IF(C18="N/A",0,1) -> 1 | D60: =IF(D18="N/A",0,1) -> 1 | E60: =IF(E18="N/A",0,1) -> 1 | F60: =IF(F18="N/A",0,1) -> 1 | G60: =IF(G18="N/A",0,1) -> 1 | H60: =IF(H18="N/A",0,1) -> 1 | I60: =IF(I18="N/A",0,1) -> 1 | ... AY60: =IF(AY18="N/A",0,1) -> 1 | AZ60: =SUM(B60:AY60) -> 50
A61: Non Compliant | B61: =IF(B18="NO",1,0) -> 0 | C61: =IF(C18="NO",1,0) -> 0 | D61: =IF(D18="NO",1,0) -> 0 | E61: =IF(E18="NO",1,0) -> 0 | F61: =IF(F18="NO",1,0) -> 0 | G61: =IF(G18="NO",1,0) -> 0 | H61: =IF(H18="NO",1,0) -> 0 | I61: =IF(I18="NO",1,0) -> 0 | ... AY61: =IF(AY18="NO",1,0) -> 0 | AZ61: =SUM(B61:AY61) -> 0
A62: =A20 -> Termination and Appeals Acknowledgement
A63: Files Reviewed | B63: =IF(B20="",0,1) -> 0 | C63: =IF(C20="",0,1) -> 0 | D63: =IF(D22="",0,1) -> 0 | E63: =IF(E22="",0,1) -> 0 | F63: =IF(F22="",0,1) -> 0 | G63: =IF(G22="",0,1) -> 0 | H63: =IF(H22="",0,1) -> 0 | I63: =IF(I22="",0,1) -> 0 | J63: =IF(J22="",0,1) -> 0 | K63: =IF(K22="",0,1) -> 0 | ... AY63: =IF(AY22="",0,1) -> 0 | AZ63: =SUM(B63:AY63) -> 0
...

Sheet TH Guide
A2: Transitional Housing
A5: Documentation of Homelessness
A6: Agencies operating Emergency Solutions Grant (ESG) Street Outreach programs must document that each participant meets HUD’s Category 1: Literally Homeless definition (24 CFR §576.2) at the time services begin.
A7: A person is considered literally homeless if they are:
A8: Living in a place not meant for human habitation (such as streets, vehicles, abandoned buildings, or encampments),
A9: Staying in an emergency shelter, or
A10: Exiting an institution (such as jail, hospital, or treatment facility) where they stayed 90 days or less and were living in a place not meant for human habitation or in an emergency shelter immediately before entering the institution.
A11: Acceptable Documentation
A12: Agencies must maintain records showing the participant met the Category 1 definition at program entry. Acceptable documentation may include:
A13: Written verification from a street outreach worker confirming the person was observed living in a place not meant for human habitation.
A14: HMIS records showing the participant entered the program from a street outreach contact or emergency shelter.
A15: Discharge paperwork or written verification from an institution confirming the length of stay and prior homeless status.
... A365: Proper documentation ensures that rental assistance is cost-effective, compliant, and supports long-term housing stability.

Sheet PRCExit
A2: PR&C Exit Interview Form (Transitional Housing)
A4: Date | B4: Partner Agency | F4: Program | I4: Reviewers
A5: ='TH Tool'!B4 -> 0 | B5: ='TH Tool'!B2 -> 0 | F5: ='TH Tool'!B3 -> 0
A6: Client File Review Summary
A7: Standard | G7: Number of Applicable Files | I7: Number Non Compliant | K7: Compliance Percentage
A8: ='TH Tool'!A14 -> Documentation of Homlessness | G8: ='TH Tool'!AZ52 -> 50 | I8: ='TH Tool'!AZ53 -> 0 | K8: =1-(I8/G8) -> 1
A9: ='TH Tool'!A16 -> Evaluation / Needs Assessment | G9: ='TH Tool'!AZ56 -> 50 | I9: ='TH Tool'!AZ57 -> 0 | K9: =1-(I9/G9) -> 1
A10: ='TH Tool'!A18 -> Annual Reassessment | G10: ='TH Tool'!AZ60 -> 50 | I10: ='TH Tool'!AZ61 -> 0 | K10: =1-(I10/G10) -> 1
A11: ='TH Tool'!A20 -> Termination and Appeals Acknowledgement | G11: ='TH Tool'!AZ64 -> 50 | I11: ='TH Tool'!AZ65 -> 0 | K11: =1-(I11/G11) -> 1
A12: ='TH Tool'!A22 -> Termination and Appeals Documentation | G12: ='TH Tool'!AZ68 -> 50 | I12: ='TH Tool'!AZ69 -> 0 | K12: =1-(I12/G12) -> 1
A13: ='TH Tool'!A24 -> Individualized Housing Stability Plans | G13: ='TH Tool'!AZ72 -> 50 | I13: ='TH Tool'!AZ73 -> 0 | K13: =1-(I13/G13) -> 1
A14: ='TH Tool'!A26 -> Case file documentation | G14: ='TH Tool'!AZ76 -> 50 | I14: ='TH Tool'!AZ77 -> 0 | K14: =1-(I14/G14) -> 1
A15: ='TH Tool'!A28 -> Lease or Housing Agreement Requirements | G15: ='TH Tool'!AZ80 -> 50 | I15: ='TH Tool'!AZ81 -> 0 | K15: =1-(I15/G15) -> 1
A16: ='TH Tool'!A30 -> VAWA client notification | G16: ='TH Tool'!AZ84 -> 50 | I16: ='TH Tool'!AZ85 -> 0 | K16: =1-(I16/G16) -> 1
A17: ='TH Tool'!A32 -> Documentation of Habitability Inspection | G17: ='TH Tool'!AZ88 -> 50 | I17: ='TH Tool'!AZ89 -> 0 | K17: =1-(I17/G17) -> 1
A18: ='TH Tool'!A34 -> Lead Based Paint | G18: ='TH Tool'!AZ92 -> 50 | I18: ='TH Tool'!AZ93 -> 0 | K18: =1-(I18/G18) -> 1
A19: ='TH Tool'!A36 -> Provision of Eligible Assistance | G19: ='TH Tool'!AZ96 -> 50 | I19: ='TH Tool'!AZ97 -> 0 | K19: =1-(I19/G19) -> 1
A20: ='TH Tool'!A38 -> Rental Asistance Agreement | G20: ='TH Tool'!AZ100 -> 50 | I20: ='TH Tool'!AZ101 -> 0 | K20: =1-(I20/G20) -> 1
A21: ='TH Tool'!A40 -> FMR/Rent Reasonableness | G21: ='TH Tool'!AZ104 -> 50 | I21: ='TH Tool'!AZ105 -> 0 | K21: =1-(I21/G21) -> 1
A22: Overall Monitoring Score | G22: =SUM(G8:H21) -> 700 | I22: =SUM(I8:J21) -> 0 | K22: =1-(I22/G22) -> 1
A23: Standards feedback, recommendations and improvement needed
A26: Next Steps (Follow up)
B27: No follow up needed at this time. Final review and determination will be provided on the PR&C report
A28: x | B28: Please provide follow up information for the items listed below
A30: 1
A31: 2
A32: 3
A33: 4
A34: 5
