Workbook

Sheet Tool
A1: SSO-CE | B1: 1 | C1: 2 | D1: 3 | E1: =D1+1 -> 4 | F1: =E1+1 -> 5 | G1: =F1+1 -> 6 | H1: =G1+1 -> 7 | I1: =H1+1 -> 8 | J1: =I1+1 -> 9 | K1: =J1+1 -> 10 | L1: =K1+1 -> 11 | ... AY1: =AX1+1 -> 50
A2: Agency Name
A3: Program Name
A4: Monitoring Date
A6: Client ID#
A7: Last Name
A8: Entry Date
A9: Exit Date
A10: Length of Stay-Days | B10: =IF(B9="",$B$4-B8,B9-B8) -> 0 | C10: =IF(C9="",$B$4-C8,C9-C8) -> 0 | D10: =IF(D9="",$B$4-D8,D9-D8) -> 0 | E10: =IF(E9="",$B$4-E8,E9-E8) -> 0 | F10: =IF(F9="",$B$4-F8,F9-F8) -> 0 | G10: =IF(G9="",$B$4-G8,G9-G8) -> 0 | H10: =IF(H9="",$B$4-H8,H9-H8) -> 0 | I10: =IF(I9="",$B$4-I8,I9-I8) -> 0 | ... AY10: =IF(AY9="",$B$4-AY8,AY9-AY8) -> 0
A13: Standard | B13: Determination and Notes | C13: Determination and Notes | D13: Determination and Notes | E13: Determination and Notes | F13: Determination and Notes | G13: Determination and Notes | H13: Determination and Notes | I13: Determination and Notes | J13: Determination and Notes | K13: Determination and Notes | L13: Determination and Notes | M13: Determination and Notes | N13: Determination and Notes | O13: Determination and Notes | P13: Determination and Notes | Q13: Determination and Notes | R13: Determination and Notes | S13: Determination and Notes | T13: Determination and Notes | U13: Determination and Notes | V13: Determination and Notes | W13: Determination and Notes | X13: Determination and Notes | Y13: Determination and Notes | Z13: Determination and Notes | AA13: Determination and Notes | AB13: Determination and Notes | AC13: Determination and Notes | AD13: Determination and Notes | AE13: Determination and Notes | AF13: Determination and Notes | AG13: Determination and Notes | AH13: Determination and Notes | AI13: Determination and Notes | AJ13: Determination and Notes | AK13: Determination and Notes | AL13: Determination and Notes | AM13: Determination and Notes | AN13: Determination and Notes | AO13: Determination and Notes | AP13: Determination and Notes | AQ13: Determination and Notes | AR13: Determination and Notes | AS13: Determination and Notes | AT13: Determination and Notes | AU13: Determination and Notes | AV13: Determination and Notes | AW13: Determination and Notes | AX13: Determination and Notes | AY13: Determination and Notes
A14: E2 Housing First
A16: E3 Documentation of Homlessness
A18: E3 Evaluation
A20: E6 Ressessment
A22: F18 VAWA Protections
A24: G1 Individualized Housing Stability Plans
A26: G2 Case file documentation
A28: G4 Screening/Prioritization
A30: K2 DCA Application
A32: K2 Provision of Eligible Assistance
A34: K3 DCA Payments
B37: Yes
B38: No
B39: N/A
A41: =A14 -> E2 Housing First
A42: Files Reviewed | B42: =IF(B14="",0,1) -> 0 | C42: =IF(C14="",0,1) -> 0 | D42: =IF(D14="",0,1) -> 0 | E42: =IF(E14="",0,1) -> 0 | F42: =IF(F14="",0,1) -> 0 | G42: =IF(G14="",0,1) -> 0 | H42: =IF(H14="",0,1) -> 0 | I42: =IF(I14="",0,1) -> 0 | ... AY42: =IF(AY14="",0,1) -> 0 | AZ42: =SUM(B42:AY42) -> 0
A43: Applicable Files | B43: =IF(B14="N/A",0,1) -> 1 | C43: =IF(C14="N/A",0,1) -> 1 | D43: =IF(D14="N/A",0,1) -> 1 | E43: =IF(E14="N/A",0,1) -> 1 | F43: =IF(F14="N/A",0,1) -> 1 | G43: =IF(G14="N/A",0,1) -> 1 | H43: =IF(H14="N/A",0,1) -> 1 | I43: =IF(I14="N/A",0,1) -> 1 | ... AY43: =IF(AY14="N/A",0,1) -> 1 | AZ43: =SUM(B43:AY43) -> 50
A44: Non Compliant | B44: =IF(B14="NO",1,0) -> 0 | C44: =IF(C14="NO",1,0) -> 0 | D44: =IF(D14="NO",1,0) -> 0 | E44: =IF(E14="NO",1,0) -> 0 | F44: =IF(F14="NO",1,0) -> 0 | G44: =IF(G14="NO",1,0) -> 0 | H44: =IF(H14="NO",1,0) -> 0 | I44: =IF(I14="NO",1,0) -> 0 | ... AY44: =IF(AY14="NO",1,0) -> 0 | AZ44: =SUM(B44:AY44) -> 0
A45: =A16 -> E3 Documentation of Homlessness
A46: Files Reviewed | B46: =IF(B16="",0,1) -> 0 | C46: =IF(C16="",0,1) -> 0 | D46: =IF(D16="",0,1) -> 0 | E46: =IF(E16="",0,1) -> 0 | F46: =IF(F16="",0,1) -> 0 | G46: =IF(G16="",0,1) -> 0 | H46: =IF(H16="",0,1) -> 0 | I46: =IF(I16="",0,1) -> 0 | ... AY46: =IF(AY16="",0,1) -> 0 | AZ46: =SUM(B46:AY46) -> 0
A47: Applicable Files | B47: =IF(B16="N/A",0,1) -> 1 | C47: =IF(C16="N/A",0,1) -> 1 | D47: =IF(D16="N/A",0,1) -> 1 | E47: =IF(E16="N/A",0,1) -> 1 | F47: =IF(F16="N/A",0,1) -> 1 | G47: =IF(G16="N/A",0,1) -> 1 | H47: =IF(H16="N/A",0,1) -> 1 | I47: =IF(I16="N/A",0,1) -> 1 | ... AY47: =IF(AY16="N/A",0,1) -> 1 | AZ47: =SUM(B47:AY47) -> 50
A48: Non Compliant | B48: =IF(B16="NO",1,0) -> 0 | C48: =IF(C16="NO",1,0) -> 0 | D48: =IF(D16="NO",1,0) -> 0 | E48: =IF(E16="NO",1,0) -> 0 | F48: =IF(F16="NO",1,0) -> 0 | G48: =IF(G16="NO",1,0) -> 0 | H48: =IF(H16="NO",1,0) -> 0 | I48: =IF(I16="NO",1,0) -> 0 | ... AY48: =IF(AY16="NO",1,0) -> 0 | AZ48: =SUM(B48:AY48) -> 0
A49: =A18 -> E3 Evaluation
A50: Files Reviewed | B50: =IF(B18="",0,1) -> 0 | C50: =IF(C18="",0,1) -> 0 | D50: =IF(D18="",0,1) -> 0 | E50: =IF(E18="",0,1) -> 0 | F50: =IF(F18="",0,1) -> 0 | G50: =IF(G18="",0,1) -> 0 | H50: =IF(H18="",0,1) -> 0 | I50: =IF(I18="",0,1) -> 0 | ... AY50: =IF(AY18="",0,1) -> 0 | AZ50: =SUM(B50:AY50) -> 0
A51: Applicable Files | B51: =IF(B18="N/A",0,1) -> 1 | C51: =IF(C18="N/A",0,1) -> 1 | D51: =IF(D18="N/A",0,1) -> 1 | E51: =IF(E18="N/A",0,1) -> 1 | F51: =IF(F18="N/A",0,1) -> 1 | G51: =IF(G18="N/A",0,1) -> 1 | H51: =IF(H18="N/A",0,1) -> 1 | I51: =IF(I18="N/A",0,1) -> 1 | ... AY51: =IF(AY18="N/A",0,1) -> 1 | AZ51: =SUM(B51:AY51) -> 50
A52: Non Compliant | B52: =IF(B18="NO",1,0) -> 0 | C52: =IF(C18="NO",1,0) -> 0 | D52: =IF(D18="NO",1,0) -> 0 | E52: =IF(E18="NO",1,0) -> 0 | F52: =IF(F18="NO",1,0) -> 0 | G52: =IF(G18="NO",1,0) -> 0 | H52: =IF(H18="NO",1,0) -> 0 | I52: =IF(I18="NO",1,0) -> 0 | ... AY52: =IF(AY18="NO",1,0) -> 0 | AZ52: =SUM(B52:AY52) -> 0
A53: =A20 -> E6 Ressessment
A54: Files Reviewed | B54: =IF(B20="",0,1) -> 0 | C54: =IF(C20="",0,1) -> 0 | D54: =IF(D20="",0,1) -> 0 | E54: =IF(E20="",0,1) -> 0 | F54: =IF(F20="",0,1) -> 0 | G54: =IF(G20="",0,1) -> 0 | H54: =IF(H20="",0,1) -> 0 | I54: =IF(I20="",0,1) -> 0 | ... AY54: =IF(AY20="",0,1) -> 0 | AZ54: =SUM(B54:AY54) -> 0
A55: Applicable Files | B55: =IF(B20="N/A",0,1) -> 1 | C55: =IF(C20="N/A",0,1) -> 1 | D55: =IF(D20="N/A",0,1) -> 1 | E55: =IF(E20="N/A",0,1) -> 1 | F55: =IF(F20="N/A",0,1) -> 1 | G55: =IF(G20="N/A",0,1) -> 1 | H55: =IF(H20="N/A",0,1) -> 1 | I55: =IF(I20="N/A",0,1) -> 1 | ... AY55: =IF(AY20="N/A",0,1) -> 1 | AZ55: =SUM(B55:AY55) -> 50
A56: Non Compliant | B56: =IF(B20="NO",1,0) -> 0 | C56: =IF(C20="NO",1,0) -> 0 | D56: =IF(D20="NO",1,0) -> 0 | E56: =IF(E20="NO",1,0) -> 0 | F56: =IF(F20="NO",1,0) -> 0 | G56: =IF(G20="NO",1,0) -> 0 | H56: =IF(H20="NO",1,0) -> 0 | I56: =IF(I20="NO",1,0) -> 0 | ... AY56: =IF(AY20="NO",1,0) -> 0 | AZ56: =SUM(B56:AY56) -> 0
...

Sheet Guide
A2: SSO-CE
A3: Standard | C3: Detail
A5: E2 | C5: Housing First
A6: Polices and file documentation must be consistent with a Housing First model designed help people experiencing homeless rapidly move to permanent housing and achieve long-term housing stability. Program documentation should demonstrate a low barrier program without preconditions and service should be housing focused with voluntary non-housing services. Case files should demonstrate strong efforts to ensure that the household is not terminated from the program prior to achieving long term housing stability.
A8: E3 | C8: Documentation of Homelessness
A9: The agency must provide documentation that client was homeless according to Category 1 (Literally Homeless) of HUD's definition of homeless upon entering the program. This would include living in places not fit for human habitation, exiting from another homeless program, or exiting an institution where (s)he resided 90 days or less and was literally homeless immediately before entering that institution. Acceptable documentation would include outreach worker verification, Self Certification of Homelessness, HMIS records showing client is entering from another homeless program discharge paperwork from an institution, or documented efforts the intake worker made to secure the appropriate information from the discharging institution. In most cases homeless documentation would consist of HMIS records, since households normally enter RRH housing from the emergency shelter system or street outreach. Please note that while HMIS records showing the that client came from another homeless shelter, or street outreach is acceptable documentation, HMIS records showing a referral from Coordinated Entry is not sufficient. In that case the agency should secure a Self Certification from the client. See the following link for HUD guidance on the homeless definition and record keeping,
A10: https://files.hudexchange.info/resources/documents/HomelessDefinition_RecordkeepingRequirementsandCriteria.pdf
A12: E3 | C12: Evaluation
A13: Initial evaluation to assess the households needs and preferences, strengths, and barriers to housing and the amount and types of assistance needed to secure and retain permanent housing. Programs should prioritize client assistance based on the urgency and severity of housing and service needs without preconditions. Programs should strive to not provide more than the amount needed to help the program participant move into permanent housing and maintain long-term housing stability.
A15: E6 | C15: Reassessment
A16: Clients must be reassessed on at least an annual basis for continued eligibility and to ensure that they are receiving the necessary support to achieve long-term housing stability. Assessments should be used to determine whether program participants lack sufficient resources and support networks necessary to retain housing without assistance, and the types and amounts of assistance needed to retain housing. As part of the annual assessment, income is reviewed to determine whether the participant meets the continued eligibility standard of below 30 percent Area Median Income (AMI) for ODOD/ESG funded programs. Please note that programs only assess participant income for continued eligibility at the one-year period.
A18: G1 | C18: Individualized Housing Stability Plans
A19: Staff develop Individualized Housing Stabilization Plans (IHSPs) with clients to document client housing goals and the actions necessary to address housing barriers and other service needs.
A21: G2 | C21: Case file documentation
A22: Case files are up-to-date documenting client and service provider contacts, services provided and progress towards obtaining and maintaining permanent housing. Case notes should show progress towards long-term housing stability and that the participant met with the case manager at least monthly to address housing issues and barriers and assess continued financial assistance needs (amount, type, and duration).
A24: K2 | C24: DCA Application
A25: DCA applications contain all documentation listed on the DCA application checklists for each program type.
A27: K2 | C27: Provision of Eligible Assistance
A28: Client subsidy/assistance must be consistent with the requirements for the eligible type and level of assistance for the funded program
A29: ODOD/ESG: App fees, Moving expenses (U-Haul or moving service if necessary); Security deposit that is equal to no more than 2 months' rent; Up to 24 months of rental assistance during any 3-year period. Payment for last month's rent does not exceed one month's rent and is included in calculating the program participant's total rental assistance of 24 months; Payment of rental arrears consists of a one-time payment for up to 6 months of rent in arrears, including any late fees on those arrears; Not more than 24 months of utility payments ncluding up to 6 months of utility payments in arrears.
A30: App fees, Rent, Security Deposit (limited to 2 months equal to rent), Current Utility Payment & Utility Arrearage (Lesser of $2,000 or up to 6 months) Rent and utilities can exceed FMR; unit costs must be sustainable for the client when assistance ends. Can serve undocumented clients through City General and County RETF funding.
A32: K3 | C32: DCA Payments
A33: The agency will only make payable and/or disburse checks to a verified vendor (e.g., landlord, utility company) providing services. The agency will only make payable and/or disburse checks to a verified vendor (e.g., landlord, utility company) providing services. Discussion: CSB discussed the check disbursement process with agency staff.

Sheet PRCExit
A2: PR&C Exit Interview Form (SSO-CE)
A4: Date | B4: Partner Agency | F4: Program | I4: Reviewers
A5: =Tool!B4 -> 0 | B5: =Tool!B2 -> 0 | F5: =Tool!B3 -> 0 | I5: Timothy Mercer, Jennifer McCloskey-Haas
A6: Monitoring Summary
A8: Client File Review Summary
A9: Standard | G9: Number of Applicable Files | I9: Number Non Compliant | K9: Compliance Percentage
A10: =Tool!A41 -> E2 Housing First | G10: =Tool!AZ43 -> 50 | I10: =Tool!AZ44 -> 0 | K10: =1-(I10/G10) -> 1
A11: =Tool!A45 -> E3 Documentation of Homlessness | G11: =Tool!AZ47 -> 50 | I11: =Tool!AZ48 -> 0 | K11: =1-(I11/G11) -> 1
A12: =Tool!A49 -> E3 Evaluation | G12: =Tool!AZ51 -> 50 | I12: =Tool!AZ52 -> 0 | K12: =1-(I12/G12) -> 1
A13: =Tool!A53 -> E6 Ressessment | G13: =Tool!AZ55 -> 50 | I13: =Tool!AZ56 -> 0 | K13: =1-(I13/G13) -> 1
A14: =Tool!A57 -> F18 VAWA Protections | G14: =Tool!AZ59 -> 50 | I14: =Tool!AZ60 -> 0 | K14: =1-(I14/G14) -> 1
A15: =Tool!A61 -> G1 Individualized Housing Stability Plans | G15: =Tool!AZ63 -> 50 | I15: =Tool!AZ64 -> 0 | K15: =1-(I15/G15) -> 1
A16: =Tool!A65 -> G2 Case file documentation | G16: =Tool!AZ67 -> 50 | I16: =Tool!AZ68 -> 0 | K16: =1-(I16/G16) -> 1
A17: =Tool!A69 -> G4 Screening/Prioritization | G17: =Tool!AZ71 -> 50 | I17: =Tool!AZ72 -> 0 | K17: =1-(I17/G17) -> 1
A18: =Tool!A73 -> K2 DCA Application | G18: =Tool!AZ75 -> 50 | I18: =Tool!AZ76 -> 0 | K18: =1-(I18/G18) -> 1
A19: =Tool!A77 -> K2 Provision of Eligible Assistance | G19: =Tool!AZ79 -> 50 | I19: =Tool!AZ80 -> 0 | K19: =1-(I19/G19) -> 1
A20: =Tool!A81 -> K3 DCA Payments | G20: =Tool!AZ83 -> 50 | I20: =Tool!AZ84 -> 0 | K20: =1-(I20/G20) -> 1
A21: Overall Client File Review Score | G21: =SUM(G10:H20) -> 550 | I21: =SUM(I10:J20) -> 0 | K21: =1-(I21/G21) -> 1
A22: Standards feedback, recommendations and improvement needed
A25: Next Steps (Follow up)
B26: No follow up needed at this time. Final review and determination will be provided on the PR&C report
A27: x | B27: Please provide follow up information for the items listed below
A29: 1
A30: 2
A31: 3
A32: 4
A33: 5
