Workbook

Sheet Tool
A1: Rapid Re-Housing Monitoring Tool | B1: 1 | C1: =B1+1 -> 2 | D1: =C1+1 -> 3 | E1: =D1+1 -> 4 | F1: =E1+1 -> 5 | G1: =F1+1 -> 6 | H1: =G1+1 -> 7 | I1: =H1+1 -> 8 | J1: =I1+1 -> 9 | ... BI1: =BH1+1 -> 60
A2: Agency Name
A3: Program Name
A4: Monitoring Date
A6: Client ID HMIS
A7: Last Name
A8: Entry Date
A9: Exit Date
A10: Length of Stay-Days | B10: =IF(B9="",$B$4-B8,B9-B8) -> 0 | C10: =IF(C9="",$B$4-C8,C9-C8) -> 0 | D10: =IF(D9="",$B$4-D8,D9-D8) -> 0 | E10: =IF(E9="",$B$4-E8,E9-E8) -> 0 | F10: =IF(F9="",$B$4-F8,F9-F8) -> 0 | G10: =IF(G9="",$B$4-G8,G9-G8) -> 0 | H10: =IF(H9="",$B$4-H8,H9-H8) -> 0 | I10: =IF(I9="",$B$4-I8,I9-I8) -> 0 | ... BI10: =IF(BI9="",$B$4-BI8,BI9-BI8) -> 0
A13: Standard | B13: Determination and Notes | C13: Determination and Notes | D13: Determination and Notes | E13: Determination and Notes | F13: Determination and Notes | G13: Determination and Notes | H13: Determination and Notes | I13: Determination and Notes | J13: Determination and Notes | K13: Determination and Notes | L13: Determination and Notes | M13: Determination and Notes | N13: Determination and Notes | O13: Determination and Notes | P13: Determination and Notes | Q13: Determination and Notes | R13: Determination and Notes | S13: Determination and Notes | T13: Determination and Notes | U13: Determination and Notes | V13: Determination and Notes | W13: Determination and Notes | X13: Determination and Notes | Y13: Determination and Notes | Z13: Determination and Notes | AA13: Determination and Notes | AB13: Determination and Notes | AC13: Determination and Notes | AD13: Determination and Notes | AE13: Determination and Notes | AF13: Determination and Notes | AG13: Determination and Notes | AH13: Determination and Notes | AI13: Determination and Notes | AJ13: Determination and Notes | AK13: Determination and Notes | AL13: Determination and Notes | AM13: Determination and Notes | AN13: Determination and Notes | AO13: Determination and Notes | AP13: Determination and Notes | AQ13: Determination and Notes | AR13: Determination and Notes | AS13: Determination and Notes | AT13: Determination and Notes | AU13: Determination and Notes | AV13: Determination and Notes | AW13: Determination and Notes | AX13: Determination and Notes | AY13: Determination and Notes | AZ13: Determination and Notes | BA13: Determination and Notes | BB13: Determination and Notes | BC13: Determination and Notes | BD13: Determination and Notes | BE13: Determination and Notes | BF13: Determination and Notes | BG13: Determination and Notes | BH13: Determination and Notes | BI13: Determination and Notes
A14: E2 Housing First
A16: E3 Documentation of Homlessness
A18: E3 Evaluation
A20: E6 Annual Needs Assessment
A22: F3 Termination and Appeals Acknowledgement
A24: F4 Termination and Appeals Documentation
A26: G1 Individualized Housing Stability Plans
A28: G2 Case file documentation
A30: H2 Lease
A32: H8 VAWA client notification
A34: J2 Housing Inspection
A36: J4 Lead Based Paint
... A42: K2 FMR/Rent Reasonableness
B48: Yes
B49: No
B50: N/A
A52: E2 Housing First
A53: Files Reviewed | B53: =IF(B14="",0,1) -> 0 | C53: =IF(C14="",0,1) -> 0 | D53: =IF(D14="",0,1) -> 0 | E53: =IF(E14="",0,1) -> 0 | F53: =IF(F14="",0,1) -> 0 | G53: =IF(G14="",0,1) -> 0 | H53: =IF(H14="",0,1) -> 0 | I53: =IF(I14="",0,1) -> 0 | ... BI53: =IF(BI14="",0,1) -> 0 | BJ53: =SUM(B53:BI53) -> 0
A54: Applicable Files | B54: =IF(B14="N/A",0,1) -> 1 | C54: =IF(C14="N/A",0,1) -> 1 | D54: =IF(D14="N/A",0,1) -> 1 | E54: =IF(E14="N/A",0,1) -> 1 | F54: =IF(F14="N/A",0,1) -> 1 | G54: =IF(G14="N/A",0,1) -> 1 | H54: =IF(H14="N/A",0,1) -> 1 | I54: =IF(I14="N/A",0,1) -> 1 | ... BI54: =IF(BI14="N/A",0,1) -> 1 | BJ54: =SUM(B54:BI54) -> 60
A55: Non Compliant | B55: =IF(B14="NO",1,0) -> 0 | C55: =IF(C14="NO",1,0) -> 0 | D55: =IF(D14="NO",1,0) -> 0 | E55: =IF(E14="NO",1,0) -> 0 | F55: =IF(F14="NO",1,0) -> 0 | G55: =IF(G14="NO",1,0) -> 0 | H55: =IF(H14="NO",1,0) -> 0 | I55: =IF(I14="NO",1,0) -> 0 | ... BI55: =IF(BI14="NO",1,0) -> 0 | BJ55: =SUM(B55:BI55) -> 0
A56: E3 Homeless Documentation
A57: Files Reviewed | B57: =IF(B16="",0,1) -> 0 | C57: =IF(C16="",0,1) -> 0 | D57: =IF(D16="",0,1) -> 0 | E57: =IF(E16="",0,1) -> 0 | F57: =IF(F16="",0,1) -> 0 | G57: =IF(G16="",0,1) -> 0 | H57: =IF(H16="",0,1) -> 0 | I57: =IF(I16="",0,1) -> 0 | ... BI57: =IF(BI16="",0,1) -> 0 | BJ57: =SUM(B57:BI57) -> 0
A58: Applicable Files | B58: =IF(B16="N/A",0,1) -> 1 | C58: =IF(C16="N/A",0,1) -> 1 | D58: =IF(D16="N/A",0,1) -> 1 | E58: =IF(E16="N/A",0,1) -> 1 | F58: =IF(F16="N/A",0,1) -> 1 | G58: =IF(G16="N/A",0,1) -> 1 | H58: =IF(H16="N/A",0,1) -> 1 | I58: =IF(I16="N/A",0,1) -> 1 | ... BI58: =IF(BI16="N/A",0,1) -> 1 | BJ58: =SUM(B58:BI58) -> 60
A59: Non Compliant | B59: =IF(B16="NO",1,0) -> 0 | C59: =IF(C16="NO",1,0) -> 0 | D59: =IF(D16="NO",1,0) -> 0 | E59: =IF(E16="NO",1,0) -> 0 | F59: =IF(F16="NO",1,0) -> 0 | G59: =IF(G16="NO",1,0) -> 0 | H59: =IF(H16="NO",1,0) -> 0 | I59: =IF(I16="NO",1,0) -> 0 | ... BI59: =IF(BI16="NO",1,0) -> 0 | BJ59: =SUM(B59:BI59) -> 0
A60: E3 Evaluation
A61: Files Reviewed | B61: =IF(B18="",0,1) -> 0 | C61: =IF(C18="",0,1) -> 0 | D61: =IF(D18="",0,1) -> 0 | E61: =IF(E18="",0,1) -> 0 | F61: =IF(F18="",0,1) -> 0 | G61: =IF(G18="",0,1) -> 0 | H61: =IF(H18="",0,1) -> 0 | I61: =IF(I18="",0,1) -> 0 | ... BI61: =IF(BI18="",0,1) -> 0 | BJ61: =SUM(B61:BI61) -> 0
A62: Applicable Files | B62: =IF(B18="N/A",0,1) -> 1 | C62: =IF(C18="N/A",0,1) -> 1 | D62: =IF(D18="N/A",0,1) -> 1 | E62: =IF(E18="N/A",0,1) -> 1 | F62: =IF(F18="N/A",0,1) -> 1 | G62: =IF(G18="N/A",0,1) -> 1 | H62: =IF(H18="N/A",0,1) -> 1 | I62: =IF(I18="N/A",0,1) -> 1 | ... BI62: =IF(BI18="N/A",0,1) -> 1 | BJ62: =SUM(B62:BI62) -> 60
A63: Non Compliant | B63: =IF(B18="NO",1,0) -> 0 | C63: =IF(C18="NO",1,0) -> 0 | D63: =IF(D18="NO",1,0) -> 0 | E63: =IF(E18="NO",1,0) -> 0 | F63: =IF(F18="NO",1,0) -> 0 | G63: =IF(G18="NO",1,0) -> 0 | H63: =IF(H18="NO",1,0) -> 0 | I63: =IF(I18="NO",1,0) -> 0 | ... BI63: =IF(BI18="NO",1,0) -> 0 | BJ63: =SUM(B63:BI63) -> 0
A64: E6 Reassessment
A65: Files Reviewed | B65: =IF(B20="",0,1) -> 0 | C65: =IF(C20="",0,1) -> 0 | D65: =IF(D20="",0,1) -> 0 | E65: =IF(E20="",0,1) -> 0 | F65: =IF(F20="",0,1) -> 0 | G65: =IF(G20="",0,1) -> 0 | H65: =IF(H20="",0,1) -> 0 | I65: =IF(I20="",0,1) -> 0 | ... BI65: =IF(BI20="",0,1) -> 0 | BJ65: =SUM(B65:BI65) -> 0
...

Sheet Guide
A2: Rapid Re-housing
A3: Standard | C3: Detail
A5: E2 | C5: Housing First
A6: Polices and file documentation must be consistent with a Housing First model designed help people experiencing homeless rapidly move to permanent housing and achieve long-term housing stability. Program documentation should demonstrate a low barrier program without preconditions and service should be housing focused with voluntary non-housing services. Case files should demonstrate strong efforts to ensure that the household is not terminated from the program prior to achieving long term housing stability.
A8: E3 | C8: Documentation of Homelessness
A9: The agency must provide documentation that client was homeless according to Category 1 (Literally Homeless) of HUD's definition of homeless upon entering the program. This would include living in places not fit for human habitation, exiting from another homeless program, or exiting an institution where (s)he resided 90 days or less and was literally homeless immediately before entering that institution. Acceptable documentation would include outreach worker verification, Self Certification of Homelessness, HMIS records showing client is entering from another homeless program discharge paperwork from an institution, or documented efforts the intake worker made to secure the appropriate information from the discharging institution. In most cases homeless documentation would consist of HMIS records, since households normally enter RRH housing from the emergency shelter system or street outreach. Please note that while HMIS records showing the that client came from another homeless shelter, or street outreach is acceptable documentation, HMIS records showing a referral from Coordinated Entry is not sufficient. In that case the agency should secure a Self Certification from the client. See the following link for HUD guidance on the homeless definition and record keeping,
A10: https://files.hudexchange.info/resources/documents/HomelessDefinition_RecordkeepingRequirementsandCriteria.pdf
A12: E3 | C12: Evaluation
A13: Initial evaluation to assess the households needs and preferences, strengths, and barriers to housing and the amount and types of assistance needed to secure and retain permanent housing. Programs should prioritize client assistance based on the urgency and severity of housing and service needs without preconditions. Programs should strive to not provide more than the amount needed to help the program participant move into permanent housing and maintain long-term housing stability.
A15: E6 | C15: Reassessment
A16: Clients must be reassessed on at least an annual basis for continued eligibility and to ensure that they are receiving the necessary support to achieve long-term housing stability. Assessments should be used to determine whether program participants lack sufficient resources and support networks necessary to retain housing without assistance, and the types and amounts of assistance needed to retain housing. As part of the annual assessment, income is reviewed to determine whether the participant meets the continued eligibility standard of below 30 percent Area Median Income (AMI) for ODOD/ESG funded programs. Please note that programs only assess participant income for continued eligibility at the one-year period.
A18: F4 | C18: Acknowledgement of termination and appeal procedures
A19: Case file include a signed acknowledgment of termination and appeal procedures at enrollment, or other documentation that the client aknowledged those policies
A21: F4 | C21: Termination and appeals documentation
A22: Client files demonstrate that clients are terminated from the program only for lease violations and that termination proceedings follow approved polices assuring written notice of the reasons for termination, a process for appealing the decision and written notice of final decision
A24: G1 | C24: Individualized Housing Stability Plans
A25: Staff develop Individualized Housing Stabilization Plans (IHSPs) with clients to document client housing goals and the actions necessary to address housing barriers and other service needs.
A27: G2 | C27: Case file documentation
A28: Case files are up-to-date documenting client and service provider contacts, services provided and progress towards obtaining and maintaining permanent housing. Case notes should show progress towards long-term housing stability and that the participant met with the case manager at least monthly to address housing issues and barriers and assess continued financial assistance needs (amount, type, and duration).
A30: H2 | C30: Lease
A31: All clients must have a formal lease agreement prior to receiving assistance. The minimum term of the lease agreement must be six months for ODOD RRH and 12 months for CoC and HOME funded RRH and one-month for YHDP RRH rental assistance. There is no lease requirement for DCA Only (Singles/Families) except for rooming houses.
A33: H8 | C33: VAWA client notification
A34: VAWA Notice and Transfer Request Form must be given to and acknowledged by clients at program admission or denial, and at eviction or termination.
A35: https://view.officeapps.live.com/op/view.aspx?src=https%3A%2F%2F66381bb28b9f956a91e2-e08000a6fb874088c6b1d3b8bebbb337.ssl.cf2.rackcdn.com%2Ffiles-Client-VAWA-Notice.docx&wdOrigin=BROWSELINK
A36: https://view.officeapps.live.com/op/view.aspx?src=https%3A%2F%2F66381bb28b9f956a91e2-e08000a6fb874088c6b1d3b8bebbb337.ssl.cf2.rackcdn.com%2Ffiles-Client-VAWA-Notice.docx&wdOrigin=BROWSELINK
A38: J2 | C38: Housing Inspections
A39: The assisted housing unit must meet HUD Housing Quality Standard (HQS) for CoC funded program and HUD Habitability Standards for ODOD/ESG funded programs. ODOD/ESG funded program may use HQS since it is higher standard than Habitability. DCA Only (Singles/Families) programs should confirm that Unit Checklists are completed with case manager (new leases only)
A40: file-HQS-HUD-52580A.pdf
A41: https://66381bb28b9f956a91e2-e08000a6fb874088c6b1d3b8bebbb337.ssl.cf2.rackcdn.com/file-Habitability-Inspection.pdf
A43: J4 | C43: Lead Based Paint
A44: Lead based paint inspection, disclosure form and HUD Lead pamphlet if assisted unit was built before 1978 and children less than six. Below are links to CSB's Lead Based Paint Worksheet and Disclosure Form and HUD's Protect your Family from Lead in Your Home Pamphlet
A45: https://66381bb28b9f956a91e2-e08000a6fb874088c6b1d3b8bebbb337.ssl.cf2.rackcdn.com/files-Leadbased-paint-worksheet111517-1.pdf
A46: https://66381bb28b9f956a91e2-e08000a6fb874088c6b1d3b8bebbb337.ssl.cf2.rackcdn.com/files-filesLeadbasedpaintdisclosure-1.pdf
A47: https://www.epa.gov/sites/default/files/2020-04/documents/lead-in-your-home-portrait-color-2020-508.pdf
A49: K2 | C49: Provision of Eligible Assistance
A50: Client subsidy/assistance must be consistent with the requirements for the eligible type and level of assistance for the funded program
A51: ODOD/ESG: App fees, Moving expenses (U-Haul or moving service if necessary); Security deposit that is equal to no more than 2 months' rent; Up to 24 months of rental assistance during any 3-year period. Payment for last month's rent does not exceed one month's rent and is included in calculating the program participant's total rental assistance of 24 months; Payment of rental arrears consists of a one-time payment for up to 6 months of rent in arrears, including any late fees on those arrears; Not more than 24 months of utility payments ncluding up to 6 months of utility payments in arrears.
A52: YMCA, YWCA Rapid Re-Housing Families: App fees, Moving expenses (U-Haul or moving service if necessary), Rent, Security Deposit (limited to 2 months equal to rent), Current Utility Payment & Utility Arrearage (Lesser of $2,000 or up to 6 months) .
A53: Jobs2Housing, YHDP RRH TAY for Singles/Families, YMCA DV RRH, CHOICES RRH/TH: Security Deposit (limited to 2 months equal to rent), Advance payment of the last month’s rent if it accompanies a security deposit and first month’s rent, Current Utility Payment.
A55: K2 | C55: Rental Assistance Agreement
...

Sheet PRCExit
A2: PR&C Exit Interview Form (Rapid Re-Housing)
A4: Date | B4: Partner Agency | F4: Program | I4: Reviewers
A5: =Tool!B4 -> 0 | B5: =Tool!B2 -> 0 | F5: =Tool!B3 -> 0
A6: Monitoring Summary
A8: Client File Review Summary
A9: Standard | G9: Number of Applicable Files | I9: Number Non Compliant | K9: Compliance Percentage
A10: =Tool!A14 -> E2 Housing First | G10: =Tool!BJ54 -> 60 | I10: =Tool!BJ55 -> 0 | K10: =1-(I10/G10) -> 1
A11: =Tool!A16 -> E3 Documentation of Homlessness | G11: =Tool!BJ58 -> 60 | I11: =Tool!BJ59 -> 0 | K11: =1-(I11/G11) -> 1
A12: =Tool!A18 -> E3 Evaluation | G12: =Tool!BJ62 -> 60 | I12: =Tool!BJ63 -> 0 | K12: =1-(I12/G12) -> 1
A13: =Tool!A20 -> E6 Annual Needs Assessment | G13: =Tool!BJ66 -> 60 | I13: =Tool!BJ67 -> 0 | K13: =1-(I13/G13) -> 1
A14: =Tool!A22 -> F3 Termination and Appeals Acknowledgement | G14: =Tool!BJ70 -> 60 | I14: =Tool!BJ71 -> 0 | K14: =1-(I14/G14) -> 1
A15: =Tool!A24 -> F4 Termination and Appeals Documentation | G15: =Tool!BJ74 -> 60 | I15: =Tool!BJ75 -> 0 | K15: =1-(I15/G15) -> 1
A16: =Tool!A26 -> G1 Individualized Housing Stability Plans | G16: =Tool!BJ78 -> 60 | I16: =Tool!BJ79 -> 0 | K16: =1-(I16/G16) -> 1
A17: =Tool!A28 -> G2 Case file documentation | G17: =Tool!BJ82 -> 60 | I17: =Tool!BJ83 -> 0 | K17: =1-(I17/G17) -> 1
A18: =Tool!A30 -> H2 Lease | G18: =Tool!BJ86 -> 60 | I18: =Tool!BJ87 -> 0 | K18: =1-(I18/G18) -> 1
A19: =Tool!A32 -> H8 VAWA client notification | G19: =Tool!BJ90 -> 60 | I19: =Tool!BJ91 -> 0 | K19: =1-(I19/G19) -> 1
A20: =Tool!A34 -> J2 Housing Inspection | G20: =Tool!BJ94 -> 60 | I20: =Tool!BJ95 -> 0 | K20: =1-(I20/G20) -> 1
A21: =Tool!A36 -> J4 Lead Based Paint | G21: =Tool!BJ98 -> 60 | I21: =Tool!BJ99 -> 0 | K21: =1-(I21/G21) -> 1
A22: =Tool!A38 -> K2 Provision of Eligible Assistance | G22: =Tool!BJ102 -> 60 | I22: =Tool!BJ103 -> 0 | K22: =1-(I22/G22) -> 1
A23: =Tool!A40 -> K2 Rental Asistance Agreement | G23: =Tool!BJ106 -> 60 | I23: =Tool!BJ107 -> 0 | K23: =1-(I23/G23) -> 1
A24: =Tool!A42 -> K2 FMR/Rent Reasonableness | G24: =Tool!BJ110 -> 60 | I24: =Tool!BJ111 -> 0 | K24: =1-(I24/G24) -> 1
A25: Overall Client File Review Score | G25: =SUM(G10:H24) -> 900 | I25: =SUM(I10:J24) -> 0 | K25: =1-(I25/G25) -> 1
A26: Standards feedback, recommendations and improvement needed
A29: Next Steps (Follow up)
B30: No follow up needed at this time. Final review and determination will be provided on the PR&C report
A31: x | B31: Please provide follow up information for the items listed below
A33: 1
A34: 2
A35: 3
A36: 4
A37: 5
