Workbook

Sheet PSHTool
A1: PR&C Review Permanent Supportive Housing 1 | C1: 2 | D1: =C1+1 -> 3 | E1: =D1+1 -> 4 | F1: =E1+1 -> 5 | G1: =F1+1 -> 6 | H1: =G1+1 -> 7 | I1: =H1+1 -> 8 | J1: =I1+1 -> 9 | K1: =J1+1 -> 10 | ... AY1: =AX1+1 -> 50
A2: Agency Name
A3: Program Name
A4: Monitoring Date
A6: Client ID HMIS
A7: Last Name
A8: Entry Date
A9: Exit Date
A10: Length of Stay-Days | B10: =IF(B9="",$B$4-B8,B9-B8) -> 0 | C10: =IF(C9="",$B$4-C8,C9-C8) -> 0 | D10: =IF(D9="",$B$4-D8,D9-D8) -> 0 | E10: =IF(E9="",$B$4-E8,E9-E8) -> 0 | F10: =IF(F9="",$B$4-F8,F9-F8) -> 0 | G10: =IF(G9="",$B$4-G8,G9-G8) -> 0 | H10: =IF(H9="",$B$4-H8,H9-H8) -> 0 | I10: =IF(I9="",$B$4-I8,I9-I8) -> 0 | ... AY10: =IF(AY9="",$B$4-AY8,AY9-AY8) -> 0
A13: Standard | B13: Determination and Notes | C13: Determination and Notes | D13: Determination and Notes | E13: Determination and Notes | F13: Determination and Notes | G13: Determination and Notes | H13: Determination and Notes | I13: Determination and Notes | J13: Determination and Notes | K13: Determination and Notes | L13: Determination and Notes | M13: Determination and Notes | N13: Determination and Notes | O13: Determination and Notes | P13: Determination and Notes | Q13: Determination and Notes | R13: Determination and Notes | S13: Determination and Notes | T13: Determination and Notes | U13: Determination and Notes | V13: Determination and Notes | W13: Determination and Notes | X13: Determination and Notes | Y13: Determination and Notes | Z13: Determination and Notes | AA13: Determination and Notes | AB13: Determination and Notes | AC13: Determination and Notes | AD13: Determination and Notes | AE13: Determination and Notes | AF13: Determination and Notes | AG13: Determination and Notes | AH13: Determination and Notes | AI13: Determination and Notes | AJ13: Determination and Notes | AK13: Determination and Notes | AL13: Determination and Notes | AM13: Determination and Notes | AN13: Determination and Notes | AO13: Determination and Notes | AP13: Determination and Notes | AQ13: Determination and Notes | AR13: Determination and Notes | AS13: Determination and Notes | AT13: Determination and Notes | AU13: Determination and Notes | AV13: Determination and Notes | AW13: Determination and Notes | AX13: Determination and Notes | AY13: Determination and Notes
A14: Documentation of Homlessness
A16: Duration or Episodes of Homelessness
A18: Documentation of Disability
A20: Annual Service Needs Assessment
A22: Termination and Appeals Acknowledgement
A24: Termination and Appeals Documentation
A26: Individualized Housing Stability Plans
A28: Case file documentation
A30: Lease
A32: Assessment/Prioritization (HAST/RPT)
A34: Documentation of Income at Entry
A36: Documentation of VAWA
... A40: Lead-based Pint Documentation
B47: Yes
B48: No
B49: N/A
A51: =A14 -> Documentation of Homlessness
A52: Files Reviewed | B52: =IF(B14="",0,1) -> 0 | C52: =IF(C14="",0,1) -> 0 | D52: =IF(D14="",0,1) -> 0 | E52: =IF(E14="",0,1) -> 0 | F52: =IF(F14="",0,1) -> 0 | G52: =IF(G14="",0,1) -> 0 | H52: =IF(H14="",0,1) -> 0 | I52: =IF(I14="",0,1) -> 0 | ... AY52: =IF(AY14="",0,1) -> 0 | AZ52: =SUM(B52:AY52) -> 0
A53: Applicable Files | B53: =IF(B14="N/A",0,1) -> 1 | C53: =IF(C14="N/A",0,1) -> 1 | D53: =IF(D14="N/A",0,1) -> 1 | E53: =IF(E14="N/A",0,1) -> 1 | F53: =IF(F14="N/A",0,1) -> 1 | G53: =IF(G14="N/A",0,1) -> 1 | H53: =IF(H14="N/A",0,1) -> 1 | I53: =IF(I14="N/A",0,1) -> 1 | ... AY53: =IF(AY14="N/A",0,1) -> 1 | AZ53: =SUM(B53:AY53) -> 50
A54: Non Compliant | B54: =IF(B14="NO",1,0) -> 0 | C54: =IF(C14="NO",1,0) -> 0 | D54: =IF(D14="NO",1,0) -> 0 | E54: =IF(E14="NO",1,0) -> 0 | F54: =IF(F14="NO",1,0) -> 0 | G54: =IF(G14="NO",1,0) -> 0 | H54: =IF(H14="NO",1,0) -> 0 | I54: =IF(I14="NO",1,0) -> 0 | ... AY54: =IF(AY14="NO",1,0) -> 0 | AZ54: =SUM(B54:AY54) -> 0
A55: =A16 -> Duration or Episodes of Homelessness
A56: Files Reviewed | B56: =IF(B16="",0,1) -> 0 | C56: =IF(C16="",0,1) -> 0 | D56: =IF(D16="",0,1) -> 0 | E56: =IF(E16="",0,1) -> 0 | F56: =IF(F16="",0,1) -> 0 | G56: =IF(G16="",0,1) -> 0 | H56: =IF(H16="",0,1) -> 0 | I56: =IF(I16="",0,1) -> 0 | ... AY56: =IF(AY16="",0,1) -> 0 | AZ56: =SUM(B56:AY56) -> 0
A57: Applicable Files | B57: =IF(B16="N/A",0,1) -> 1 | C57: =IF(C16="N/A",0,1) -> 1 | D57: =IF(D16="N/A",0,1) -> 1 | E57: =IF(E16="N/A",0,1) -> 1 | F57: =IF(F16="N/A",0,1) -> 1 | G57: =IF(G16="N/A",0,1) -> 1 | H57: =IF(H16="N/A",0,1) -> 1 | I57: =IF(I16="N/A",0,1) -> 1 | ... AY57: =IF(AY16="N/A",0,1) -> 1 | AZ57: =SUM(B57:AY57) -> 50
A58: Non Compliant | B58: =IF(B16="NO",1,0) -> 0 | C58: =IF(C16="NO",1,0) -> 0 | D58: =IF(D16="NO",1,0) -> 0 | E58: =IF(E16="NO",1,0) -> 0 | F58: =IF(F16="NO",1,0) -> 0 | G58: =IF(G16="NO",1,0) -> 0 | H58: =IF(H16="NO",1,0) -> 0 | I58: =IF(I16="NO",1,0) -> 0 | ... AY58: =IF(AY16="NO",1,0) -> 0 | AZ58: =SUM(B58:AY58) -> 0
A59: =A18 -> Documentation of Disability
A60: Files Reviewed | B60: =IF(B18="",0,1) -> 0 | C60: =IF(C18="",0,1) -> 0 | D60: =IF(D18="",0,1) -> 0 | E60: =IF(E18="",0,1) -> 0 | F60: =IF(F18="",0,1) -> 0 | G60: =IF(G18="",0,1) -> 0 | H60: =IF(H18="",0,1) -> 0 | I60: =IF(I18="",0,1) -> 0 | ... AY60: =IF(AY18="",0,1) -> 0 | AZ60: =SUM(B60:AY60) -> 0
A61: Applicable Files | B61: =IF(B18="N/A",0,1) -> 1 | C61: =IF(C18="N/A",0,1) -> 1 | D61: =IF(D18="N/A",0,1) -> 1 | E61: =IF(E18="N/A",0,1) -> 1 | F61: =IF(F18="N/A",0,1) -> 1 | G61: =IF(G18="N/A",0,1) -> 1 | H61: =IF(H18="N/A",0,1) -> 1 | I61: =IF(I18="N/A",0,1) -> 1 | ... AY61: =IF(AY18="N/A",0,1) -> 1 | AZ61: =SUM(B61:AY61) -> 50
A62: Non Compliant | B62: =IF(B18="NO",1,0) -> 0 | C62: =IF(C18="NO",1,0) -> 0 | D62: =IF(D18="NO",1,0) -> 0 | E62: =IF(E18="NO",1,0) -> 0 | F62: =IF(F18="NO",1,0) -> 0 | G62: =IF(G18="NO",1,0) -> 0 | H62: =IF(H18="NO",1,0) -> 0 | I62: =IF(I18="NO",1,0) -> 0 | ... AY62: =IF(AY18="NO",1,0) -> 0 | AZ62: =SUM(B62:AY62) -> 0
A63: =A20 -> Annual Service Needs Assessment
A64: Files Reviewed | B64: =IF(B20="",0,1) -> 0 | C64: =IF(C20="",0,1) -> 0 | D64: =IF(D20="",0,1) -> 0 | E64: =IF(E20="",0,1) -> 0 | F64: =IF(F20="",0,1) -> 0 | G64: =IF(G20="",0,1) -> 0 | H64: =IF(H20="",0,1) -> 0 | I64: =IF(I20="",0,1) -> 0 | ... AY64: =IF(AY20="",0,1) -> 0 | AZ64: =SUM(B64:AY64) -> 0
...

Sheet PSHGuide
A2: Permanent Supportive Housing
A5: Documentation of Homelessness
A6: Agencies operating Emergency Solutions Grant (ESG) Street Outreach programs must document that each participant meets HUD’s Category 1: Literally Homeless definition (24 CFR §576.2) at the time services begin.
A7: A person is considered literally homeless if they are:
A8: Living in a place not meant for human habitation (such as streets, vehicles, abandoned buildings, or encampments),
A9: Staying in an emergency shelter, or
A10: Exiting an institution (such as jail, hospital, or treatment facility) where they stayed 90 days or less and were living in a place not meant for human habitation or in an emergency shelter immediately before entering the institution.
A11: Acceptable Documentation
A12: Agencies must maintain records showing the participant met the Category 1 definition at program entry. Acceptable documentation may include:
A13: Written verification from a street outreach worker confirming the person was observed living in a place not meant for human habitation.
A14: HMIS records showing the participant entered the program from a street outreach contact or emergency shelter.
A15: Discharge paperwork or written verification from an institution confirming the length of stay and prior homeless status.
... A386: Maintain all documentation to show compliance with HUD and EPA rules

Sheet PRCExit
A2: PR&C Exit Interview Form (Permanent Supportive Housing)
A4: Date | B4: Partner Agency | F4: Program | I4: Reviewers
A5: =PSHTool!B4 -> 0 | B5: =PSHTool!B2 -> 0 | F5: =PSHTool!B3 -> 0
A6: Client File Review Summary
A7: Standard | G7: Number of Applicable Files | I7: Number Non Compliant | K7: Compliance Percentage
A8: =PSHTool!A14 -> Documentation of Homlessness | G8: =PSHTool!AZ53 -> 50 | I8: =PSHTool!AZ54 -> 0 | K8: =1-(I8/G8) -> 1
A9: =PSHTool!A16 -> Duration or Episodes of Homelessness | G9: =PSHTool!AZ57 -> 50 | I9: =PSHTool!AZ58 -> 0 | K9: =1-(I9/G9) -> 1
A10: =PSHTool!A18 -> Documentation of Disability | G10: =PSHTool!AZ61 -> 50 | I10: =PSHTool!AZ62 -> 0 | K10: =1-(I10/G10) -> 1
A11: =PSHTool!A20 -> Annual Service Needs Assessment | G11: =PSHTool!AZ65 -> 50 | I11: =PSHTool!AZ66 -> 0 | K11: =1-(I11/G11) -> 1
A12: =PSHTool!A22 -> Termination and Appeals Acknowledgement | G12: =PSHTool!AZ69 -> 50 | I12: =PSHTool!AZ70 -> 0 | K12: =1-(I12/G12) -> 1
A13: =PSHTool!A24 -> Termination and Appeals Documentation | G13: =PSHTool!AZ73 -> 50 | I13: =PSHTool!AZ74 -> 0 | K13: =1-(I13/G13) -> 1
A14: =PSHTool!A26 -> Individualized Housing Stability Plans | G14: =PSHTool!AZ77 -> 50 | I14: =PSHTool!AZ78 -> 0 | K14: =1-(I14/G14) -> 1
A15: =PSHTool!A28 -> Case file documentation | G15: =PSHTool!AZ81 -> 50 | I15: =PSHTool!AZ82 -> 0 | K15: =1-(I15/G15) -> 1
A16: =PSHTool!A30 -> Lease | G16: =PSHTool!AZ85 -> 50 | I16: =PSHTool!AZ86 -> 0 | K16: =1-(I16/G16) -> 1
A17: =PSHTool!A32 -> Assessment/Prioritization (HAST/RPT) | G17: =PSHTool!AZ89 -> 50 | I17: =PSHTool!AZ90 -> 0 | K17: =1-(I17/G17) -> 1
A18: =PSHTool!A34 -> Documentation of Income at Entry | G18: =PSHTool!AZ93 -> 50 | I18: =PSHTool!BB93 -> 0 | K18: =1-(I18/G18) -> 1
A19: =PSHTool!A36 -> Documentation of VAWA | G19: =PSHTool!AZ97 -> 50 | I19: =PSHTool!BB97 -> 0 | K19: =1-(I19/G19) -> 1
A20: =PSHTool!A38 -> Habitability Inspection | G20: =PSHTool!AZ101 -> 50 | I20: =PSHTool!BB101 -> 0 | K20: =1-(I20/G20) -> 1
A21: =PSHTool!A40 -> Lead-based Pint Documentation | G21: =PSHTool!AZ105 -> 50 | I21: =PSHTool!BB105 -> 0 | K21: =1-(I21/G21) -> 1
A22: Overall Monitoring Score | G22: =SUM(G8:H17) -> 500 | I22: =SUM(I8:J17) -> 0 | K22: =1-(I22/G22) -> 1
A23: Standards feedback, recommendations and improvement needed
A26: Next Steps (Follow up)
B27: No follow up needed at this time. Final review and determination will be provided on the PR&C report
A28: x | B28: Please provide follow up information for the items listed below
A30: 1
A31: 2
A32: 3
A33: 4
A34: 5
