Workbook

Sheet Tool
A1: Street Outreach Monitoring | B1: 1 | C1: 2 | D1: 3 | E1: =D1+1 -> 4 | F1: =E1+1 -> 5 | G1: =F1+1 -> 6 | H1: =G1+1 -> 7 | I1: =H1+1 -> 8 | J1: =I1+1 -> 9 | K1: =J1+1 -> 10 | L1: =K1+1 -> 11 | ... AY1: =AX1+1 -> 50
A2: Agency Name
A3: Program Name
A4: Monitoring Date
A6: Client ID HMIS
A7: Last Name
A8: Entry Date
A9: Exit Date
A10: Length of Stay-Days | B10: =IF(B9="",$B$4-B8,B9-B8) -> 0 | C10: =IF(C9="",$B$4-C8,C9-C8) -> 0 | D10: =IF(D9="",$B$4-D8,D9-D8) -> 0 | E10: =IF(E9="",$B$4-E8,E9-E8) -> 0 | F10: =IF(F9="",$B$4-F8,F9-F8) -> 0 | G10: =IF(G9="",$B$4-G8,G9-G8) -> 0 | H10: =IF(H9="",$B$4-H8,H9-H8) -> 0 | I10: =IF(I9="",$B$4-I8,I9-I8) -> 0 | ... AY10: =IF(AY9="",$B$4-AY8,AY9-AY8) -> 0
A13: Standard | B13: Determination and Notes | C13: Determination and Notes | D13: Determination and Notes | E13: Determination and Notes | F13: Determination and Notes | G13: Determination and Notes | H13: Determination and Notes | I13: Determination and Notes | J13: Determination and Notes | K13: Determination and Notes | L13: Determination and Notes | M13: Determination and Notes | N13: Determination and Notes | O13: Determination and Notes | P13: Determination and Notes | Q13: Determination and Notes | R13: Determination and Notes | S13: Determination and Notes | T13: Determination and Notes | U13: Determination and Notes | V13: Determination and Notes | W13: Determination and Notes | X13: Determination and Notes | Y13: Determination and Notes | Z13: Determination and Notes | AA13: Determination and Notes | AB13: Determination and Notes | AC13: Determination and Notes | AD13: Determination and Notes | AE13: Determination and Notes | AF13: Determination and Notes | AG13: Determination and Notes | AH13: Determination and Notes | AI13: Determination and Notes | AJ13: Determination and Notes | AK13: Determination and Notes | AL13: Determination and Notes | AM13: Determination and Notes | AN13: Determination and Notes | AO13: Determination and Notes | AP13: Determination and Notes | AQ13: Determination and Notes | AR13: Determination and Notes | AS13: Determination and Notes | AT13: Determination and Notes | AU13: Determination and Notes | AV13: Determination and Notes | AW13: Determination and Notes | AX13: Determination and Notes | AY13: Determination and Notes
A14: =StreetOutGuide!A2 -> Documentation of Homelessness
A16: =StreetOutGuide!A22 -> Evaluation / Needs Assessment
A18: =StreetOutGuide!A41 -> Annual Reevaluation / Needs Assessment
A20: =StreetOutGuide!A68 -> Individualized Housing Stabilization Plan (IHSP/RHT)
A22: =StreetOutGuide!A86 -> Case Notes & Documentation
A24: =StreetOutGuide!A112 -> Direct Client Assistance (DCA) / Rental Assistance Application
A26: =StreetOutGuide!A137 -> DCA / Rental Assistance Approval from CSB
A28: =StreetOutGuide!A154 -> Provision of Eligible Assistance
B31: Yes
B32: No
B33: N/A
A35: =A14 -> Documentation of Homelessness
A36: Files Reviewed | B36: =IF(B14="",0,1) -> 0 | C36: =IF(C14="",0,1) -> 0 | D36: =IF(D14="",0,1) -> 0 | E36: =IF(E14="",0,1) -> 0 | F36: =IF(F14="",0,1) -> 0 | G36: =IF(G14="",0,1) -> 0 | H36: =IF(H14="",0,1) -> 0 | I36: =IF(I14="",0,1) -> 0 | ... AY36: =IF(AY14="",0,1) -> 0 | AZ36: =SUM(B36:AY36) -> 0
A37: Applicable Files | B37: =IF(B14="N/A",0,1) -> 1 | C37: =IF(C14="N/A",0,1) -> 1 | D37: =IF(D14="N/A",0,1) -> 1 | E37: =IF(E14="N/A",0,1) -> 1 | F37: =IF(F14="N/A",0,1) -> 1 | G37: =IF(G14="N/A",0,1) -> 1 | H37: =IF(H14="N/A",0,1) -> 1 | I37: =IF(I14="N/A",0,1) -> 1 | ... AY37: =IF(AY14="N/A",0,1) -> 1 | AZ37: =SUM(B37:AY37) -> 50
A38: Non Compliant | B38: =IF(B14="NO",1,0) -> 0 | C38: =IF(C14="NO",1,0) -> 0 | D38: =IF(D14="NO",1,0) -> 0 | E38: =IF(E14="NO",1,0) -> 0 | F38: =IF(F14="NO",1,0) -> 0 | G38: =IF(G14="NO",1,0) -> 0 | H38: =IF(H14="NO",1,0) -> 0 | I38: =IF(I14="NO",1,0) -> 0 | ... AY38: =IF(AY14="NO",1,0) -> 0 | AZ38: =SUM(B38:AY38) -> 0
A39: =A16 -> Evaluation / Needs Assessment
A40: Files Reviewed | B40: =IF(B16="",0,1) -> 0 | C40: =IF(C16="",0,1) -> 0 | D40: =IF(D16="",0,1) -> 0 | E40: =IF(E16="",0,1) -> 0 | F40: =IF(F16="",0,1) -> 0 | G40: =IF(G16="",0,1) -> 0 | H40: =IF(H16="",0,1) -> 0 | I40: =IF(I16="",0,1) -> 0 | ... AY40: =IF(AY16="",0,1) -> 0 | AZ40: =SUM(B40:AY40) -> 0
A41: Applicable Files | B41: =IF(B16="N/A",0,1) -> 1 | C41: =IF(C16="N/A",0,1) -> 1 | D41: =IF(D16="N/A",0,1) -> 1 | E41: =IF(E16="N/A",0,1) -> 1 | F41: =IF(F16="N/A",0,1) -> 1 | G41: =IF(G16="N/A",0,1) -> 1 | H41: =IF(H16="N/A",0,1) -> 1 | I41: =IF(I16="N/A",0,1) -> 1 | ... AY41: =IF(AY16="N/A",0,1) -> 1 | AZ41: =SUM(B41:AY41) -> 50
A42: Non Compliant | B42: =IF(B16="NO",1,0) -> 0 | C42: =IF(C16="NO",1,0) -> 0 | D42: =IF(D16="NO",1,0) -> 0 | E42: =IF(E16="NO",1,0) -> 0 | F42: =IF(F16="NO",1,0) -> 0 | G42: =IF(G16="NO",1,0) -> 0 | H42: =IF(H16="NO",1,0) -> 0 | I42: =IF(I16="NO",1,0) -> 0 | ... AY42: =IF(AY16="NO",1,0) -> 0 | AZ42: =SUM(B42:AY42) -> 0
A43: =A18 -> Annual Reevaluation / Needs Assessment
A44: Files Reviewed | B44: =IF(B18="",0,1) -> 0 | C44: =IF(C18="",0,1) -> 0 | D44: =IF(D18="",0,1) -> 0 | E44: =IF(E18="",0,1) -> 0 | F44: =IF(F18="",0,1) -> 0 | G44: =IF(G18="",0,1) -> 0 | H44: =IF(H18="",0,1) -> 0 | I44: =IF(I18="",0,1) -> 0 | ... AY44: =IF(AY18="",0,1) -> 0 | AZ44: =SUM(B44:AY44) -> 0
A45: Applicable Files | B45: =IF(B18="N/A",0,1) -> 1 | C45: =IF(C18="N/A",0,1) -> 1 | D45: =IF(D18="N/A",0,1) -> 1 | E45: =IF(E18="N/A",0,1) -> 1 | F45: =IF(F18="N/A",0,1) -> 1 | G45: =IF(G18="N/A",0,1) -> 1 | H45: =IF(H18="N/A",0,1) -> 1 | I45: =IF(I18="N/A",0,1) -> 1 | ... AY45: =IF(AY18="N/A",0,1) -> 1 | AZ45: =SUM(B45:AY45) -> 50
A46: Non Compliant | B46: =IF(B18="NO",1,0) -> 0 | C46: =IF(C18="NO",1,0) -> 0 | D46: =IF(D18="NO",1,0) -> 0 | E46: =IF(E18="NO",1,0) -> 0 | F46: =IF(F18="NO",1,0) -> 0 | G46: =IF(G18="NO",1,0) -> 0 | H46: =IF(H18="NO",1,0) -> 0 | I46: =IF(I18="NO",1,0) -> 0 | ... AY46: =IF(AY18="NO",1,0) -> 0 | AZ46: =SUM(B46:AY46) -> 0
A47: =A20 -> Individualized Housing Stabilization Plan (IHSP/RHT)
A48: Files Reviewed | B48: =IF(B20="",0,1) -> 0 | C48: =IF(C20="",0,1) -> 0 | D48: =IF(D20="",0,1) -> 0 | E48: =IF(E20="",0,1) -> 0 | F48: =IF(F20="",0,1) -> 0 | G48: =IF(G20="",0,1) -> 0 | H48: =IF(H20="",0,1) -> 0 | I48: =IF(I20="",0,1) -> 0 | ... AY48: =IF(AY20="",0,1) -> 0 | AZ48: =SUM(B48:AY48) -> 0
A49: Applicable Files | B49: =IF(B20="N/A",0,1) -> 1 | C49: =IF(C20="N/A",0,1) -> 1 | D49: =IF(D20="N/A",0,1) -> 1 | E49: =IF(E20="N/A",0,1) -> 1 | F49: =IF(F20="N/A",0,1) -> 1 | G49: =IF(G20="N/A",0,1) -> 1 | H49: =IF(H20="N/A",0,1) -> 1 | I49: =IF(I20="N/A",0,1) -> 1 | ... AY49: =IF(AY20="N/A",0,1) -> 1 | AZ49: =SUM(B49:AY49) -> 50
A50: Non Compliant | B50: =IF(B20="NO",1,0) -> 0 | C50: =IF(C20="NO",1,0) -> 0 | D50: =IF(D20="NO",1,0) -> 0 | E50: =IF(E20="NO",1,0) -> 0 | F50: =IF(F20="NO",1,0) -> 0 | G50: =IF(G20="NO",1,0) -> 0 | H50: =IF(H20="NO",1,0) -> 0 | I50: =IF(I20="NO",1,0) -> 0 | ... AY50: =IF(AY20="NO",1,0) -> 0 | AZ50: =SUM(B50:AY50) -> 0
A51: =A22 -> Case Notes & Documentation
A52: Files Reviewed | B52: =IF(B22="",0,1) -> 0 | C52: =IF(C22="",0,1) -> 0 | D52: =IF(D22="",0,1) -> 0 | E52: =IF(E22="",0,1) -> 0 | F52: =IF(F22="",0,1) -> 0 | G52: =IF(G22="",0,1) -> 0 | H52: =IF(H22="",0,1) -> 0 | I52: =IF(I22="",0,1) -> 0 | ... AY52: =IF(AY22="",0,1) -> 0 | AZ52: =SUM(B52:AY52) -> 0
A53: Applicable Files | B53: =IF(B22="N/A",0,1) -> 1 | C53: =IF(C22="N/A",0,1) -> 1 | D53: =IF(D22="N/A",0,1) -> 1 | E53: =IF(E22="N/A",0,1) -> 1 | F53: =IF(F22="N/A",0,1) -> 1 | G53: =IF(G22="N/A",0,1) -> 1 | H53: =IF(H22="N/A",0,1) -> 1 | I53: =IF(I22="N/A",0,1) -> 1 | ... AY53: =IF(AY22="N/A",0,1) -> 1 | AZ53: =SUM(B53:AY53) -> 50
...

Sheet StreetOutGuide
A1: Street Outreach
A2: Documentation of Homelessness
A3: Documentation of Homelessness – ESG Street Outreach Programs
A4: Agencies operating Emergency Solutions Grant (ESG) Street Outreach programs must document that each participant meets HUD’s Category 1: Literally Homeless definition (24 CFR §576.2) at the time services begin.
A5: A person is considered literally homeless if they are:
A6: Living in a place not meant for human habitation (such as streets, vehicles, abandoned buildings, or encampments),
A7: Staying in an emergency shelter, or
A8: Exiting an institution (such as jail, hospital, or treatment facility) where they stayed 90 days or less and were living in a place not meant for human habitation or in an emergency shelter immediately before entering the institution.
A9: Acceptable Documentation
A10: Agencies must maintain records showing the participant met the Category 1 definition at program entry. Acceptable documentation may include:
A11: Written verification from a street outreach worker confirming the person was observed living in a place not meant for human habitation.
A12: HMIS records showing the participant entered the program from a street outreach contact or emergency shelter.
... A178: Proper documentation ensures that financial assistance is eligible, reasonable, and used to support long-term housing stability.

Sheet PRCExit
A2: PR&C Exit Interview Form (Emergency Shelter)
A4: Date | B4: Partner Agency | F4: Program | I4: Reviewers
A5: =Tool!B4 -> 0 | B5: =Tool!B2 -> 0 | F5: =Tool!B3 -> 0
A6: Client File Review Summary
A7: Standard | G7: Number of Applicable Files | I7: Number Non Compliant | K7: Compliance Percentage
A8: =Tool!A35 -> Documentation of Homelessness | G8: =Tool!AZ37 -> 50 | I8: =Tool!AZ38 -> 0 | K8: =1-(I8/G8) -> 1
A9: =Tool!A39 -> Evaluation / Needs Assessment | G9: =Tool!AZ41 -> 50 | I9: =Tool!AZ42 -> 0 | K9: =1-(I9/G9) -> 1
A10: =Tool!A43 -> Annual Reevaluation / Needs Assessment | G10: =Tool!AZ45 -> 50 | I10: =Tool!AZ46 -> 0 | K10: =1-(I10/G10) -> 1
A11: =Tool!A47 -> Individualized Housing Stabilization Plan (IHSP/RHT) | G11: =Tool!AZ49 -> 50 | I11: =Tool!AZ50 -> 0 | K11: =1-(I11/G11) -> 1
A12: =Tool!A51 -> Case Notes & Documentation | G12: =Tool!AZ53 -> 50 | I12: =Tool!AZ54 -> 0 | K12: =1-(I12/G12) -> 1
A13: =Tool!A55 -> Direct Client Assistance (DCA) / Rental Assistance Application | G13: =Tool!AZ57 -> 50 | I13: =Tool!AZ58 -> 0 | K13: =1-(I13/G13) -> 1
A14: =Tool!A59 -> DCA / Rental Assistance Approval from CSB | G14: =Tool!AZ61 -> 50 | I14: =Tool!AZ62 -> 0 | K14: =1-(I14/G14) -> 1
A15: =Tool!A63 -> Provision of Eligible Assistance | G15: =Tool!AZ65 -> 50 | I15: =Tool!AZ66 -> 0 | K15: =1-(I15/G15) -> 1
A16: Overall PR&C Score | G16: =SUM(G8:H15) -> 400 | I16: =SUM(I8:J15) -> 0 | K16: =1-(I16/G16) -> 1
A17: Standards feedback, recommendations and improvement needed
A20: Next Steps (Follow up)
B21: No follow up needed at this time. Final review and determination will be provided on the PR&C report
A22: x | B22: Please provide follow up information for the items listed below
A24: 1
A25: 2
A26: 3
A27: 4
A28: 5
