Workbook

Sheet HPTool
A1: Homelessness Prevention Monitoring Tool | B1: 1 | C1: =2 -> 2 | D1: =C1+1 -> 3 | E1: =D1+1 -> 4 | F1: =E1+1 -> 5 | G1: =F1+1 -> 6 | H1: =G1+1 -> 7 | I1: =H1+1 -> 8 | J1: =I1+1 -> 9 | K1: =J1+1 -> 10 | ... AY1: =AX1+1 -> 50
A2: Agency Name
A3: Program Name
A4: Monitoring Date
A6: Client ID HMIS
A7: Last Name
A8: Entry Date
A9: Exit Date
A10: Length of Stay-Days | B10: =IF(B9="",$B$4-B8,B9-B8) -> 0 | C10: =IF(C9="",$B$4-C8,C9-C8) -> 0 | D10: =IF(D9="",$B$4-D8,D9-D8) -> 0 | E10: =IF(E9="",$B$4-E8,E9-E8) -> 0 | F10: =IF(F9="",$B$4-F8,F9-F8) -> 0 | G10: =IF(G9="",$B$4-G8,G9-G8) -> 0 | H10: =IF(H9="",$B$4-H8,H9-H8) -> 0 | I10: =IF(I9="",$B$4-I8,I9-I8) -> 0 | ... AY10: =IF(AY9="",$B$4-AY8,AY9-AY8) -> 0
A13: Standard | B13: Determination and Notes | C13: Determination and Notes | D13: Determination and Notes | E13: Determination and Notes | F13: Determination and Notes | G13: Determination and Notes | H13: Determination and Notes | I13: Determination and Notes | J13: Determination and Notes | K13: Determination and Notes | L13: Determination and Notes | M13: Determination and Notes | N13: Determination and Notes | O13: Determination and Notes | P13: Determination and Notes | Q13: Determination and Notes | R13: Determination and Notes | S13: Determination and Notes | T13: Determination and Notes | U13: Determination and Notes | V13: Determination and Notes | W13: Determination and Notes | X13: Determination and Notes | Y13: Determination and Notes | Z13: Determination and Notes | AA13: Determination and Notes | AB13: Determination and Notes | AC13: Determination and Notes | AD13: Determination and Notes | AE13: Determination and Notes | AF13: Determination and Notes | AG13: Determination and Notes | AH13: Determination and Notes | AI13: Determination and Notes | AJ13: Determination and Notes | AK13: Determination and Notes | AL13: Determination and Notes | AM13: Determination and Notes | AN13: Determination and Notes | AO13: Determination and Notes | AP13: Determination and Notes | AQ13: Determination and Notes | AR13: Determination and Notes | AS13: Determination and Notes | AT13: Determination and Notes | AU13: Determination and Notes | AV13: Determination and Notes | AW13: Determination and Notes | AX13: Determination and Notes | AY13: Determination and Notes
A14: Documentation of Risk of Homelessness
A16: Assessment (Initial)
A18: Annual Reassessment
A20: Termination and Appeals Acknowledgement
A22: Termination and Appeals Documentation
A24: Individualized Housing Stability Plans
A26: Case Notes & Documentation
A28: Lease
A30: Documentation of Income at Entry
A32: Documentation of Habitability Inspection
A34: Lead-Based Paint (LBP) Requirements
A36: Provision of Eligible Assistance
A38: DCA/Rental Assistance Approval from CSB
B44: Yes
B45: No
B46: N/A
A48: =A14 -> Documentation of Risk of Homelessness
A49: Files Reviewed | B49: =IF(B14="",0,1) -> 0 | C49: =IF(C14="",0,1) -> 0 | D49: =IF(D14="",0,1) -> 0 | E49: =IF(E14="",0,1) -> 0 | F49: =IF(F14="",0,1) -> 0 | G49: =IF(G14="",0,1) -> 0 | H49: =IF(H14="",0,1) -> 0 | I49: =IF(I14="",0,1) -> 0 | ... AY49: =IF(AY14="",0,1) -> 0 | AZ49: =SUM(B49:AY49) -> 0
A50: Applicable Files | B50: =IF(B14="N/A",0,1) -> 1 | C50: =IF(C14="N/A",0,1) -> 1 | D50: =IF(D14="N/A",0,1) -> 1 | E50: =IF(E14="N/A",0,1) -> 1 | F50: =IF(F14="N/A",0,1) -> 1 | G50: =IF(G14="N/A",0,1) -> 1 | H50: =IF(H14="N/A",0,1) -> 1 | I50: =IF(I14="N/A",0,1) -> 1 | ... AY50: =IF(AY14="N/A",0,1) -> 1 | AZ50: =SUM(B50:AY50) -> 50
A51: Non Compliant | B51: =IF(B14="NO",1,0) -> 0 | C51: =IF(C14="NO",1,0) -> 0 | D51: =IF(D14="NO",1,0) -> 0 | E51: =IF(E14="NO",1,0) -> 0 | F51: =IF(F14="NO",1,0) -> 0 | G51: =IF(G14="NO",1,0) -> 0 | H51: =IF(H14="NO",1,0) -> 0 | I51: =IF(I14="NO",1,0) -> 0 | ... AY51: =IF(AY14="NO",1,0) -> 0 | AZ51: =SUM(B51:AY51) -> 0
A52: =A16 -> Assessment (Initial)
A53: Files Reviewed | B53: =IF(B16="",0,1) -> 0 | C53: =IF(C16="",0,1) -> 0 | D53: =IF(D16="",0,1) -> 0 | E53: =IF(E16="",0,1) -> 0 | F53: =IF(F16="",0,1) -> 0 | G53: =IF(G16="",0,1) -> 0 | H53: =IF(H16="",0,1) -> 0 | I53: =IF(I16="",0,1) -> 0 | ... AY53: =IF(AY16="",0,1) -> 0 | AZ53: =SUM(B53:AY53) -> 0
A54: Applicable Files | B54: =IF(B16="N/A",0,1) -> 1 | C54: =IF(C16="N/A",0,1) -> 1 | D54: =IF(D16="N/A",0,1) -> 1 | E54: =IF(E16="N/A",0,1) -> 1 | F54: =IF(F16="N/A",0,1) -> 1 | G54: =IF(G16="N/A",0,1) -> 1 | H54: =IF(H16="N/A",0,1) -> 1 | I54: =IF(I16="N/A",0,1) -> 1 | ... AY54: =IF(AY16="N/A",0,1) -> 1 | AZ54: =SUM(B54:AY54) -> 50
A55: Non Compliant | B55: =IF(B16="NO",1,0) -> 0 | C55: =IF(C16="NO",1,0) -> 0 | D55: =IF(D16="NO",1,0) -> 0 | E55: =IF(E16="NO",1,0) -> 0 | F55: =IF(F16="NO",1,0) -> 0 | G55: =IF(G16="NO",1,0) -> 0 | H55: =IF(H16="NO",1,0) -> 0 | I55: =IF(I16="NO",1,0) -> 0 | ... AY55: =IF(AY16="NO",1,0) -> 0 | AZ55: =SUM(B55:AY55) -> 0
A56: =A18 -> Annual Reassessment
A57: Files Reviewed | B57: =IF(B18="",0,1) -> 0 | C57: =IF(C18="",0,1) -> 0 | D57: =IF(D18="",0,1) -> 0 | E57: =IF(E18="",0,1) -> 0 | F57: =IF(F18="",0,1) -> 0 | G57: =IF(G18="",0,1) -> 0 | H57: =IF(H18="",0,1) -> 0 | I57: =IF(I18="",0,1) -> 0 | ... AY57: =IF(AY18="",0,1) -> 0 | AZ57: =SUM(B57:AY57) -> 0
A58: Applicable Files | B58: =IF(B18="N/A",0,1) -> 1 | C58: =IF(C18="N/A",0,1) -> 1 | D58: =IF(D18="N/A",0,1) -> 1 | E58: =IF(E18="N/A",0,1) -> 1 | F58: =IF(F18="N/A",0,1) -> 1 | G58: =IF(G18="N/A",0,1) -> 1 | H58: =IF(H18="N/A",0,1) -> 1 | I58: =IF(I18="N/A",0,1) -> 1 | ... AY58: =IF(AY18="N/A",0,1) -> 1 | AZ58: =SUM(B58:AY58) -> 50
A59: Non Compliant | B59: =IF(B18="NO",1,0) -> 0 | C59: =IF(C18="NO",1,0) -> 0 | D59: =IF(D18="NO",1,0) -> 0 | E59: =IF(E18="NO",1,0) -> 0 | F59: =IF(F18="NO",1,0) -> 0 | G59: =IF(G18="NO",1,0) -> 0 | H59: =IF(H18="NO",1,0) -> 0 | I59: =IF(I18="NO",1,0) -> 0 | ... AY59: =IF(AY18="NO",1,0) -> 0 | AZ59: =SUM(B59:AY59) -> 0
A60: =A20 -> Termination and Appeals Acknowledgement
A61: Files Reviewed | B61: =IF(B20="",0,1) -> 0 | C61: =IF(C20="",0,1) -> 0 | D61: =IF(D22="",0,1) -> 0 | E61: =IF(E22="",0,1) -> 0 | F61: =IF(F22="",0,1) -> 0 | G61: =IF(G22="",0,1) -> 0 | H61: =IF(H22="",0,1) -> 0 | I61: =IF(I22="",0,1) -> 0 | J61: =IF(J22="",0,1) -> 0 | K61: =IF(K22="",0,1) -> 0 | ... AY61: =IF(AY22="",0,1) -> 0 | AZ61: =SUM(B61:AY61) -> 0
...

Sheet HPGuide
A1: Housing Prevention Tool
A4: Documentation of Risk of Homelessness
A5: To qualify as at risk of homelessness, a household must meet HUD’s definition at program entry (24 CFR §576.2). The agency must document that the household lacks the income, resources, or support needed to keep their housing and is likely to become homeless without assistance.
A6: Required Conditions
A7: The household must meet both of the following:
A8: 1. Income Requirement
A9: Household income is below 30% of Area Median Income (AMI)
A10: 2. Insufficient Resources or Support
A11: The household lacks the financial means or support network to remain in housing
A12: In addition, the household must meet at least one of the following conditions:
A13: Has moved two or more times in the past 60 days due to economic reasons
A14: Is living with others (doubling up) due to financial hardship
... A340: Maintaining this documentation helps demonstrate that financial assistance was properly reviewed and approved before funds were issued.

Sheet PRCExit
A2: PR&C Exit Interview Form (Homelessness Prevention)
A4: Date | B4: Partner Agency | F4: Program | I4: Reviewers
A5: =HPTool!B4 -> 0 | B5: =HPTool!B2 -> 0 | F5: =HPTool!B3 -> 0
A6: Client File Review Summary
A7: Standard | G7: Number of Applicable Files | I7: Number Non Compliant | K7: Compliance Percentage
A8: =HPTool!A14 -> Documentation of Risk of Homelessness | G8: =HPTool!AZ50 -> 50 | I8: =HPTool!AZ51 -> 0 | K8: =1-(I8/G8) -> 1
A9: =HPTool!A16 -> Assessment (Initial) | G9: =HPTool!AZ54 -> 50 | I9: =HPTool!AZ55 -> 0 | K9: =1-(I9/G9) -> 1
A10: =HPTool!A18 -> Annual Reassessment | G10: =HPTool!AZ58 -> 50 | I10: =HPTool!AZ59 -> 0 | K10: =1-(I10/G10) -> 1
A11: =HPTool!A20 -> Termination and Appeals Acknowledgement | G11: =HPTool!AZ62 -> 50 | I11: =HPTool!AZ63 -> 0 | K11: =1-(I11/G11) -> 1
A12: =HPTool!A22 -> Termination and Appeals Documentation | G12: =HPTool!AZ66 -> 50 | I12: =HPTool!AZ67 -> 0 | K12: =1-(I12/G12) -> 1
A13: =HPTool!A24 -> Individualized Housing Stability Plans | G13: =HPTool!AZ70 -> 50 | I13: =HPTool!AZ71 -> 0 | K13: =1-(I13/G13) -> 1
A14: =HPTool!A26 -> Case Notes & Documentation | G14: =HPTool!AZ74 -> 50 | I14: =HPTool!AZ75 -> 0 | K14: =1-(I14/G14) -> 1
A15: =HPTool!A28 -> Lease | G15: =HPTool!AZ78 -> 50 | I15: =HPTool!AZ79 -> 0 | K15: =1-(I15/G15) -> 1
A16: =HPTool!A30 -> Documentation of Income at Entry | G16: =HPTool!AZ82 -> 50 | I16: =HPTool!AZ83 -> 0 | K16: =1-(I16/G16) -> 1
A17: =HPTool!A32 -> Documentation of Habitability Inspection | G17: =HPTool!AZ86 -> 50 | I17: =HPTool!AZ87 -> 0 | K17: =1-(I17/G17) -> 1
A18: =HPTool!A34 -> Lead-Based Paint (LBP) Requirements | G18: =HPTool!AZ90 -> 50 | I18: =HPTool!AZ91 -> 0 | K18: =1-(I18/G18) -> 1
A19: =HPTool!A36 -> Provision of Eligible Assistance | G19: =HPTool!AZ94 -> 50 | I19: =HPTool!AZ95 -> 0 | K19: =1-(I19/G19) -> 1
A20: =HPTool!A96 -> DCA/Rental Assistance Approval from CSB | G20: =HPTool!AZ98 -> 50 | I20: =HPTool!BB99 -> 0 | K20: =1-(I20/G20) -> 1
A21: Standards feedback, recommendations and improvement needed
A24: Next Steps (Follow up)
B25: No follow up needed at this time. Final review and determination will be provided on the PR&C report
A26: x | B26: Please provide follow up information for the items listed below
A28: 1
A29: 2
A30: 3
A31: 4
A32: 5
