Workbook

Sheet ShelterTool
A1: PR&C Review Sheet Emergency Shelter | B1: 1 | C1: 2 | D1: =C1+1 -> 3 | E1: =D1+1 -> 4 | F1: =E1+1 -> 5 | G1: =F1+1 -> 6 | H1: =G1+1 -> 7 | I1: =H1+1 -> 8 | J1: =I1+1 -> 9 | K1: =J1+1 -> 10 | ... AY1: =AX1+1 -> 50
A2: Agency Name
A3: Program Name
A4: Monitoring Date
A6: Client ID HMIS
A7: Last Name
A8: Entry Date
A9: Exit Date
A10: Length of Stay-Days | B10: =IF(B9="",$B$4-B8,B9-B8) -> 0 | C10: =IF(C9="",$B$4-C8,C9-C8) -> 0 | D10: =IF(D9="",$B$4-D8,D9-D8) -> 0 | E10: =IF(E9="",$B$4-E8,E9-E8) -> 0 | F10: =IF(F9="",$B$4-F8,F9-F8) -> 0 | G10: =IF(G9="",$B$4-G8,G9-G8) -> 0 | H10: =IF(H9="",$B$4-H8,H9-H8) -> 0 | I10: =IF(I9="",$B$4-I8,I9-I8) -> 0 | ... AY10: =IF(AY9="",$B$4-AY8,AY9-AY8) -> 0
A12: Standard | B12: Determination and Notes | C12: Determination and Notes | D12: Determination and Notes | E12: Determination and Notes | F12: Determination and Notes | G12: Determination and Notes | H12: Determination and Notes | I12: Determination and Notes | J12: Determination and Notes | K12: Determination and Notes | L12: Determination and Notes | M12: Determination and Notes | N12: Determination and Notes | O12: Determination and Notes | P12: Determination and Notes | Q12: Determination and Notes | R12: Determination and Notes | S12: Determination and Notes | T12: Determination and Notes | U12: Determination and Notes | V12: Determination and Notes | W12: Determination and Notes | X12: Determination and Notes | Y12: Determination and Notes | Z12: Determination and Notes | AA12: Determination and Notes | AB12: Determination and Notes | AC12: Determination and Notes | AD12: Determination and Notes | AE12: Determination and Notes | AF12: Determination and Notes | AG12: Determination and Notes | AH12: Determination and Notes | AI12: Determination and Notes | AJ12: Determination and Notes | AK12: Determination and Notes | AL12: Determination and Notes | AM12: Determination and Notes | AN12: Determination and Notes | AO12: Determination and Notes | AP12: Determination and Notes | AQ12: Determination and Notes | AR12: Determination and Notes | AS12: Determination and Notes | AT12: Determination and Notes | AU12: Determination and Notes | AV12: Determination and Notes | AW12: Determination and Notes | AX12: Determination and Notes | AY12: Determination and Notes
A13: Documentation of Homlessness
A15: Termination and Appeals Acknowledgement
A17: Termination and Appeals Documentation
A19: Individualized Housing Stability Plans
A21: Case file documentation
A23: Assessment/Prioritization (HAST/RPT)
B28: Yes
B29: No
B30: N/A
A32: E2 Housing First
A33: E3 Homeless Documentation
A34: Files Reviewed | B34: =IF(B13="",0,1) -> 0 | C34: =IF(C13="",0,1) -> 0 | D34: =IF(D13="",0,1) -> 0 | E34: =IF(E13="",0,1) -> 0 | F34: =IF(F13="",0,1) -> 0 | G34: =IF(G13="",0,1) -> 0 | H34: =IF(H13="",0,1) -> 0 | I34: =IF(I13="",0,1) -> 0 | ... AY34: =IF(AY13="",0,1) -> 0 | AZ34: =SUM(B34:AY34) -> 0
A35: Applicable Files | B35: =IF(B13="N/A",0,1) -> 1 | C35: =IF(C13="N/A",0,1) -> 1 | D35: =IF(D13="N/A",0,1) -> 1 | E35: =IF(E13="N/A",0,1) -> 1 | F35: =IF(F13="N/A",0,1) -> 1 | G35: =IF(G13="N/A",0,1) -> 1 | H35: =IF(H13="N/A",0,1) -> 1 | I35: =IF(I13="N/A",0,1) -> 1 | ... AY35: =IF(AY13="N/A",0,1) -> 1 | AZ35: =SUM(B35:AY35) -> 50
A36: Non Compliant | B36: =IF(B13="NO",1,0) -> 0 | C36: =IF(C13="NO",1,0) -> 0 | D36: =IF(D13="NO",1,0) -> 0 | E36: =IF(E13="NO",1,0) -> 0 | F36: =IF(F13="NO",1,0) -> 0 | G36: =IF(G13="NO",1,0) -> 0 | H36: =IF(H13="NO",1,0) -> 0 | I36: =IF(I13="NO",1,0) -> 0 | ... AY36: =IF(AY13="NO",1,0) -> 0 | AZ36: =SUM(B36:AY36) -> 0
A37: F3 Termination Acknowledgement
A38: Files Reviewed | B38: =IF(B15="",0,1) -> 0 | C38: =IF(C15="",0,1) -> 0 | D38: =IF(D17="",0,1) -> 0 | E38: =IF(E17="",0,1) -> 0 | F38: =IF(F17="",0,1) -> 0 | G38: =IF(G17="",0,1) -> 0 | H38: =IF(H17="",0,1) -> 0 | I38: =IF(I17="",0,1) -> 0 | J38: =IF(J17="",0,1) -> 0 | K38: =IF(K17="",0,1) -> 0 | ... AY38: =IF(AY17="",0,1) -> 0 | AZ38: =SUM(B38:AY38) -> 0
A39: Applicable Files | B39: =IF(B15="N/A",0,1) -> 1 | C39: =IF(C15="N/A",0,1) -> 1 | D39: =IF(D15="N/A",0,1) -> 1 | E39: =IF(E15="N/A",0,1) -> 1 | F39: =IF(F15="N/A",0,1) -> 1 | G39: =IF(G15="N/A",0,1) -> 1 | H39: =IF(H15="N/A",0,1) -> 1 | I39: =IF(I15="N/A",0,1) -> 1 | ... AY39: =IF(AY15="N/A",0,1) -> 1 | AZ39: =SUM(B39:AY39) -> 50
A40: Non Compliant | B40: =IF(B15="NO",1,0) -> 0 | C40: =IF(C15="NO",1,0) -> 0 | D40: =IF(D15="NO",1,0) -> 0 | E40: =IF(E15="NO",1,0) -> 0 | F40: =IF(F15="NO",1,0) -> 0 | G40: =IF(G15="NO",1,0) -> 0 | H40: =IF(H15="NO",1,0) -> 0 | I40: =IF(I15="NO",1,0) -> 0 | ... AY40: =IF(AY15="NO",1,0) -> 0 | AZ40: =SUM(B40:AY40) -> 0
A41: F4 Termination and Appeals Documentation
A42: Files Reviewed | B42: =IF(B17="",0,1) -> 0 | C42: =IF(C17="",0,1) -> 0 | D42: =IF(D17="",0,1) -> 0 | E42: =IF(E17="",0,1) -> 0 | F42: =IF(F17="",0,1) -> 0 | G42: =IF(G17="",0,1) -> 0 | H42: =IF(H17="",0,1) -> 0 | I42: =IF(I17="",0,1) -> 0 | ... AY42: =IF(AY17="",0,1) -> 0 | AZ42: =SUM(B42:AY42) -> 0
A43: Applicable Files | B43: =IF(B17="N/A",0,1) -> 1 | C43: =IF(C17="N/A",0,1) -> 1 | D43: =IF(D17="N/A",0,1) -> 1 | E43: =IF(E17="N/A",0,1) -> 1 | F43: =IF(F17="N/A",0,1) -> 1 | G43: =IF(G17="N/A",0,1) -> 1 | H43: =IF(H17="N/A",0,1) -> 1 | I43: =IF(I17="N/A",0,1) -> 1 | ... AY43: =IF(AY17="N/A",0,1) -> 1 | AZ43: =SUM(B43:AY43) -> 50
A44: Non Compliant | B44: =IF(B17="NO",1,0) -> 0 | C44: =IF(C17="NO",1,0) -> 0 | D44: =IF(D17="NO",1,0) -> 0 | E44: =IF(E17="NO",1,0) -> 0 | F44: =IF(F17="NO",1,0) -> 0 | G44: =IF(G17="NO",1,0) -> 0 | H44: =IF(H17="NO",1,0) -> 0 | I44: =IF(I17="NO",1,0) -> 0 | ... AY44: =IF(AY17="NO",1,0) -> 0 | AZ44: =SUM(B44:AY44) -> 0
A45: G1 Individulaized Housing Stability Plans
A46: Files Reviewed | B46: =IF(B19="",0,1) -> 0 | C46: =IF(C19="",0,1) -> 0 | D46: =IF(D19="",0,1) -> 0 | E46: =IF(E19="",0,1) -> 0 | F46: =IF(F19="",0,1) -> 0 | G46: =IF(G19="",0,1) -> 0 | H46: =IF(H19="",0,1) -> 0 | I46: =IF(I19="",0,1) -> 0 | ... AY46: =IF(AY19="",0,1) -> 0 | AZ46: =SUM(B46:AY46) -> 0
A47: Applicable Files | B47: =IF(B19="N/A",0,1) -> 1 | C47: =IF(C19="N/A",0,1) -> 1 | D47: =IF(D19="N/A",0,1) -> 1 | E47: =IF(E19="N/A",0,1) -> 1 | F47: =IF(F19="N/A",0,1) -> 1 | G47: =IF(G19="N/A",0,1) -> 1 | H47: =IF(H19="N/A",0,1) -> 1 | I47: =IF(I19="N/A",0,1) -> 1 | ... AY47: =IF(AY19="N/A",0,1) -> 1 | AZ47: =SUM(B47:AY47) -> 50
A48: Non Compliant | B48: =IF(B19="NO",1,0) -> 0 | C48: =IF(C19="NO",1,0) -> 0 | D48: =IF(D19="NO",1,0) -> 0 | E48: =IF(E19="NO",1,0) -> 0 | F48: =IF(F19="NO",1,0) -> 0 | G48: =IF(G19="NO",1,0) -> 0 | H48: =IF(H19="NO",1,0) -> 0 | I48: =IF(I19="NO",1,0) -> 0 | ... AY48: =IF(AY19="NO",1,0) -> 0 | AZ48: =SUM(B48:AY48) -> 0
A49: G2 Case File Documentation
A50: Files Reviewed | B50: =IF(B21="",0,1) -> 0 | C50: =IF(C21="",0,1) -> 0 | D50: =IF(D21="",0,1) -> 0 | E50: =IF(E21="",0,1) -> 0 | F50: =IF(F21="",0,1) -> 0 | G50: =IF(G21="",0,1) -> 0 | H50: =IF(H21="",0,1) -> 0 | I50: =IF(I21="",0,1) -> 0 | ... AY50: =IF(AY21="",0,1) -> 0 | AZ50: =SUM(B50:AY50) -> 0
A51: Applicable Files | B51: =IF(B21="N/A",0,1) -> 1 | C51: =IF(C21="N/A",0,1) -> 1 | D51: =IF(D21="N/A",0,1) -> 1 | E51: =IF(E21="N/A",0,1) -> 1 | F51: =IF(F21="N/A",0,1) -> 1 | G51: =IF(G21="N/A",0,1) -> 1 | H51: =IF(H21="N/A",0,1) -> 1 | I51: =IF(I21="N/A",0,1) -> 1 | ... AY51: =IF(AY21="N/A",0,1) -> 1 | AZ51: =SUM(B51:AY51) -> 50
A52: Non Compliant | B52: =IF(B21="NO",1,0) -> 0 | C52: =IF(C21="NO",1,0) -> 0 | D52: =IF(D21="NO",1,0) -> 0 | E52: =IF(E21="NO",1,0) -> 0 | F52: =IF(F21="NO",1,0) -> 0 | G52: =IF(G21="NO",1,0) -> 0 | H52: =IF(H21="NO",1,0) -> 0 | I52: =IF(I21="NO",1,0) -> 0 | ... AY52: =IF(AY21="NO",1,0) -> 0 | AZ52: =SUM(B52:AY52) -> 0
...

Sheet ES Guide
A1: Emergency Shelter
A2: Documentation of Homelessness
A3: Agencies operating Emergency Solutions Grant (ESG) Street Outreach programs must document that each participant meets HUD’s Category 1: Literally Homeless definition (24 CFR §576.2) at the time services begin.
A4: A person is considered literally homeless if they are:
A5: Living in a place not meant for human habitation (such as streets, vehicles, abandoned buildings, or encampments),
A6: Staying in an emergency shelter, or
A7: Exiting an institution (such as jail, hospital, or treatment facility) where they stayed 90 days or less and were living in a place not meant for human habitation or in an emergency shelter immediately before entering the institution.
A8: Acceptable Documentation
A9: Agencies must maintain records showing the participant met the Category 1 definition at program entry. Acceptable documentation may include:
A10: Written verification from a street outreach worker confirming the person was observed living in a place not meant for human habitation.
A11: HMIS records showing the participant entered the program from a street outreach contact or emergency shelter.
A12: Discharge paperwork or written verification from an institution confirming the length of stay and prior homeless status.
... A157: Proper assessment and prioritization help ensure that assistance is targeted, equitable, and aligned with HUD expectations for Coordinated Entry and housing placement.

Sheet PRCExit
A2: PR&C Exit Interview Form (Emergency Shelter)
A4: Date | B4: Partner Agency | F4: Program | I4: Reviewers
A5: =ShelterTool!B4 -> 0 | B5: =ShelterTool!B2 -> 0 | F5: =ShelterTool!B3 -> 0
A6: Client File Review Summary
A7: Standard | G7: Number of Applicable Files | I7: Number Non Compliant | K7: Compliance Percentage
A8: =ShelterTool!A13 -> Documentation of Homlessness | G8: =ShelterTool!AZ35 -> 50 | I8: =ShelterTool!AZ36 -> 0 | K8: =1-(I8/G8) -> 1
A9: =ShelterTool!A15 -> Termination and Appeals Acknowledgement | G9: =ShelterTool!AZ39 -> 50 | I9: =ShelterTool!AZ40 -> 0 | K9: =1-(I9/G9) -> 1
A10: =ShelterTool!A17 -> Termination and Appeals Documentation | G10: =ShelterTool!AZ43 -> 50 | I10: =ShelterTool!AZ44 -> 0 | K10: =1-(I10/G10) -> 1
A11: =ShelterTool!A19 -> Individualized Housing Stability Plans | G11: =ShelterTool!AZ47 -> 50 | I11: =ShelterTool!AZ48 -> 0 | K11: =1-(I11/G11) -> 1
A12: =ShelterTool!A21 -> Case file documentation | G12: =ShelterTool!AZ51 -> 50 | I12: =ShelterTool!AZ52 -> 0 | K12: =1-(I12/G12) -> 1
A13: =ShelterTool!A23 -> Assessment/Prioritization (HAST/RPT) | G13: =ShelterTool!AZ55 -> 50 | I13: =ShelterTool!AZ56 -> 0 | K13: =1-(I13/G13) -> 1
A14: Overall Monitoring Score | G14: =SUM(G8:H13) -> 300 | I14: =SUM(I8:J13) -> 0 | K14: =1-(I14/G14) -> 1
A15: Standards feedback, recommendations and improvement needed
A18: Next Steps (Follow up)
B19: No follow up needed at this time. Final review and determination will be provided on the PR&C report
A20: x | B20: Please provide follow up information for the items listed below
A22: 1
A23: 2
A24: 3
A25: 4
A26: 5
