Workbook

Sheet DIVTool
A1: Diversion Monitoring Tool | B1: 1 | C1: =2 -> 2 | D1: =C1+1 -> 3 | E1: =D1+1 -> 4 | F1: =E1+1 -> 5 | G1: =F1+1 -> 6 | H1: =G1+1 -> 7 | I1: =H1+1 -> 8 | J1: =I1+1 -> 9 | K1: =J1+1 -> 10 | ... AY1: =AX1+1 -> 50
A2: Agency Name
A3: Program Name
A4: Monitoring Date
A6: Client ID HMIS
A7: Last Name
A8: Entry Date
A9: Exit Date
A10: Length of Stay-Days | B10: =IF(B9="",$B$4-B8,B9-B8) -> 0 | C10: =IF(C9="",$B$4-C8,C9-C8) -> 0 | D10: =IF(D9="",$B$4-D8,D9-D8) -> 0 | E10: =IF(E9="",$B$4-E8,E9-E8) -> 0 | F10: =IF(F9="",$B$4-F8,F9-F8) -> 0 | G10: =IF(G9="",$B$4-G8,G9-G8) -> 0 | H10: =IF(H9="",$B$4-H8,H9-H8) -> 0 | I10: =IF(I9="",$B$4-I8,I9-I8) -> 0 | ... AY10: =IF(AY9="",$B$4-AY8,AY9-AY8) -> 0
A13: Standard | B13: Determination and Notes | C13: Determination and Notes | D13: Determination and Notes | E13: Determination and Notes | F13: Determination and Notes | G13: Determination and Notes | H13: Determination and Notes | I13: Determination and Notes | J13: Determination and Notes | K13: Determination and Notes | L13: Determination and Notes | M13: Determination and Notes | N13: Determination and Notes | O13: Determination and Notes | P13: Determination and Notes | Q13: Determination and Notes | R13: Determination and Notes | S13: Determination and Notes | T13: Determination and Notes | U13: Determination and Notes | V13: Determination and Notes | W13: Determination and Notes | X13: Determination and Notes | Y13: Determination and Notes | Z13: Determination and Notes | AA13: Determination and Notes | AB13: Determination and Notes | AC13: Determination and Notes | AD13: Determination and Notes | AE13: Determination and Notes | AF13: Determination and Notes | AG13: Determination and Notes | AH13: Determination and Notes | AI13: Determination and Notes | AJ13: Determination and Notes | AK13: Determination and Notes | AL13: Determination and Notes | AM13: Determination and Notes | AN13: Determination and Notes | AO13: Determination and Notes | AP13: Determination and Notes | AQ13: Determination and Notes | AR13: Determination and Notes | AS13: Determination and Notes | AT13: Determination and Notes | AU13: Determination and Notes | AV13: Determination and Notes | AW13: Determination and Notes | AX13: Determination and Notes | AY13: Determination and Notes
A14: E3 Documentation of at Risk of Homlessness
A16: G2 Case file documentation
B22: Yes
B23: No
B24: N/A
A26: =A14 -> E3 Documentation of at Risk of Homlessness
A27: Files Reviewed | B27: =IF(B14="",0,1) -> 0 | C27: =IF(C14="",0,1) -> 0 | D27: =IF(D14="",0,1) -> 0 | E27: =IF(E14="",0,1) -> 0 | F27: =IF(F14="",0,1) -> 0 | G27: =IF(G14="",0,1) -> 0 | H27: =IF(H14="",0,1) -> 0 | I27: =IF(I14="",0,1) -> 0 | ... AY27: =IF(AY14="",0,1) -> 0 | AZ27: =SUM(B27:AY27) -> 0
A28: Applicable Files | B28: =IF(B14="N/A",0,1) -> 1 | C28: =IF(C14="N/A",0,1) -> 1 | D28: =IF(D14="N/A",0,1) -> 1 | E28: =IF(E14="N/A",0,1) -> 1 | F28: =IF(F14="N/A",0,1) -> 1 | G28: =IF(G14="N/A",0,1) -> 1 | H28: =IF(H14="N/A",0,1) -> 1 | I28: =IF(I14="N/A",0,1) -> 1 | ... AY28: =IF(AY14="N/A",0,1) -> 1 | AZ28: =SUM(B28:AY28) -> 50
A29: Non Compliant | B29: =IF(B14="NO",1,0) -> 0 | C29: =IF(C14="NO",1,0) -> 0 | D29: =IF(D14="NO",1,0) -> 0 | E29: =IF(E14="NO",1,0) -> 0 | F29: =IF(F14="NO",1,0) -> 0 | G29: =IF(G14="NO",1,0) -> 0 | H29: =IF(H14="NO",1,0) -> 0 | I29: =IF(I14="NO",1,0) -> 0 | ... AY29: =IF(AY14="NO",1,0) -> 0 | AZ29: =SUM(B29:AY29) -> 0
A30: =A16 -> G2 Case file documentation
A31: Files Reviewed | B31: =IF(B18="",0,1) -> 0 | C31: =IF(C18="",0,1) -> 0 | D31: =IF(D18="",0,1) -> 0 | E31: =IF(E18="",0,1) -> 0 | F31: =IF(F18="",0,1) -> 0 | G31: =IF(G18="",0,1) -> 0 | H31: =IF(H18="",0,1) -> 0 | I31: =IF(I18="",0,1) -> 0 | ... AY31: =IF(AY18="",0,1) -> 0 | AZ31: =SUM(B31:AY31) -> 0
A32: Applicable Files | B32: =IF(B18="N/A",0,1) -> 1 | C32: =IF(C18="N/A",0,1) -> 1 | D32: =IF(D18="N/A",0,1) -> 1 | E32: =IF(E18="N/A",0,1) -> 1 | F32: =IF(F18="N/A",0,1) -> 1 | G32: =IF(G18="N/A",0,1) -> 1 | H32: =IF(H18="N/A",0,1) -> 1 | I32: =IF(I18="N/A",0,1) -> 1 | ... AY32: =IF(AY18="N/A",0,1) -> 1 | AZ32: =SUM(B32:AY32) -> 50
A33: Non Compliant | B33: =IF(B18="NO",1,0) -> 0 | C33: =IF(C18="NO",1,0) -> 0 | D33: =IF(D18="NO",1,0) -> 0 | E33: =IF(E18="NO",1,0) -> 0 | F33: =IF(F18="NO",1,0) -> 0 | G33: =IF(G18="NO",1,0) -> 0 | H33: =IF(H18="NO",1,0) -> 0 | I33: =IF(I18="NO",1,0) -> 0 | ... AY33: =IF(AY18="NO",1,0) -> 0 | AZ33: =SUM(B33:AY33) -> 0

Sheet DIVGuide
A2: Diversion
A3: Documentation of At Risk of Homelessness
A4: To qualify as at risk of homelessness under ESG, a participant must meet HUD’s definition at program entry (24 CFR §576.2). The household must lack the resources and support networks needed to keep their current housing and must meet at least one qualifying condition.
A5: Qualifying Conditions
A6: A household may be considered at risk if they:
A7: Have moved two or more times in the past 60 days due to economic reasons
A8: Are living with others (doubling up) because of financial hardship
A9: Have received a written eviction notice requiring them to leave within 21 days
A10: Are staying in a hotel or motel not paid for by a government or charity
A11: Are living in overcrowded housing (more than 1.5 persons per room)
A12: Are exiting a publicly funded institution or system of care
A13: Are living in unstable housing conditions that increase the risk of homelessness
... A52: Well-documented case notes demonstrate that services are consistent, responsive, and focused on helping participants achieve long-term housing stability.

Sheet PRCExit
A2: PR&C Exit Interview Form (Diversion)
A4: Date | B4: Partner Agency | F4: Program | I4: Reviewers
A5: =DIVTool!B4 -> 0 | B5: =DIVTool!B2 -> 0 | F5: =DIVTool!B3 -> 0
A6: Client File Review Summary
A7: Standard | G7: Number of Applicable Files | I7: Number Non Compliant | K7: Compliance Percentage
A8: =DIVTool!A14 -> E3 Documentation of at Risk of Homlessness | G8: =DIVTool!AZ28 -> 50 | I8: =DIVTool!AZ29 -> 0 | K8: =1-(I8/G8) -> 1
A9: =DIVTool!A16 -> G2 Case file documentation | G9: =DIVTool!AZ32 -> 50 | I9: =DIVTool!BB32 -> 0 | K9: =1-(I9/G9) -> 1
A10: Standards feedback, recommendations and improvement needed
A13: Next Steps (Follow up)
B14: No follow up needed at this time. Final review and determination will be provided on the PR&C report
A15: x | B15: Please provide follow up information for the items listed below
A17: 1
A18: 2
A19: 3
A20: 4
A21: 5
