Workbook

Sheet Reporting Period

Sheet Client list

Sheet First data pull

Sheet Second data pull

Sheet DataTransfer
A1: Data Acknowledgement Form | B1: -
A2: # | B2: -
A3: Clarity ID | B3: -
A4: ServicePoint ID | B4: -
A5: Household ID | B5: -
A6: Relationship to Head of Household (Reasonableness based on household composition) | B6: All
A7: First (Any - ID/BC/SSC/SSI/SSDI ) | B7: All
A8: Last (Any - ID/BC/SSC/SSI/SSDI) | B8: All
A9: Last 4 SSN (Any - SSC/SSI/SSDI) | B9: All
A10: DOB (Any - ID/BC) | B10: All
A11: Gender (Any - ID/BC) | B11: All
A12: Prior Living Situation (Program Eligibility) | B12: All
... A28: Notes | B28: -
A29: Score
A30: Total Point Pool
A31: Data Errors
A33: Adult Closed - 19
A34: Adult Annual - 18
A35: Adult Open - 14
A37: Child Closed - 11
A38: Child Annual - 10
A39: Child Open - 9

Sheet DataEntry
A1: Data Elements | B1: Applicable | C1: HMIS Information | D1: Compliant | E1: HMIS Information | F1: Compliant | G1: HMIS Information | H1: Compliant | I1: HMIS Information | J1: Compliant | K1: HMIS Information | L1: Compliant | M1: HMIS Information | N1: Compliant | O1: HMIS Information | P1: Compliant | Q1: HMIS Information | R1: Compliant | S1: HMIS Information | T1: Compliant | U1: HMIS Information | V1: Compliant | W1: HMIS Information | X1: Compliant | Y1: HMIS Information | Z1: Compliant | AA1: HMIS Information | AB1: Compliant | AC1: HMIS Information | AD1: Compliant | AE1: HMIS Information | AF1: Compliant | AG1: HMIS Information | AH1: Compliant | AI1: HMIS Information | AJ1: Compliant | AK1: HMIS Information | AL1: Compliant | AM1: HMIS Information | AN1: Compliant | AO1: HMIS Information | AP1: Compliant | AQ1: HMIS Information | AR1: Compliant | AS1: HMIS Information | AT1: Compliant | AU1: HMIS Information | AV1: Compliant | AW1: HMIS Information | AX1: Compliant | AY1: HMIS Information | AZ1: Compliant | BA1: HMIS Information | BB1: Compliant | BC1: HMIS Information | BD1: Compliant | BE1: HMIS Information | BF1: Compliant | BG1: HMIS Information | BH1: Compliant | BI1: HMIS Information | BJ1: Compliant | BK1: HMIS Information | BL1: Compliant | BM1: HMIS Information | BN1: Compliant | BO1: HMIS Information | BP1: Compliant | BQ1: HMIS Information | BR1: Compliant | BS1: HMIS Information | BT1: Compliant | BU1: HMIS Information | BV1: Compliant | BW1: HMIS Information | BX1: Compliant | BY1: HMIS Information | BZ1: Compliant | CA1: HMIS Information | CB1: Compliant | CC1: HMIS Information | CD1: Compliant | CE1: HMIS Information | CF1: Compliant | CG1: HMIS Information | CH1: Compliant | CI1: HMIS Information | CJ1: Compliant | CK1: HMIS Information | CL1: Compliant | CM1: HMIS Information | CN1: Compliant | CO1: HMIS Information | CP1: Compliant | CQ1: HMIS Information | CR1: Compliant | CS1: HMIS Information | CT1: Compliant | CU1: HMIS Information | CV1: Compliant | CW1: HMIS Information | CX1: Compliant | CY1: HMIS Information | CZ1: Compliant | DA1: HMIS Information | DB1: Compliant | DC1: HMIS Information | DD1: Compliant | DE1: HMIS Information | DF1: Compliant | DG1: HMIS Information | DH1: Compliant | DI1: HMIS Information | DJ1: Compliant | DK1: HMIS Information | DL1: Compliant | DM1: HMIS Information | DN1: Compliant | DO1: HMIS Information | DP1: Compliant | DQ1: HMIS Information | DR1: Compliant | DS1: HMIS Information | DT1: Compliant | DU1: HMIS Information | DV1: Compliant | DW1: HMIS Information | DX1: Compliant | DY1: HMIS Information | DZ1: Compliant | EA1: HMIS Information | EB1: Compliant | EC1: HMIS Information | ED1: Compliant | EE1: HMIS Information | EF1: Compliant | EG1: HMIS Information | EH1: Compliant | EI1: HMIS Information | EJ1: Compliant | EK1: HMIS Information | EL1: Compliant | EM1: HMIS Information | EN1: Compliant | EO1: HMIS Information | EP1: Compliant | EQ1: HMIS Information | ER1: Compliant | ES1: HMIS Information | ET1: Compliant | EU1: HMIS Information | EV1: Compliant | EW1: HMIS Information | EX1: Compliant | EY1: HMIS Information | EZ1: Compliant | FA1: HMIS Information | FB1: Compliant | FC1: HMIS Information | FD1: Compliant | FE1: HMIS Information | FF1: Compliant | FG1: HMIS Information | FH1: Compliant | FI1: HMIS Information | FJ1: Compliant | FK1: HMIS Information | FL1: Compliant | FM1: HMIS Information | FN1: Compliant | FO1: HMIS Information | FP1: Compliant | FQ1: HMIS Information | FR1: Compliant | FS1: HMIS Information | FT1: Compliant | FU1: HMIS Information | FV1: Compliant | FW1: HMIS Information | FX1: Compliant | FY1: HMIS Information | FZ1: Compliant | GA1: HMIS Information | GB1: Compliant | GC1: HMIS Information | GD1: Compliant | GE1: HMIS Information | GF1: Compliant | GG1: HMIS Information | GH1: Compliant | GI1: HMIS Information | GJ1: Compliant | GK1: HMIS Information | GL1: Compliant | GM1: HMIS Information | GN1: Compliant | GO1: HMIS Information | GP1: Compliant | GQ1: HMIS Information | GR1: Compliant | GS1: HMIS Information | GT1: Compliant | GU1: HMIS Information | GV1: Compliant
A3: # | B3: -
A4: Data Acknowledgement | B4: All | C4: Data Acknowledgement | E4: Data Acknowledgement | G4: Data Acknowledgement | I4: Data Acknowledgement | K4: Data Acknowledgement | M4: Data Acknowledgement | O4: Data Acknowledgement | Q4: Data Acknowledgement | S4: Data Acknowledgement | U4: Data Acknowledgement | W4: Data Acknowledgement | Y4: Data Acknowledgement | AA4: Data Acknowledgement | AC4: Data Acknowledgement | AE4: Data Acknowledgement | AG4: Data Acknowledgement | AI4: Data Acknowledgement | AK4: Data Acknowledgement | AM4: Data Acknowledgement | AO4: Data Acknowledgement | AQ4: Data Acknowledgement | AS4: Data Acknowledgement | AU4: Data Acknowledgement | AW4: Data Acknowledgement | AY4: Data Acknowledgement | BA4: Data Acknowledgement | BC4: Data Acknowledgement | BE4: Data Acknowledgement | BG4: Data Acknowledgement | BI4: Data Acknowledgement | BK4: Data Acknowledgement | BM4: Data Acknowledgement | BO4: Data Acknowledgement | BQ4: Data Acknowledgement | BS4: Data Acknowledgement | BU4: Data Acknowledgement | BW4: Data Acknowledgement | BY4: Data Acknowledgement | CA4: Data Acknowledgement | CC4: Data Acknowledgement | CE4: Data Acknowledgement | CG4: Data Acknowledgement | CI4: Data Acknowledgement | CK4: Data Acknowledgement | CM4: Data Acknowledgement | CO4: Data Acknowledgement | CQ4: Data Acknowledgement | CS4: Data Acknowledgement | CU4: Data Acknowledgement | CW4: Data Acknowledgement | CY4: Data Acknowledgement | DA4: Data Acknowledgement | DC4: Data Acknowledgement | DE4: Data Acknowledgement | DG4: Data Acknowledgement | DI4: Data Acknowledgement | DK4: Data Acknowledgement | DM4: Data Acknowledgement | DO4: Data Acknowledgement | DQ4: Data Acknowledgement | DS4: Data Acknowledgement | DU4: Data Acknowledgement | DW4: Data Acknowledgement | DY4: Data Acknowledgement | EA4: Data Acknowledgement | EC4: Data Acknowledgement | EE4: Data Acknowledgement | EG4: Data Acknowledgement | EI4: Data Acknowledgement | EK4: Data Acknowledgement | EM4: Data Acknowledgement | EO4: Data Acknowledgement | EQ4: Data Acknowledgement | ES4: Data Acknowledgement | EU4: Data Acknowledgement | EW4: Data Acknowledgement | EY4: Data Acknowledgement | FA4: Data Acknowledgement | FC4: Data Acknowledgement | FE4: Data Acknowledgement | FG4: Data Acknowledgement | FI4: Data Acknowledgement | FK4: Data Acknowledgement | FM4: Data Acknowledgement | FO4: Data Acknowledgement | FQ4: Data Acknowledgement | FS4: Data Acknowledgement | FU4: Data Acknowledgement | FW4: Data Acknowledgement | FY4: Data Acknowledgement | GA4: Data Acknowledgement | GC4: Data Acknowledgement | GE4: Data Acknowledgement | GG4: Data Acknowledgement | GI4: Data Acknowledgement | GK4: Data Acknowledgement | GM4: Data Acknowledgement | GO4: Data Acknowledgement | GQ4: Data Acknowledgement | GS4: Data Acknowledgement | GU4: Data Acknowledgement
A5: =DataTransfer!A3 -> Clarity ID | B5: =DataTransfer!B3 -> - | C5: =DataTransfer!C3 -> 0 | E5: =DataTransfer!D3 -> 0 | G5: =DataTransfer!E3 -> 0 | I5: =DataTransfer!F3 -> 0 | K5: =DataTransfer!G3 -> 0 | M5: =DataTransfer!H3 -> 0 | O5: =DataTransfer!I3 -> 0 | Q5: =DataTransfer!J3 -> 0 | S5: =DataTransfer!K3 -> 0 | U5: =DataTransfer!L3 -> 0 | W5: =DataTransfer!M3 -> 0 | Y5: =DataTransfer!N3 -> 0 | AA5: =DataTransfer!O3 -> 0 | AC5: =DataTransfer!P3 -> 0 | AE5: =DataTransfer!Q3 -> 0 | AG5: =DataTransfer!R3 -> 0 | AI5: =DataTransfer!S3 -> 0 | AK5: =DataTransfer!T3 -> 0 | AM5: =DataTransfer!U3 -> 0 | AO5: =DataTransfer!V3 -> 0 | AQ5: =DataTransfer!W3 -> 0 | AS5: =DataTransfer!X3 -> 0 | AU5: =DataTransfer!Y3 -> 0 | AW5: =DataTransfer!Z3 -> 0 | AY5: =DataTransfer!AA3 -> 0 | BA5: =DataTransfer!AB3 -> 0 | BC5: =DataTransfer!AC3 -> 0 | BE5: =DataTransfer!AD3 -> 0 | BG5: =DataTransfer!AE3 -> 0 | BI5: =DataTransfer!AF3 -> 0 | BK5: =DataTransfer!AG3 -> 0 | BM5: =DataTransfer!AH3 -> 0 | BO5: =DataTransfer!AI3 -> 0 | BQ5: =DataTransfer!AJ3 -> 0 | BS5: =DataTransfer!AK3 -> 0 | BU5: =DataTransfer!AL3 -> 0 | BW5: =DataTransfer!AM3 -> 0 | BY5: =DataTransfer!AN3 -> 0 | CA5: =DataTransfer!AO3 -> 0 | CC5: =DataTransfer!AP3 -> 0 | CE5: =DataTransfer!AQ3 -> 0 | CG5: =DataTransfer!AR3 -> 0 | CI5: =DataTransfer!AS3 -> 0 | CK5: =DataTransfer!AT3 -> 0 | CM5: =DataTransfer!AU3 -> 0 | CO5: =DataTransfer!AV3 -> 0 | CQ5: =DataTransfer!AW3 -> 0 | CS5: =DataTransfer!AX3 -> 0 | CU5: =DataTransfer!AY3 -> 0 | CW5: =DataTransfer!AZ3 -> 0 | CY5: =DataTransfer!BA3 -> 0 | DA5: =DataTransfer!BB3 -> 0 | DC5: =DataTransfer!BC3 -> 0 | DE5: =DataTransfer!BD3 -> 0 | DG5: =DataTransfer!BE3 -> 0 | DI5: =DataTransfer!BF3 -> 0 | DK5: =DataTransfer!BG3 -> 0 | DM5: =DataTransfer!BH3 -> 0 | DO5: =DataTransfer!BI3 -> 0 | DQ5: =DataTransfer!BJ3 -> 0 | DS5: =DataTransfer!BK3 -> 0 | DU5: =DataTransfer!BL3 -> 0 | DW5: =DataTransfer!BM3 -> 0 | DY5: =DataTransfer!BN3 -> 0 | EA5: =DataTransfer!BO3 -> 0 | EC5: =DataTransfer!BP3 -> 0 | EE5: =DataTransfer!BQ3 -> 0 | EG5: =DataTransfer!BR3 -> 0 | EI5: =DataTransfer!BS3 -> 0 | EK5: =DataTransfer!BT3 -> 0 | EM5: =DataTransfer!BU3 -> 0 | EO5: =DataTransfer!BV3 -> 0 | EQ5: =DataTransfer!BW3 -> 0 | ES5: =DataTransfer!BX3 -> 0 | EU5: =DataTransfer!BY3 -> 0 | EW5: =DataTransfer!BZ3 -> 0 | EY5: =DataTransfer!CA3 -> 0 | FA5: =DataTransfer!CB3 -> 0 | FC5: =DataTransfer!CC3 -> 0 | FE5: =DataTransfer!CD3 -> 0 | FG5: =DataTransfer!CE3 -> 0 | FI5: =DataTransfer!CF3 -> 0 | FK5: =DataTransfer!CG3 -> 0 | FM5: =DataTransfer!CH3 -> 0 | FO5: =DataTransfer!CI3 -> 0 | FQ5: =DataTransfer!CJ3 -> 0 | FS5: =DataTransfer!CK3 -> 0 | FU5: =DataTransfer!CL3 -> 0 | FW5: =DataTransfer!CM3 -> 0 | FY5: =DataTransfer!CN3 -> 0 | GA5: =DataTransfer!CO3 -> 0 | GC5: =DataTransfer!CP3 -> 0 | GE5: =DataTransfer!CQ3 -> 0 | GG5: =DataTransfer!CR3 -> 0 | GI5: =DataTransfer!CS3 -> 0 | GK5: =DataTransfer!CT3 -> 0 | GM5: =DataTransfer!CU3 -> 0 | GO5: =DataTransfer!CV3 -> 0 | GQ5: =DataTransfer!CW3 -> 0 | GS5: =DataTransfer!CX3 -> 0 | GU5: =DataTransfer!CY3 -> 0
A6: =DataTransfer!A4 -> ServicePoint ID | B6: =DataTransfer!B4 -> - | C6: =DataTransfer!C4 -> 0 | E6: =DataTransfer!D4 -> 0 | G6: =DataTransfer!E4 -> 0 | I6: =DataTransfer!F4 -> 0 | K6: =DataTransfer!G4 -> 0 | M6: =DataTransfer!H4 -> 0 | O6: =DataTransfer!I4 -> 0 | Q6: =DataTransfer!J4 -> 0 | S6: =DataTransfer!K4 -> 0 | U6: =DataTransfer!L4 -> 0 | W6: =DataTransfer!M4 -> 0 | Y6: =DataTransfer!N4 -> 0 | AA6: =DataTransfer!O4 -> 0 | AC6: =DataTransfer!P4 -> 0 | AE6: =DataTransfer!Q4 -> 0 | AG6: =DataTransfer!R4 -> 0 | AI6: =DataTransfer!S4 -> 0 | AK6: =DataTransfer!T4 -> 0 | AM6: =DataTransfer!U4 -> 0 | AO6: =DataTransfer!V4 -> 0 | AQ6: =DataTransfer!W4 -> 0 | AS6: =DataTransfer!X4 -> 0 | AU6: =DataTransfer!Y4 -> 0 | AW6: =DataTransfer!Z4 -> 0 | AY6: =DataTransfer!AA4 -> 0 | BA6: =DataTransfer!AB4 -> 0 | BC6: =DataTransfer!AC4 -> 0 | BE6: =DataTransfer!AD4 -> 0 | BG6: =DataTransfer!AE4 -> 0 | BI6: =DataTransfer!AF4 -> 0 | BK6: =DataTransfer!AG4 -> 0 | BM6: =DataTransfer!AH4 -> 0 | BO6: =DataTransfer!AI4 -> 0 | BQ6: =DataTransfer!AJ4 -> 0 | BS6: =DataTransfer!AK4 -> 0 | BU6: =DataTransfer!AL4 -> 0 | BW6: =DataTransfer!AM4 -> 0 | BY6: =DataTransfer!AN4 -> 0 | CA6: =DataTransfer!AO4 -> 0 | CC6: =DataTransfer!AP4 -> 0 | CE6: =DataTransfer!AQ4 -> 0 | CG6: =DataTransfer!AR4 -> 0 | CI6: =DataTransfer!AS4 -> 0 | CK6: =DataTransfer!AT4 -> 0 | CM6: =DataTransfer!AU4 -> 0 | CO6: =DataTransfer!AV4 -> 0 | CQ6: =DataTransfer!AW4 -> 0 | CS6: =DataTransfer!AX4 -> 0 | CU6: =DataTransfer!AY4 -> 0 | CW6: =DataTransfer!AZ4 -> 0 | CY6: =DataTransfer!BA4 -> 0 | DA6: =DataTransfer!BB4 -> 0 | DC6: =DataTransfer!BC4 -> 0 | DE6: =DataTransfer!BD4 -> 0 | DG6: =DataTransfer!BE4 -> 0 | DI6: =DataTransfer!BF4 -> 0 | DK6: =DataTransfer!BG4 -> 0 | DM6: =DataTransfer!BH4 -> 0 | DO6: =DataTransfer!BI4 -> 0 | DQ6: =DataTransfer!BJ4 -> 0 | DS6: =DataTransfer!BK4 -> 0 | DU6: =DataTransfer!BL4 -> 0 | DW6: =DataTransfer!BM4 -> 0 | DY6: =DataTransfer!BN4 -> 0 | EA6: =DataTransfer!BO4 -> 0 | EC6: =DataTransfer!BP4 -> 0 | EE6: =DataTransfer!BQ4 -> 0 | EG6: =DataTransfer!BR4 -> 0 | EI6: =DataTransfer!BS4 -> 0 | EK6: =DataTransfer!BT4 -> 0 | EM6: =DataTransfer!BU4 -> 0 | EO6: =DataTransfer!BV4 -> 0 | EQ6: =DataTransfer!BW4 -> 0 | ES6: =DataTransfer!BX4 -> 0 | EU6: =DataTransfer!BY4 -> 0 | EW6: =DataTransfer!BZ4 -> 0 | EY6: =DataTransfer!CA4 -> 0 | FA6: =DataTransfer!CB4 -> 0 | FC6: =DataTransfer!CC4 -> 0 | FE6: =DataTransfer!CD4 -> 0 | FG6: =DataTransfer!CE4 -> 0 | FI6: =DataTransfer!CF4 -> 0 | FK6: =DataTransfer!CG4 -> 0 | FM6: =DataTransfer!CH4 -> 0 | FO6: =DataTransfer!CI4 -> 0 | FQ6: =DataTransfer!CJ4 -> 0 | FS6: =DataTransfer!CK4 -> 0 | FU6: =DataTransfer!CL4 -> 0 | FW6: =DataTransfer!CM4 -> 0 | FY6: =DataTransfer!CN4 -> 0 | GA6: =DataTransfer!CO4 -> 0 | GC6: =DataTransfer!CP4 -> 0 | GE6: =DataTransfer!CQ4 -> 0 | GG6: =DataTransfer!CR4 -> 0 | GI6: =DataTransfer!CS4 -> 0 | GK6: =DataTransfer!CT4 -> 0 | GM6: =DataTransfer!CU4 -> 0 | GO6: =DataTransfer!CV4 -> 0 | GQ6: =DataTransfer!CW4 -> 0 | GS6: =DataTransfer!CX4 -> 0 | GU6: =DataTransfer!CY4 -> 0
A7: =DataTransfer!A5 -> Household ID | B7: =DataTransfer!B5 -> - | C7: =DataTransfer!C5 -> 0 | E7: =DataTransfer!D5 -> 0 | G7: =DataTransfer!E5 -> 0 | I7: =DataTransfer!F5 -> 0 | K7: =DataTransfer!G5 -> 0 | M7: =DataTransfer!H5 -> 0 | O7: =DataTransfer!I5 -> 0 | Q7: =DataTransfer!J5 -> 0 | S7: =DataTransfer!K5 -> 0 | U7: =DataTransfer!L5 -> 0 | W7: =DataTransfer!M5 -> 0 | Y7: =DataTransfer!N5 -> 0 | AA7: =DataTransfer!O5 -> 0 | AC7: =DataTransfer!P5 -> 0 | AE7: =DataTransfer!Q5 -> 0 | AG7: =DataTransfer!R5 -> 0 | AI7: =DataTransfer!S5 -> 0 | AK7: =DataTransfer!T5 -> 0 | AM7: =DataTransfer!U5 -> 0 | AO7: =DataTransfer!V5 -> 0 | AQ7: =DataTransfer!W5 -> 0 | AS7: =DataTransfer!X5 -> 0 | AU7: =DataTransfer!Y5 -> 0 | AW7: =DataTransfer!Z5 -> 0 | AY7: =DataTransfer!AA5 -> 0 | BA7: =DataTransfer!AB5 -> 0 | BC7: =DataTransfer!AC5 -> 0 | BE7: =DataTransfer!AD5 -> 0 | BG7: =DataTransfer!AE5 -> 0 | BI7: =DataTransfer!AF5 -> 0 | BK7: =DataTransfer!AG5 -> 0 | BM7: =DataTransfer!AH5 -> 0 | BO7: =DataTransfer!AI5 -> 0 | BQ7: =DataTransfer!AJ5 -> 0 | BS7: =DataTransfer!AK5 -> 0 | BU7: =DataTransfer!AL5 -> 0 | BW7: =DataTransfer!AM5 -> 0 | BY7: =DataTransfer!AN5 -> 0 | CA7: =DataTransfer!AO5 -> 0 | CC7: =DataTransfer!AP5 -> 0 | CE7: =DataTransfer!AQ5 -> 0 | CG7: =DataTransfer!AR5 -> 0 | CI7: =DataTransfer!AS5 -> 0 | CK7: =DataTransfer!AT5 -> 0 | CM7: =DataTransfer!AU5 -> 0 | CO7: =DataTransfer!AV5 -> 0 | CQ7: =DataTransfer!AW5 -> 0 | CS7: =DataTransfer!AX5 -> 0 | CU7: =DataTransfer!AY5 -> 0 | CW7: =DataTransfer!AZ5 -> 0 | CY7: =DataTransfer!BA5 -> 0 | DA7: =DataTransfer!BB5 -> 0 | DC7: =DataTransfer!BC5 -> 0 | DE7: =DataTransfer!BD5 -> 0 | DG7: =DataTransfer!BE5 -> 0 | DI7: =DataTransfer!BF5 -> 0 | DK7: =DataTransfer!BG5 -> 0 | DM7: =DataTransfer!BH5 -> 0 | DO7: =DataTransfer!BI5 -> 0 | DQ7: =DataTransfer!BJ5 -> 0 | DS7: =DataTransfer!BK5 -> 0 | DU7: =DataTransfer!BL5 -> 0 | DW7: =DataTransfer!BM5 -> 0 | DY7: =DataTransfer!BN5 -> 0 | EA7: =DataTransfer!BO5 -> 0 | EC7: =DataTransfer!BP5 -> 0 | EE7: =DataTransfer!BQ5 -> 0 | EG7: =DataTransfer!BR5 -> 0 | EI7: =DataTransfer!BS5 -> 0 | EK7: =DataTransfer!BT5 -> 0 | EM7: =DataTransfer!BU5 -> 0 | EO7: =DataTransfer!BV5 -> 0 | EQ7: =DataTransfer!BW5 -> 0 | ES7: =DataTransfer!BX5 -> 0 | EU7: =DataTransfer!BY5 -> 0 | EW7: =DataTransfer!BZ5 -> 0 | EY7: =DataTransfer!CA5 -> 0 | FA7: =DataTransfer!CB5 -> 0 | FC7: =DataTransfer!CC5 -> 0 | FE7: =DataTransfer!CD5 -> 0 | FG7: =DataTransfer!CE5 -> 0 | FI7: =DataTransfer!CF5 -> 0 | FK7: =DataTransfer!CG5 -> 0 | FM7: =DataTransfer!CH5 -> 0 | FO7: =DataTransfer!CI5 -> 0 | FQ7: =DataTransfer!CJ5 -> 0 | FS7: =DataTransfer!CK5 -> 0 | FU7: =DataTransfer!CL5 -> 0 | FW7: =DataTransfer!CM5 -> 0 | FY7: =DataTransfer!CN5 -> 0 | GA7: =DataTransfer!CO5 -> 0 | GC7: =DataTransfer!CP5 -> 0 | GE7: =DataTransfer!CQ5 -> 0 | GG7: =DataTransfer!CR5 -> 0 | GI7: =DataTransfer!CS5 -> 0 | GK7: =DataTransfer!CT5 -> 0 | GM7: =DataTransfer!CU5 -> 0 | GO7: =DataTransfer!CV5 -> 0 | GQ7: =DataTransfer!CW5 -> 0 | GS7: =DataTransfer!CX5 -> 0 | GU7: =DataTransfer!CY5 -> 0
A9: =DataTransfer!A6 -> Relationship to Head of Household (Reasonableness based on household composition) | B9: =DataTransfer!B6 -> All | C9: =DataTransfer!C6 -> 0 | E9: =DataTransfer!D6 -> 0 | G9: =DataTransfer!E6 -> 0 | I9: =DataTransfer!F6 -> 0 | K9: =DataTransfer!G6 -> 0 | M9: =DataTransfer!H6 -> 0 | O9: =DataTransfer!I6 -> 0 | Q9: =DataTransfer!J6 -> 0 | S9: =DataTransfer!K6 -> 0 | U9: =DataTransfer!L6 -> 0 | W9: =DataTransfer!M6 -> 0 | Y9: =DataTransfer!N6 -> 0 | AA9: =DataTransfer!O6 -> 0 | AC9: =DataTransfer!P6 -> 0 | AE9: =DataTransfer!Q6 -> 0 | AG9: =DataTransfer!R6 -> 0 | AI9: =DataTransfer!S6 -> 0 | AK9: =DataTransfer!T6 -> 0 | AM9: =DataTransfer!U6 -> 0 | AO9: =DataTransfer!V6 -> 0 | AQ9: =DataTransfer!W6 -> 0 | AS9: =DataTransfer!X6 -> 0 | AU9: =DataTransfer!Y6 -> 0 | AW9: =DataTransfer!Z6 -> 0 | AY9: =DataTransfer!AA6 -> 0 | BA9: =DataTransfer!AB6 -> 0 | BC9: =DataTransfer!AC6 -> 0 | BE9: =DataTransfer!AD6 -> 0 | BG9: =DataTransfer!AE6 -> 0 | BI9: =DataTransfer!AF6 -> 0 | BK9: =DataTransfer!AG6 -> 0 | BM9: =DataTransfer!AH6 -> 0 | BO9: =DataTransfer!AI6 -> 0 | BQ9: =DataTransfer!AJ6 -> 0 | BS9: =DataTransfer!AK6 -> 0 | BU9: =DataTransfer!AL6 -> 0 | BW9: =DataTransfer!AM6 -> 0 | BY9: =DataTransfer!AN6 -> 0 | CA9: =DataTransfer!AO6 -> 0 | CC9: =DataTransfer!AP6 -> 0 | CE9: =DataTransfer!AQ6 -> 0 | CG9: =DataTransfer!AR6 -> 0 | CI9: =DataTransfer!AS6 -> 0 | CK9: =DataTransfer!AT6 -> 0 | CM9: =DataTransfer!AU6 -> 0 | CO9: =DataTransfer!AV6 -> 0 | CQ9: =DataTransfer!AW6 -> 0 | CS9: =DataTransfer!AX6 -> 0 | CU9: =DataTransfer!AY6 -> 0 | CW9: =DataTransfer!AZ6 -> 0 | CY9: =DataTransfer!BA6 -> 0 | DA9: =DataTransfer!BB6 -> 0 | DC9: =DataTransfer!BC6 -> 0 | DE9: =DataTransfer!BD6 -> 0 | DG9: =DataTransfer!BE6 -> 0 | DI9: =DataTransfer!BF6 -> 0 | DK9: =DataTransfer!BG6 -> 0 | DM9: =DataTransfer!BH6 -> 0 | DO9: =DataTransfer!BI6 -> 0 | DQ9: =DataTransfer!BJ6 -> 0 | DS9: =DataTransfer!BK6 -> 0 | DU9: =DataTransfer!BL6 -> 0 | DW9: =DataTransfer!BM6 -> 0 | DY9: =DataTransfer!BN6 -> 0 | EA9: =DataTransfer!BO6 -> 0 | EC9: =DataTransfer!BP6 -> 0 | EE9: =DataTransfer!BQ6 -> 0 | EG9: =DataTransfer!BR6 -> 0 | EI9: =DataTransfer!BS6 -> 0 | EK9: =DataTransfer!BT6 -> 0 | EM9: =DataTransfer!BU6 -> 0 | EO9: =DataTransfer!BV6 -> 0 | EQ9: =DataTransfer!BW6 -> 0 | ES9: =DataTransfer!BX6 -> 0 | EU9: =DataTransfer!BY6 -> 0 | EW9: =DataTransfer!BZ6 -> 0 | EY9: =DataTransfer!CA6 -> 0 | FA9: =DataTransfer!CB6 -> 0 | FC9: =DataTransfer!CC6 -> 0 | FE9: =DataTransfer!CD6 -> 0 | FG9: =DataTransfer!CE6 -> 0 | FI9: =DataTransfer!CF6 -> 0 | FK9: =DataTransfer!CG6 -> 0 | FM9: =DataTransfer!CH6 -> 0 | FO9: =DataTransfer!CI6 -> 0 | FQ9: =DataTransfer!CJ6 -> 0 | FS9: =DataTransfer!CK6 -> 0 | FU9: =DataTransfer!CL6 -> 0 | FW9: =DataTransfer!CM6 -> 0 | FY9: =DataTransfer!CN6 -> 0 | GA9: =DataTransfer!CO6 -> 0 | GC9: =DataTransfer!CP6 -> 0 | GE9: =DataTransfer!CQ6 -> 0 | GG9: =DataTransfer!CR6 -> 0 | GI9: =DataTransfer!CS6 -> 0 | GK9: =DataTransfer!CT6 -> 0 | GM9: =DataTransfer!CU6 -> 0 | GO9: =DataTransfer!CV6 -> 0 | GQ9: =DataTransfer!CW6 -> 0 | GS9: =DataTransfer!CX6 -> 0 | GU9: =DataTransfer!CY6 -> 0
A10: =DataTransfer!A7 -> First (Any - ID/BC/SSC/SSI/SSDI ) | B10: =DataTransfer!B7 -> All | C10: =DataTransfer!C7 -> 0 | E10: =DataTransfer!D7 -> 0 | G10: =DataTransfer!E7 -> 0 | I10: =DataTransfer!F7 -> 0 | K10: =DataTransfer!G7 -> 0 | M10: =DataTransfer!H7 -> 0 | O10: =DataTransfer!I7 -> 0 | Q10: =DataTransfer!J7 -> 0 | S10: =DataTransfer!K7 -> 0 | U10: =DataTransfer!L7 -> 0 | W10: =DataTransfer!M7 -> 0 | Y10: =DataTransfer!N7 -> 0 | AA10: =DataTransfer!O7 -> 0 | AC10: =DataTransfer!P7 -> 0 | AE10: =DataTransfer!Q7 -> 0 | AG10: =DataTransfer!R7 -> 0 | AI10: =DataTransfer!S7 -> 0 | AK10: =DataTransfer!T7 -> 0 | AM10: =DataTransfer!U7 -> 0 | AO10: =DataTransfer!V7 -> 0 | AQ10: =DataTransfer!W7 -> 0 | AS10: =DataTransfer!X7 -> 0 | AU10: =DataTransfer!Y7 -> 0 | AW10: =DataTransfer!Z7 -> 0 | AY10: =DataTransfer!AA7 -> 0 | BA10: =DataTransfer!AB7 -> 0 | BC10: =DataTransfer!AC7 -> 0 | BE10: =DataTransfer!AD7 -> 0 | BG10: =DataTransfer!AE7 -> 0 | BI10: =DataTransfer!AF7 -> 0 | BK10: =DataTransfer!AG7 -> 0 | BM10: =DataTransfer!AH7 -> 0 | BO10: =DataTransfer!AI7 -> 0 | BQ10: =DataTransfer!AJ7 -> 0 | BS10: =DataTransfer!AK7 -> 0 | BU10: =DataTransfer!AL7 -> 0 | BW10: =DataTransfer!AM7 -> 0 | BY10: =DataTransfer!AN7 -> 0 | CA10: =DataTransfer!AO7 -> 0 | CC10: =DataTransfer!AP7 -> 0 | CE10: =DataTransfer!AQ7 -> 0 | CG10: =DataTransfer!AR7 -> 0 | CI10: =DataTransfer!AS7 -> 0 | CK10: =DataTransfer!AT7 -> 0 | CM10: =DataTransfer!AU7 -> 0 | CO10: =DataTransfer!AV7 -> 0 | CQ10: =DataTransfer!AW7 -> 0 | CS10: =DataTransfer!AX7 -> 0 | CU10: =DataTransfer!AY7 -> 0 | CW10: =DataTransfer!AZ7 -> 0 | CY10: =DataTransfer!BA7 -> 0 | DA10: =DataTransfer!BB7 -> 0 | DC10: =DataTransfer!BC7 -> 0 | DE10: =DataTransfer!BD7 -> 0 | DG10: =DataTransfer!BE7 -> 0 | DI10: =DataTransfer!BF7 -> 0 | DK10: =DataTransfer!BG7 -> 0 | DM10: =DataTransfer!BH7 -> 0 | DO10: =DataTransfer!BI7 -> 0 | DQ10: =DataTransfer!BJ7 -> 0 | DS10: =DataTransfer!BK7 -> 0 | DU10: =DataTransfer!BL7 -> 0 | DW10: =DataTransfer!BM7 -> 0 | DY10: =DataTransfer!BN7 -> 0 | EA10: =DataTransfer!BO7 -> 0 | EC10: =DataTransfer!BP7 -> 0 | EE10: =DataTransfer!BQ7 -> 0 | EG10: =DataTransfer!BR7 -> 0 | EI10: =DataTransfer!BS7 -> 0 | EK10: =DataTransfer!BT7 -> 0 | EM10: =DataTransfer!BU7 -> 0 | EO10: =DataTransfer!BV7 -> 0 | EQ10: =DataTransfer!BW7 -> 0 | ES10: =DataTransfer!BX7 -> 0 | EU10: =DataTransfer!BY7 -> 0 | EW10: =DataTransfer!BZ7 -> 0 | EY10: =DataTransfer!CA7 -> 0 | FA10: =DataTransfer!CB7 -> 0 | FC10: =DataTransfer!CC7 -> 0 | FE10: =DataTransfer!CD7 -> 0 | FG10: =DataTransfer!CE7 -> 0 | FI10: =DataTransfer!CF7 -> 0 | FK10: =DataTransfer!CG7 -> 0 | FM10: =DataTransfer!CH7 -> 0 | FO10: =DataTransfer!CI7 -> 0 | FQ10: =DataTransfer!CJ7 -> 0 | FS10: =DataTransfer!CK7 -> 0 | FU10: =DataTransfer!CL7 -> 0 | FW10: =DataTransfer!CM7 -> 0 | FY10: =DataTransfer!CN7 -> 0 | GA10: =DataTransfer!CO7 -> 0 | GC10: =DataTransfer!CP7 -> 0 | GE10: =DataTransfer!CQ7 -> 0 | GG10: =DataTransfer!CR7 -> 0 | GI10: =DataTransfer!CS7 -> 0 | GK10: =DataTransfer!CT7 -> 0 | GM10: =DataTransfer!CU7 -> 0 | GO10: =DataTransfer!CV7 -> 0 | GQ10: =DataTransfer!CW7 -> 0 | GS10: =DataTransfer!CX7 -> 0 | GU10: =DataTransfer!CY7 -> 0
A11: =DataTransfer!A8 -> Last (Any - ID/BC/SSC/SSI/SSDI) | B11: =DataTransfer!B8 -> All | C11: =DataTransfer!C8 -> 0 | E11: =DataTransfer!D8 -> 0 | G11: =DataTransfer!E8 -> 0 | I11: =DataTransfer!F8 -> 0 | K11: =DataTransfer!G8 -> 0 | M11: =DataTransfer!H8 -> 0 | O11: =DataTransfer!I8 -> 0 | Q11: =DataTransfer!J8 -> 0 | S11: =DataTransfer!K8 -> 0 | U11: =DataTransfer!L8 -> 0 | W11: =DataTransfer!M8 -> 0 | Y11: =DataTransfer!N8 -> 0 | AA11: =DataTransfer!O8 -> 0 | AC11: =DataTransfer!P8 -> 0 | AE11: =DataTransfer!Q8 -> 0 | AG11: =DataTransfer!R8 -> 0 | AI11: =DataTransfer!S8 -> 0 | AK11: =DataTransfer!T8 -> 0 | AM11: =DataTransfer!U8 -> 0 | AO11: =DataTransfer!V8 -> 0 | AQ11: =DataTransfer!W8 -> 0 | AS11: =DataTransfer!X8 -> 0 | AU11: =DataTransfer!Y8 -> 0 | AW11: =DataTransfer!Z8 -> 0 | AY11: =DataTransfer!AA8 -> 0 | BA11: =DataTransfer!AB8 -> 0 | BC11: =DataTransfer!AC8 -> 0 | BE11: =DataTransfer!AD8 -> 0 | BG11: =DataTransfer!AE8 -> 0 | BI11: =DataTransfer!AF8 -> 0 | BK11: =DataTransfer!AG8 -> 0 | BM11: =DataTransfer!AH8 -> 0 | BO11: =DataTransfer!AI8 -> 0 | BQ11: =DataTransfer!AJ8 -> 0 | BS11: =DataTransfer!AK8 -> 0 | BU11: =DataTransfer!AL8 -> 0 | BW11: =DataTransfer!AM8 -> 0 | BY11: =DataTransfer!AN8 -> 0 | CA11: =DataTransfer!AO8 -> 0 | CC11: =DataTransfer!AP8 -> 0 | CE11: =DataTransfer!AQ8 -> 0 | CG11: =DataTransfer!AR8 -> 0 | CI11: =DataTransfer!AS8 -> 0 | CK11: =DataTransfer!AT8 -> 0 | CM11: =DataTransfer!AU8 -> 0 | CO11: =DataTransfer!AV8 -> 0 | CQ11: =DataTransfer!AW8 -> 0 | CS11: =DataTransfer!AX8 -> 0 | CU11: =DataTransfer!AY8 -> 0 | CW11: =DataTransfer!AZ8 -> 0 | CY11: =DataTransfer!BA8 -> 0 | DA11: =DataTransfer!BB8 -> 0 | DC11: =DataTransfer!BC8 -> 0 | DE11: =DataTransfer!BD8 -> 0 | DG11: =DataTransfer!BE8 -> 0 | DI11: =DataTransfer!BF8 -> 0 | DK11: =DataTransfer!BG8 -> 0 | DM11: =DataTransfer!BH8 -> 0 | DO11: =DataTransfer!BI8 -> 0 | DQ11: =DataTransfer!BJ8 -> 0 | DS11: =DataTransfer!BK8 -> 0 | DU11: =DataTransfer!BL8 -> 0 | DW11: =DataTransfer!BM8 -> 0 | DY11: =DataTransfer!BN8 -> 0 | EA11: =DataTransfer!BO8 -> 0 | EC11: =DataTransfer!BP8 -> 0 | EE11: =DataTransfer!BQ8 -> 0 | EG11: =DataTransfer!BR8 -> 0 | EI11: =DataTransfer!BS8 -> 0 | EK11: =DataTransfer!BT8 -> 0 | EM11: =DataTransfer!BU8 -> 0 | EO11: =DataTransfer!BV8 -> 0 | EQ11: =DataTransfer!BW8 -> 0 | ES11: =DataTransfer!BX8 -> 0 | EU11: =DataTransfer!BY8 -> 0 | EW11: =DataTransfer!BZ8 -> 0 | EY11: =DataTransfer!CA8 -> 0 | FA11: =DataTransfer!CB8 -> 0 | FC11: =DataTransfer!CC8 -> 0 | FE11: =DataTransfer!CD8 -> 0 | FG11: =DataTransfer!CE8 -> 0 | FI11: =DataTransfer!CF8 -> 0 | FK11: =DataTransfer!CG8 -> 0 | FM11: =DataTransfer!CH8 -> 0 | FO11: =DataTransfer!CI8 -> 0 | FQ11: =DataTransfer!CJ8 -> 0 | FS11: =DataTransfer!CK8 -> 0 | FU11: =DataTransfer!CL8 -> 0 | FW11: =DataTransfer!CM8 -> 0 | FY11: =DataTransfer!CN8 -> 0 | GA11: =DataTransfer!CO8 -> 0 | GC11: =DataTransfer!CP8 -> 0 | GE11: =DataTransfer!CQ8 -> 0 | GG11: =DataTransfer!CR8 -> 0 | GI11: =DataTransfer!CS8 -> 0 | GK11: =DataTransfer!CT8 -> 0 | GM11: =DataTransfer!CU8 -> 0 | GO11: =DataTransfer!CV8 -> 0 | GQ11: =DataTransfer!CW8 -> 0 | GS11: =DataTransfer!CX8 -> 0 | GU11: =DataTransfer!CY8 -> 0
A12: =DataTransfer!A9 -> Last 4 SSN (Any - SSC/SSI/SSDI) | B12: =DataTransfer!B9 -> All | C12: =DataTransfer!C9 -> 0 | E12: =DataTransfer!D9 -> 0 | G12: =DataTransfer!E9 -> 0 | I12: =DataTransfer!F9 -> 0 | K12: =DataTransfer!G9 -> 0 | M12: =DataTransfer!H9 -> 0 | O12: =DataTransfer!I9 -> 0 | Q12: =DataTransfer!J9 -> 0 | S12: =DataTransfer!K9 -> 0 | U12: =DataTransfer!L9 -> 0 | W12: =DataTransfer!M9 -> 0 | Y12: =DataTransfer!N9 -> 0 | AA12: =DataTransfer!O9 -> 0 | AC12: =DataTransfer!P9 -> 0 | AE12: =DataTransfer!Q9 -> 0 | AG12: =DataTransfer!R9 -> 0 | AI12: =DataTransfer!S9 -> 0 | AK12: =DataTransfer!T9 -> 0 | AM12: =DataTransfer!U9 -> 0 | AO12: =DataTransfer!V9 -> 0 | AQ12: =DataTransfer!W9 -> 0 | AS12: =DataTransfer!X9 -> 0 | AU12: =DataTransfer!Y9 -> 0 | AW12: =DataTransfer!Z9 -> 0 | AY12: =DataTransfer!AA9 -> 0 | BA12: =DataTransfer!AB9 -> 0 | BC12: =DataTransfer!AC9 -> 0 | BE12: =DataTransfer!AD9 -> 0 | BG12: =DataTransfer!AE9 -> 0 | BI12: =DataTransfer!AF9 -> 0 | BK12: =DataTransfer!AG9 -> 0 | BM12: =DataTransfer!AH9 -> 0 | BO12: =DataTransfer!AI9 -> 0 | BQ12: =DataTransfer!AJ9 -> 0 | BS12: =DataTransfer!AK9 -> 0 | BU12: =DataTransfer!AL9 -> 0 | BW12: =DataTransfer!AM9 -> 0 | BY12: =DataTransfer!AN9 -> 0 | CA12: =DataTransfer!AO9 -> 0 | CC12: =DataTransfer!AP9 -> 0 | CE12: =DataTransfer!AQ9 -> 0 | CG12: =DataTransfer!AR9 -> 0 | CI12: =DataTransfer!AS9 -> 0 | CK12: =DataTransfer!AT9 -> 0 | CM12: =DataTransfer!AU9 -> 0 | CO12: =DataTransfer!AV9 -> 0 | CQ12: =DataTransfer!AW9 -> 0 | CS12: =DataTransfer!AX9 -> 0 | CU12: =DataTransfer!AY9 -> 0 | CW12: =DataTransfer!AZ9 -> 0 | CY12: =DataTransfer!BA9 -> 0 | DA12: =DataTransfer!BB9 -> 0 | DC12: =DataTransfer!BC9 -> 0 | DE12: =DataTransfer!BD9 -> 0 | DG12: =DataTransfer!BE9 -> 0 | DI12: =DataTransfer!BF9 -> 0 | DK12: =DataTransfer!BG9 -> 0 | DM12: =DataTransfer!BH9 -> 0 | DO12: =DataTransfer!BI9 -> 0 | DQ12: =DataTransfer!BJ9 -> 0 | DS12: =DataTransfer!BK9 -> 0 | DU12: =DataTransfer!BL9 -> 0 | DW12: =DataTransfer!BM9 -> 0 | DY12: =DataTransfer!BN9 -> 0 | EA12: =DataTransfer!BO9 -> 0 | EC12: =DataTransfer!BP9 -> 0 | EE12: =DataTransfer!BQ9 -> 0 | EG12: =DataTransfer!BR9 -> 0 | EI12: =DataTransfer!BS9 -> 0 | EK12: =DataTransfer!BT9 -> 0 | EM12: =DataTransfer!BU9 -> 0 | EO12: =DataTransfer!BV9 -> 0 | EQ12: =DataTransfer!BW9 -> 0 | ES12: =DataTransfer!BX9 -> 0 | EU12: =DataTransfer!BY9 -> 0 | EW12: =DataTransfer!BZ9 -> 0 | EY12: =DataTransfer!CA9 -> 0 | FA12: =DataTransfer!CB9 -> 0 | FC12: =DataTransfer!CC9 -> 0 | FE12: =DataTransfer!CD9 -> 0 | FG12: =DataTransfer!CE9 -> 0 | FI12: =DataTransfer!CF9 -> 0 | FK12: =DataTransfer!CG9 -> 0 | FM12: =DataTransfer!CH9 -> 0 | FO12: =DataTransfer!CI9 -> 0 | FQ12: =DataTransfer!CJ9 -> 0 | FS12: =DataTransfer!CK9 -> 0 | FU12: =DataTransfer!CL9 -> 0 | FW12: =DataTransfer!CM9 -> 0 | FY12: =DataTransfer!CN9 -> 0 | GA12: =DataTransfer!CO9 -> 0 | GC12: =DataTransfer!CP9 -> 0 | GE12: =DataTransfer!CQ9 -> 0 | GG12: =DataTransfer!CR9 -> 0 | GI12: =DataTransfer!CS9 -> 0 | GK12: =DataTransfer!CT9 -> 0 | GM12: =DataTransfer!CU9 -> 0 | GO12: =DataTransfer!CV9 -> 0 | GQ12: =DataTransfer!CW9 -> 0 | GS12: =DataTransfer!CX9 -> 0 | GU12: =DataTransfer!CY9 -> 0
A13: =DataTransfer!A10 -> DOB (Any - ID/BC) | B13: =DataTransfer!B10 -> All | C13: =DataTransfer!C10 -> 0 | E13: =DataTransfer!D10 -> 0 | G13: =DataTransfer!E10 -> 0 | I13: =DataTransfer!F10 -> 0 | K13: =DataTransfer!G10 -> 0 | M13: =DataTransfer!H10 -> 0 | O13: =DataTransfer!I10 -> 0 | Q13: =DataTransfer!J10 -> 0 | S13: =DataTransfer!K10 -> 0 | U13: =DataTransfer!L10 -> 0 | W13: =DataTransfer!M10 -> 0 | Y13: =DataTransfer!N10 -> 0 | AA13: =DataTransfer!O10 -> 0 | AC13: =DataTransfer!P10 -> 0 | AE13: =DataTransfer!Q10 -> 0 | AG13: =DataTransfer!R10 -> 0 | AI13: =DataTransfer!S10 -> 0 | AK13: =DataTransfer!T10 -> 0 | AM13: =DataTransfer!U10 -> 0 | AO13: =DataTransfer!V10 -> 0 | AQ13: =DataTransfer!W10 -> 0 | AS13: =DataTransfer!X10 -> 0 | AU13: =DataTransfer!Y10 -> 0 | AW13: =DataTransfer!Z10 -> 0 | AY13: =DataTransfer!AA10 -> 0 | BA13: =DataTransfer!AB10 -> 0 | BC13: =DataTransfer!AC10 -> 0 | BE13: =DataTransfer!AD10 -> 0 | BG13: =DataTransfer!AE10 -> 0 | BI13: =DataTransfer!AF10 -> 0 | BK13: =DataTransfer!AG10 -> 0 | BM13: =DataTransfer!AH10 -> 0 | BO13: =DataTransfer!AI10 -> 0 | BQ13: =DataTransfer!AJ10 -> 0 | BS13: =DataTransfer!AK10 -> 0 | BU13: =DataTransfer!AL10 -> 0 | BW13: =DataTransfer!AM10 -> 0 | BY13: =DataTransfer!AN10 -> 0 | CA13: =DataTransfer!AO10 -> 0 | CC13: =DataTransfer!AP10 -> 0 | CE13: =DataTransfer!AQ10 -> 0 | CG13: =DataTransfer!AR10 -> 0 | CI13: =DataTransfer!AS10 -> 0 | CK13: =DataTransfer!AT10 -> 0 | CM13: =DataTransfer!AU10 -> 0 | CO13: =DataTransfer!AV10 -> 0 | CQ13: =DataTransfer!AW10 -> 0 | CS13: =DataTransfer!AX10 -> 0 | CU13: =DataTransfer!AY10 -> 0 | CW13: =DataTransfer!AZ10 -> 0 | CY13: =DataTransfer!BA10 -> 0 | DA13: =DataTransfer!BB10 -> 0 | DC13: =DataTransfer!BC10 -> 0 | DE13: =DataTransfer!BD10 -> 0 | DG13: =DataTransfer!BE10 -> 0 | DI13: =DataTransfer!BF10 -> 0 | DK13: =DataTransfer!BG10 -> 0 | DM13: =DataTransfer!BH10 -> 0 | DO13: =DataTransfer!BI10 -> 0 | DQ13: =DataTransfer!BJ10 -> 0 | DS13: =DataTransfer!BK10 -> 0 | DU13: =DataTransfer!BL10 -> 0 | DW13: =DataTransfer!BM10 -> 0 | DY13: =DataTransfer!BN10 -> 0 | EA13: =DataTransfer!BO10 -> 0 | EC13: =DataTransfer!BP10 -> 0 | EE13: =DataTransfer!BQ10 -> 0 | EG13: =DataTransfer!BR10 -> 0 | EI13: =DataTransfer!BS10 -> 0 | EK13: =DataTransfer!BT10 -> 0 | EM13: =DataTransfer!BU10 -> 0 | EO13: =DataTransfer!BV10 -> 0 | EQ13: =DataTransfer!BW10 -> 0 | ES13: =DataTransfer!BX10 -> 0 | EU13: =DataTransfer!BY10 -> 0 | EW13: =DataTransfer!BZ10 -> 0 | EY13: =DataTransfer!CA10 -> 0 | FA13: =DataTransfer!CB10 -> 0 | FC13: =DataTransfer!CC10 -> 0 | FE13: =DataTransfer!CD10 -> 0 | FG13: =DataTransfer!CE10 -> 0 | FI13: =DataTransfer!CF10 -> 0 | FK13: =DataTransfer!CG10 -> 0 | FM13: =DataTransfer!CH10 -> 0 | FO13: =DataTransfer!CI10 -> 0 | FQ13: =DataTransfer!CJ10 -> 0 | FS13: =DataTransfer!CK10 -> 0 | FU13: =DataTransfer!CL10 -> 0 | FW13: =DataTransfer!CM10 -> 0 | FY13: =DataTransfer!CN10 -> 0 | GA13: =DataTransfer!CO10 -> 0 | GC13: =DataTransfer!CP10 -> 0 | GE13: =DataTransfer!CQ10 -> 0 | GG13: =DataTransfer!CR10 -> 0 | GI13: =DataTransfer!CS10 -> 0 | GK13: =DataTransfer!CT10 -> 0 | GM13: =DataTransfer!CU10 -> 0 | GO13: =DataTransfer!CV10 -> 0 | GQ13: =DataTransfer!CW10 -> 0 | GS13: =DataTransfer!CX10 -> 0 | GU13: =DataTransfer!CY10 -> 0
A14: =DataTransfer!A11 -> Gender (Any - ID/BC) | B14: =DataTransfer!B11 -> All | C14: =DataTransfer!C11 -> 0 | E14: =DataTransfer!D11 -> 0 | G14: =DataTransfer!E11 -> 0 | I14: =DataTransfer!F11 -> 0 | K14: =DataTransfer!G11 -> 0 | M14: =DataTransfer!H11 -> 0 | O14: =DataTransfer!I11 -> 0 | Q14: =DataTransfer!J11 -> 0 | S14: =DataTransfer!K11 -> 0 | U14: =DataTransfer!L11 -> 0 | W14: =DataTransfer!M11 -> 0 | Y14: =DataTransfer!N11 -> 0 | AA14: =DataTransfer!O11 -> 0 | AC14: =DataTransfer!P11 -> 0 | AE14: =DataTransfer!Q11 -> 0 | AG14: =DataTransfer!R11 -> 0 | AI14: =DataTransfer!S11 -> 0 | AK14: =DataTransfer!T11 -> 0 | AM14: =DataTransfer!U11 -> 0 | AO14: =DataTransfer!V11 -> 0 | AQ14: =DataTransfer!W11 -> 0 | AS14: =DataTransfer!X11 -> 0 | AU14: =DataTransfer!Y11 -> 0 | AW14: =DataTransfer!Z11 -> 0 | AY14: =DataTransfer!AA11 -> 0 | BA14: =DataTransfer!AB11 -> 0 | BC14: =DataTransfer!AC11 -> 0 | BE14: =DataTransfer!AD11 -> 0 | BG14: =DataTransfer!AE11 -> 0 | BI14: =DataTransfer!AF11 -> 0 | BK14: =DataTransfer!AG11 -> 0 | BM14: =DataTransfer!AH11 -> 0 | BO14: =DataTransfer!AI11 -> 0 | BQ14: =DataTransfer!AJ11 -> 0 | BS14: =DataTransfer!AK11 -> 0 | BU14: =DataTransfer!AL11 -> 0 | BW14: =DataTransfer!AM11 -> 0 | BY14: =DataTransfer!AN11 -> 0 | CA14: =DataTransfer!AO11 -> 0 | CC14: =DataTransfer!AP11 -> 0 | CE14: =DataTransfer!AQ11 -> 0 | CG14: =DataTransfer!AR11 -> 0 | CI14: =DataTransfer!AS11 -> 0 | CK14: =DataTransfer!AT11 -> 0 | CM14: =DataTransfer!AU11 -> 0 | CO14: =DataTransfer!AV11 -> 0 | CQ14: =DataTransfer!AW11 -> 0 | CS14: =DataTransfer!AX11 -> 0 | CU14: =DataTransfer!AY11 -> 0 | CW14: =DataTransfer!AZ11 -> 0 | CY14: =DataTransfer!BA11 -> 0 | DA14: =DataTransfer!BB11 -> 0 | DC14: =DataTransfer!BC11 -> 0 | DE14: =DataTransfer!BD11 -> 0 | DG14: =DataTransfer!BE11 -> 0 | DI14: =DataTransfer!BF11 -> 0 | DK14: =DataTransfer!BG11 -> 0 | DM14: =DataTransfer!BH11 -> 0 | DO14: =DataTransfer!BI11 -> 0 | DQ14: =DataTransfer!BJ11 -> 0 | DS14: =DataTransfer!BK11 -> 0 | DU14: =DataTransfer!BL11 -> 0 | DW14: =DataTransfer!BM11 -> 0 | DY14: =DataTransfer!BN11 -> 0 | EA14: =DataTransfer!BO11 -> 0 | EC14: =DataTransfer!BP11 -> 0 | EE14: =DataTransfer!BQ11 -> 0 | EG14: =DataTransfer!BR11 -> 0 | EI14: =DataTransfer!BS11 -> 0 | EK14: =DataTransfer!BT11 -> 0 | EM14: =DataTransfer!BU11 -> 0 | EO14: =DataTransfer!BV11 -> 0 | EQ14: =DataTransfer!BW11 -> 0 | ES14: =DataTransfer!BX11 -> 0 | EU14: =DataTransfer!BY11 -> 0 | EW14: =DataTransfer!BZ11 -> 0 | EY14: =DataTransfer!CA11 -> 0 | FA14: =DataTransfer!CB11 -> 0 | FC14: =DataTransfer!CC11 -> 0 | FE14: =DataTransfer!CD11 -> 0 | FG14: =DataTransfer!CE11 -> 0 | FI14: =DataTransfer!CF11 -> 0 | FK14: =DataTransfer!CG11 -> 0 | FM14: =DataTransfer!CH11 -> 0 | FO14: =DataTransfer!CI11 -> 0 | FQ14: =DataTransfer!CJ11 -> 0 | FS14: =DataTransfer!CK11 -> 0 | FU14: =DataTransfer!CL11 -> 0 | FW14: =DataTransfer!CM11 -> 0 | FY14: =DataTransfer!CN11 -> 0 | GA14: =DataTransfer!CO11 -> 0 | GC14: =DataTransfer!CP11 -> 0 | GE14: =DataTransfer!CQ11 -> 0 | GG14: =DataTransfer!CR11 -> 0 | GI14: =DataTransfer!CS11 -> 0 | GK14: =DataTransfer!CT11 -> 0 | GM14: =DataTransfer!CU11 -> 0 | GO14: =DataTransfer!CV11 -> 0 | GQ14: =DataTransfer!CW11 -> 0 | GS14: =DataTransfer!CX11 -> 0 | GU14: =DataTransfer!CY11 -> 0
A15: =DataTransfer!A12 -> Prior Living Situation (Program Eligibility) | B15: =DataTransfer!B12 -> All | C15: =DataTransfer!C12 -> 0 | E15: =DataTransfer!D12 -> 0 | G15: =DataTransfer!E12 -> 0 | I15: =DataTransfer!F12 -> 0 | K15: =DataTransfer!G12 -> 0 | M15: =DataTransfer!H12 -> 0 | O15: =DataTransfer!I12 -> 0 | Q15: =DataTransfer!J12 -> 0 | S15: =DataTransfer!K12 -> 0 | U15: =DataTransfer!L12 -> 0 | W15: =DataTransfer!M12 -> 0 | Y15: =DataTransfer!N12 -> 0 | AA15: =DataTransfer!O12 -> 0 | AC15: =DataTransfer!P12 -> 0 | AE15: =DataTransfer!Q12 -> 0 | AG15: =DataTransfer!R12 -> 0 | AI15: =DataTransfer!S12 -> 0 | AK15: =DataTransfer!T12 -> 0 | AM15: =DataTransfer!U12 -> 0 | AO15: =DataTransfer!V12 -> 0 | AQ15: =DataTransfer!W12 -> 0 | AS15: =DataTransfer!X12 -> 0 | AU15: =DataTransfer!Y12 -> 0 | AW15: =DataTransfer!Z12 -> 0 | AY15: =DataTransfer!AA12 -> 0 | BA15: =DataTransfer!AB12 -> 0 | BC15: =DataTransfer!AC12 -> 0 | BE15: =DataTransfer!AD12 -> 0 | BG15: =DataTransfer!AE12 -> 0 | BI15: =DataTransfer!AF12 -> 0 | BK15: =DataTransfer!AG12 -> 0 | BM15: =DataTransfer!AH12 -> 0 | BO15: =DataTransfer!AI12 -> 0 | BQ15: =DataTransfer!AJ12 -> 0 | BS15: =DataTransfer!AK12 -> 0 | BU15: =DataTransfer!AL12 -> 0 | BW15: =DataTransfer!AM12 -> 0 | BY15: =DataTransfer!AN12 -> 0 | CA15: =DataTransfer!AO12 -> 0 | CC15: =DataTransfer!AP12 -> 0 | CE15: =DataTransfer!AQ12 -> 0 | CG15: =DataTransfer!AR12 -> 0 | CI15: =DataTransfer!AS12 -> 0 | CK15: =DataTransfer!AT12 -> 0 | CM15: =DataTransfer!AU12 -> 0 | CO15: =DataTransfer!AV12 -> 0 | CQ15: =DataTransfer!AW12 -> 0 | CS15: =DataTransfer!AX12 -> 0 | CU15: =DataTransfer!AY12 -> 0 | CW15: =DataTransfer!AZ12 -> 0 | CY15: =DataTransfer!BA12 -> 0 | DA15: =DataTransfer!BB12 -> 0 | DC15: =DataTransfer!BC12 -> 0 | DE15: =DataTransfer!BD12 -> 0 | DG15: =DataTransfer!BE12 -> 0 | DI15: =DataTransfer!BF12 -> 0 | DK15: =DataTransfer!BG12 -> 0 | DM15: =DataTransfer!BH12 -> 0 | DO15: =DataTransfer!BI12 -> 0 | DQ15: =DataTransfer!BJ12 -> 0 | DS15: =DataTransfer!BK12 -> 0 | DU15: =DataTransfer!BL12 -> 0 | DW15: =DataTransfer!BM12 -> 0 | DY15: =DataTransfer!BN12 -> 0 | EA15: =DataTransfer!BO12 -> 0 | EC15: =DataTransfer!BP12 -> 0 | EE15: =DataTransfer!BQ12 -> 0 | EG15: =DataTransfer!BR12 -> 0 | EI15: =DataTransfer!BS12 -> 0 | EK15: =DataTransfer!BT12 -> 0 | EM15: =DataTransfer!BU12 -> 0 | EO15: =DataTransfer!BV12 -> 0 | EQ15: =DataTransfer!BW12 -> 0 | ES15: =DataTransfer!BX12 -> 0 | EU15: =DataTransfer!BY12 -> 0 | EW15: =DataTransfer!BZ12 -> 0 | EY15: =DataTransfer!CA12 -> 0 | FA15: =DataTransfer!CB12 -> 0 | FC15: =DataTransfer!CC12 -> 0 | FE15: =DataTransfer!CD12 -> 0 | FG15: =DataTransfer!CE12 -> 0 | FI15: =DataTransfer!CF12 -> 0 | FK15: =DataTransfer!CG12 -> 0 | FM15: =DataTransfer!CH12 -> 0 | FO15: =DataTransfer!CI12 -> 0 | FQ15: =DataTransfer!CJ12 -> 0 | FS15: =DataTransfer!CK12 -> 0 | FU15: =DataTransfer!CL12 -> 0 | FW15: =DataTransfer!CM12 -> 0 | FY15: =DataTransfer!CN12 -> 0 | GA15: =DataTransfer!CO12 -> 0 | GC15: =DataTransfer!CP12 -> 0 | GE15: =DataTransfer!CQ12 -> 0 | GG15: =DataTransfer!CR12 -> 0 | GI15: =DataTransfer!CS12 -> 0 | GK15: =DataTransfer!CT12 -> 0 | GM15: =DataTransfer!CU12 -> 0 | GO15: =DataTransfer!CV12 -> 0 | GQ15: =DataTransfer!CW12 -> 0 | GS15: =DataTransfer!CX12 -> 0 | GU15: =DataTransfer!CY12 -> 0
A16: =DataTransfer!A13 -> Subsidy Type | B16: =DataTransfer!B13 -> All | C16: =DataTransfer!C13 -> 0 | E16: =DataTransfer!D13 -> 0 | G16: =DataTransfer!E13 -> 0 | I16: =DataTransfer!F13 -> 0 | K16: =DataTransfer!G13 -> 0 | M16: =DataTransfer!H13 -> 0 | O16: =DataTransfer!I13 -> 0 | Q16: =DataTransfer!J13 -> 0 | S16: =DataTransfer!K13 -> 0 | U16: =DataTransfer!L13 -> 0 | W16: =DataTransfer!M13 -> 0 | Y16: =DataTransfer!N13 -> 0 | AA16: =DataTransfer!O13 -> 0 | AC16: =DataTransfer!P13 -> 0 | AE16: =DataTransfer!Q13 -> 0 | AG16: =DataTransfer!R13 -> 0 | AI16: =DataTransfer!S13 -> 0 | AK16: =DataTransfer!T13 -> 0 | AM16: =DataTransfer!U13 -> 0 | AO16: =DataTransfer!V13 -> 0 | AQ16: =DataTransfer!W13 -> 0 | AS16: =DataTransfer!X13 -> 0 | AU16: =DataTransfer!Y13 -> 0 | AW16: =DataTransfer!Z13 -> 0 | AY16: =DataTransfer!AA13 -> 0 | BA16: =DataTransfer!AB13 -> 0 | BC16: =DataTransfer!AC13 -> 0 | BE16: =DataTransfer!AD13 -> 0 | BG16: =DataTransfer!AE13 -> 0 | BI16: =DataTransfer!AF13 -> 0 | BK16: =DataTransfer!AG13 -> 0 | BM16: =DataTransfer!AH13 -> 0 | BO16: =DataTransfer!AI13 -> 0 | BQ16: =DataTransfer!AJ13 -> 0 | BS16: =DataTransfer!AK13 -> 0 | BU16: =DataTransfer!AL13 -> 0 | BW16: =DataTransfer!AM13 -> 0 | BY16: =DataTransfer!AN13 -> 0 | CA16: =DataTransfer!AO13 -> 0 | CC16: =DataTransfer!AP13 -> 0 | CE16: =DataTransfer!AQ13 -> 0 | CG16: =DataTransfer!AR13 -> 0 | CI16: =DataTransfer!AS13 -> 0 | CK16: =DataTransfer!AT13 -> 0 | CM16: =DataTransfer!AU13 -> 0 | CO16: =DataTransfer!AV13 -> 0 | CQ16: =DataTransfer!AW13 -> 0 | CS16: =DataTransfer!AX13 -> 0 | CU16: =DataTransfer!AY13 -> 0 | CW16: =DataTransfer!AZ13 -> 0 | CY16: =DataTransfer!BA13 -> 0 | DA16: =DataTransfer!BB13 -> 0 | DC16: =DataTransfer!BC13 -> 0 | DE16: =DataTransfer!BD13 -> 0 | DG16: =DataTransfer!BE13 -> 0 | DI16: =DataTransfer!BF13 -> 0 | DK16: =DataTransfer!BG13 -> 0 | DM16: =DataTransfer!BH13 -> 0 | DO16: =DataTransfer!BI13 -> 0 | DQ16: =DataTransfer!BJ13 -> 0 | DS16: =DataTransfer!BK13 -> 0 | DU16: =DataTransfer!BL13 -> 0 | DW16: =DataTransfer!BM13 -> 0 | DY16: =DataTransfer!BN13 -> 0 | EA16: =DataTransfer!BO13 -> 0 | EC16: =DataTransfer!BP13 -> 0 | EE16: =DataTransfer!BQ13 -> 0 | EG16: =DataTransfer!BR13 -> 0 | EI16: =DataTransfer!BS13 -> 0 | EK16: =DataTransfer!BT13 -> 0 | EM16: =DataTransfer!BU13 -> 0 | EO16: =DataTransfer!BV13 -> 0 | EQ16: =DataTransfer!BW13 -> 0 | ES16: =DataTransfer!BX13 -> 0 | EU16: =DataTransfer!BY13 -> 0 | EW16: =DataTransfer!BZ13 -> 0 | EY16: =DataTransfer!CA13 -> 0 | FA16: =DataTransfer!CB13 -> 0 | FC16: =DataTransfer!CC13 -> 0 | FE16: =DataTransfer!CD13 -> 0 | FG16: =DataTransfer!CE13 -> 0 | FI16: =DataTransfer!CF13 -> 0 | FK16: =DataTransfer!CG13 -> 0 | FM16: =DataTransfer!CH13 -> 0 | FO16: =DataTransfer!CI13 -> 0 | FQ16: =DataTransfer!CJ13 -> 0 | FS16: =DataTransfer!CK13 -> 0 | FU16: =DataTransfer!CL13 -> 0 | FW16: =DataTransfer!CM13 -> 0 | FY16: =DataTransfer!CN13 -> 0 | GA16: =DataTransfer!CO13 -> 0 | GC16: =DataTransfer!CP13 -> 0 | GE16: =DataTransfer!CQ13 -> 0 | GG16: =DataTransfer!CR13 -> 0 | GI16: =DataTransfer!CS13 -> 0 | GK16: =DataTransfer!CT13 -> 0 | GM16: =DataTransfer!CU13 -> 0 | GO16: =DataTransfer!CV13 -> 0 | GQ16: =DataTransfer!CW13 -> 0 | GS16: =DataTransfer!CX13 -> 0 | GU16: =DataTransfer!CY13 -> 0
A17: Comments
A19: =DataTransfer!A14 -> Project Start Date (Reasonableness based on enrollment documents) | B19: =DataTransfer!B14 -> All | C19: =DataTransfer!C14 -> 0 | E19: =DataTransfer!D14 -> 0 | G19: =DataTransfer!E14 -> 0 | I19: =DataTransfer!F14 -> 0 | K19: =DataTransfer!G14 -> 0 | M19: =DataTransfer!H14 -> 0 | O19: =DataTransfer!I14 -> 0 | Q19: =DataTransfer!J14 -> 0 | S19: =DataTransfer!K14 -> 0 | U19: =DataTransfer!L14 -> 0 | W19: =DataTransfer!M14 -> 0 | Y19: =DataTransfer!N14 -> 0 | AA19: =DataTransfer!O14 -> 0 | AC19: =DataTransfer!P14 -> 0 | AE19: =DataTransfer!Q14 -> 0 | AG19: =DataTransfer!R14 -> 0 | AI19: =DataTransfer!S14 -> 0 | AK19: =DataTransfer!T14 -> 0 | AM19: =DataTransfer!U14 -> 0 | AO19: =DataTransfer!V14 -> 0 | AQ19: =DataTransfer!W14 -> 0 | AS19: =DataTransfer!X14 -> 0 | AU19: =DataTransfer!Y14 -> 0 | AW19: =DataTransfer!Z14 -> 0 | AY19: =DataTransfer!AA14 -> 0 | BA19: =DataTransfer!AB14 -> 0 | BC19: =DataTransfer!AC14 -> 0 | BE19: =DataTransfer!AD14 -> 0 | BG19: =DataTransfer!AE14 -> 0 | BI19: =DataTransfer!AF14 -> 0 | BK19: =DataTransfer!AG14 -> 0 | BM19: =DataTransfer!AH14 -> 0 | BO19: =DataTransfer!AI14 -> 0 | BQ19: =DataTransfer!AJ14 -> 0 | BS19: =DataTransfer!AK14 -> 0 | BU19: =DataTransfer!AL14 -> 0 | BW19: =DataTransfer!AM14 -> 0 | BY19: =DataTransfer!AN14 -> 0 | CA19: =DataTransfer!AO14 -> 0 | CC19: =DataTransfer!AP14 -> 0 | CE19: =DataTransfer!AQ14 -> 0 | CG19: =DataTransfer!AR14 -> 0 | CI19: =DataTransfer!AS14 -> 0 | CK19: =DataTransfer!AT14 -> 0 | CM19: =DataTransfer!AU14 -> 0 | CO19: =DataTransfer!AV14 -> 0 | CQ19: =DataTransfer!AW14 -> 0 | CS19: =DataTransfer!AX14 -> 0 | CU19: =DataTransfer!AY14 -> 0 | CW19: =DataTransfer!AZ14 -> 0 | CY19: =DataTransfer!BA14 -> 0 | DA19: =DataTransfer!BB14 -> 0 | DC19: =DataTransfer!BC14 -> 0 | DE19: =DataTransfer!BD14 -> 0 | DG19: =DataTransfer!BE14 -> 0 | DI19: =DataTransfer!BF14 -> 0 | DK19: =DataTransfer!BG14 -> 0 | DM19: =DataTransfer!BH14 -> 0 | DO19: =DataTransfer!BI14 -> 0 | DQ19: =DataTransfer!BJ14 -> 0 | DS19: =DataTransfer!BK14 -> 0 | DU19: =DataTransfer!BL14 -> 0 | DW19: =DataTransfer!BM14 -> 0 | DY19: =DataTransfer!BN14 -> 0 | EA19: =DataTransfer!BO14 -> 0 | EC19: =DataTransfer!BP14 -> 0 | EE19: =DataTransfer!BQ14 -> 0 | EG19: =DataTransfer!BR14 -> 0 | EI19: =DataTransfer!BS14 -> 0 | EK19: =DataTransfer!BT14 -> 0 | EM19: =DataTransfer!BU14 -> 0 | EO19: =DataTransfer!BV14 -> 0 | EQ19: =DataTransfer!BW14 -> 0 | ES19: =DataTransfer!BX14 -> 0 | EU19: =DataTransfer!BY14 -> 0 | EW19: =DataTransfer!BZ14 -> 0 | EY19: =DataTransfer!CA14 -> 0 | FA19: =DataTransfer!CB14 -> 0 | FC19: =DataTransfer!CC14 -> 0 | FE19: =DataTransfer!CD14 -> 0 | FG19: =DataTransfer!CE14 -> 0 | FI19: =DataTransfer!CF14 -> 0 | FK19: =DataTransfer!CG14 -> 0 | FM19: =DataTransfer!CH14 -> 0 | FO19: =DataTransfer!CI14 -> 0 | FQ19: =DataTransfer!CJ14 -> 0 | FS19: =DataTransfer!CK14 -> 0 | FU19: =DataTransfer!CL14 -> 0 | FW19: =DataTransfer!CM14 -> 0 | FY19: =DataTransfer!CN14 -> 0 | GA19: =DataTransfer!CO14 -> 0 | GC19: =DataTransfer!CP14 -> 0 | GE19: =DataTransfer!CQ14 -> 0 | GG19: =DataTransfer!CR14 -> 0 | GI19: =DataTransfer!CS14 -> 0 | GK19: =DataTransfer!CT14 -> 0 | GM19: =DataTransfer!CU14 -> 0 | GO19: =DataTransfer!CV14 -> 0 | GQ19: =DataTransfer!CW14 -> 0 | GS19: =DataTransfer!CX14 -> 0 | GU19: =DataTransfer!CY14 -> 0
A20: =DataTransfer!A15 -> Employed @ Entry (Income Documentation) | B20: =DataTransfer!B15 -> HoH and adults | C20: =DataTransfer!C15 -> 0 | E20: =DataTransfer!D15 -> 0 | G20: =DataTransfer!E15 -> 0 | I20: =DataTransfer!F15 -> 0 | K20: =DataTransfer!G15 -> 0 | M20: =DataTransfer!H15 -> 0 | O20: =DataTransfer!I15 -> 0 | Q20: =DataTransfer!J15 -> 0 | S20: =DataTransfer!K15 -> 0 | U20: =DataTransfer!L15 -> 0 | W20: =DataTransfer!M15 -> 0 | Y20: =DataTransfer!N15 -> 0 | AA20: =DataTransfer!O15 -> 0 | AC20: =DataTransfer!P15 -> 0 | AE20: =DataTransfer!Q15 -> 0 | AG20: =DataTransfer!R15 -> 0 | AI20: =DataTransfer!S15 -> 0 | AK20: =DataTransfer!T15 -> 0 | AM20: =DataTransfer!U15 -> 0 | AO20: =DataTransfer!V15 -> 0 | AQ20: =DataTransfer!W15 -> 0 | AS20: =DataTransfer!X15 -> 0 | AU20: =DataTransfer!Y15 -> 0 | AW20: =DataTransfer!Z15 -> 0 | AY20: =DataTransfer!AA15 -> 0 | BA20: =DataTransfer!AB15 -> 0 | BC20: =DataTransfer!AC15 -> 0 | BE20: =DataTransfer!AD15 -> 0 | BG20: =DataTransfer!AE15 -> 0 | BI20: =DataTransfer!AF15 -> 0 | BK20: =DataTransfer!AG15 -> 0 | BM20: =DataTransfer!AH15 -> 0 | BO20: =DataTransfer!AI15 -> 0 | BQ20: =DataTransfer!AJ15 -> 0 | BS20: =DataTransfer!AK15 -> 0 | BU20: =DataTransfer!AL15 -> 0 | BW20: =DataTransfer!AM15 -> 0 | BY20: =DataTransfer!AN15 -> 0 | CA20: =DataTransfer!AO15 -> 0 | CC20: =DataTransfer!AP15 -> 0 | CE20: =DataTransfer!AQ15 -> 0 | CG20: =DataTransfer!AR15 -> 0 | CI20: =DataTransfer!AS15 -> 0 | CK20: =DataTransfer!AT15 -> 0 | CM20: =DataTransfer!AU15 -> 0 | CO20: =DataTransfer!AV15 -> 0 | CQ20: =DataTransfer!AW15 -> 0 | CS20: =DataTransfer!AX15 -> 0 | CU20: =DataTransfer!AY15 -> 0 | CW20: =DataTransfer!AZ15 -> 0 | CY20: =DataTransfer!BA15 -> 0 | DA20: =DataTransfer!BB15 -> 0 | DC20: =DataTransfer!BC15 -> 0 | DE20: =DataTransfer!BD15 -> 0 | DG20: =DataTransfer!BE15 -> 0 | DI20: =DataTransfer!BF15 -> 0 | DK20: =DataTransfer!BG15 -> 0 | DM20: =DataTransfer!BH15 -> 0 | DO20: =DataTransfer!BI15 -> 0 | DQ20: =DataTransfer!BJ15 -> 0 | DS20: =DataTransfer!BK15 -> 0 | DU20: =DataTransfer!BL15 -> 0 | DW20: =DataTransfer!BM15 -> 0 | DY20: =DataTransfer!BN15 -> 0 | EA20: =DataTransfer!BO15 -> 0 | EC20: =DataTransfer!BP15 -> 0 | EE20: =DataTransfer!BQ15 -> 0 | EG20: =DataTransfer!BR15 -> 0 | EI20: =DataTransfer!BS15 -> 0 | EK20: =DataTransfer!BT15 -> 0 | EM20: =DataTransfer!BU15 -> 0 | EO20: =DataTransfer!BV15 -> 0 | EQ20: =DataTransfer!BW15 -> 0 | ES20: =DataTransfer!BX15 -> 0 | EU20: =DataTransfer!BY15 -> 0 | EW20: =DataTransfer!BZ15 -> 0 | EY20: =DataTransfer!CA15 -> 0 | FA20: =DataTransfer!CB15 -> 0 | FC20: =DataTransfer!CC15 -> 0 | FE20: =DataTransfer!CD15 -> 0 | FG20: =DataTransfer!CE15 -> 0 | FI20: =DataTransfer!CF15 -> 0 | FK20: =DataTransfer!CG15 -> 0 | FM20: =DataTransfer!CH15 -> 0 | FO20: =DataTransfer!CI15 -> 0 | FQ20: =DataTransfer!CJ15 -> 0 | FS20: =DataTransfer!CK15 -> 0 | FU20: =DataTransfer!CL15 -> 0 | FW20: =DataTransfer!CM15 -> 0 | FY20: =DataTransfer!CN15 -> 0 | GA20: =DataTransfer!CO15 -> 0 | GC20: =DataTransfer!CP15 -> 0 | GE20: =DataTransfer!CQ15 -> 0 | GG20: =DataTransfer!CR15 -> 0 | GI20: =DataTransfer!CS15 -> 0 | GK20: =DataTransfer!CT15 -> 0 | GM20: =DataTransfer!CU15 -> 0 | GO20: =DataTransfer!CV15 -> 0 | GQ20: =DataTransfer!CW15 -> 0 | GS20: =DataTransfer!CX15 -> 0 | GU20: =DataTransfer!CY15 -> 0
A21: =DataTransfer!A16 -> Income from Any Source @ Entry (Income Documentation) | B21: =DataTransfer!B16 -> HoH and adults | C21: =DataTransfer!C16 -> 0 | E21: =DataTransfer!D16 -> 0 | G21: =DataTransfer!E16 -> 0 | I21: =DataTransfer!F16 -> 0 | K21: =DataTransfer!G16 -> 0 | M21: =DataTransfer!H16 -> 0 | O21: =DataTransfer!I16 -> 0 | Q21: =DataTransfer!J16 -> 0 | S21: =DataTransfer!K16 -> 0 | U21: =DataTransfer!L16 -> 0 | W21: =DataTransfer!M16 -> 0 | Y21: =DataTransfer!N16 -> 0 | AA21: =DataTransfer!O16 -> 0 | AC21: =DataTransfer!P16 -> 0 | AE21: =DataTransfer!Q16 -> 0 | AG21: =DataTransfer!R16 -> 0 | AI21: =DataTransfer!S16 -> 0 | AK21: =DataTransfer!T16 -> 0 | AM21: =DataTransfer!U16 -> 0 | AO21: =DataTransfer!V16 -> 0 | AQ21: =DataTransfer!W16 -> 0 | AS21: =DataTransfer!X16 -> 0 | AU21: =DataTransfer!Y16 -> 0 | AW21: =DataTransfer!Z16 -> 0 | AY21: =DataTransfer!AA16 -> 0 | BA21: =DataTransfer!AB16 -> 0 | BC21: =DataTransfer!AC16 -> 0 | BE21: =DataTransfer!AD16 -> 0 | BG21: =DataTransfer!AE16 -> 0 | BI21: =DataTransfer!AF16 -> 0 | BK21: =DataTransfer!AG16 -> 0 | BM21: =DataTransfer!AH16 -> 0 | BO21: =DataTransfer!AI16 -> 0 | BQ21: =DataTransfer!AJ16 -> 0 | BS21: =DataTransfer!AK16 -> 0 | BU21: =DataTransfer!AL16 -> 0 | BW21: =DataTransfer!AM16 -> 0 | BY21: =DataTransfer!AN16 -> 0 | CA21: =DataTransfer!AO16 -> 0 | CC21: =DataTransfer!AP16 -> 0 | CE21: =DataTransfer!AQ16 -> 0 | CG21: =DataTransfer!AR16 -> 0 | CI21: =DataTransfer!AS16 -> 0 | CK21: =DataTransfer!AT16 -> 0 | CM21: =DataTransfer!AU16 -> 0 | CO21: =DataTransfer!AV16 -> 0 | CQ21: =DataTransfer!AW16 -> 0 | CS21: =DataTransfer!AX16 -> 0 | CU21: =DataTransfer!AY16 -> 0 | CW21: =DataTransfer!AZ16 -> 0 | CY21: =DataTransfer!BA16 -> 0 | DA21: =DataTransfer!BB16 -> 0 | DC21: =DataTransfer!BC16 -> 0 | DE21: =DataTransfer!BD16 -> 0 | DG21: =DataTransfer!BE16 -> 0 | DI21: =DataTransfer!BF16 -> 0 | DK21: =DataTransfer!BG16 -> 0 | DM21: =DataTransfer!BH16 -> 0 | DO21: =DataTransfer!BI16 -> 0 | DQ21: =DataTransfer!BJ16 -> 0 | DS21: =DataTransfer!BK16 -> 0 | DU21: =DataTransfer!BL16 -> 0 | DW21: =DataTransfer!BM16 -> 0 | DY21: =DataTransfer!BN16 -> 0 | EA21: =DataTransfer!BO16 -> 0 | EC21: =DataTransfer!BP16 -> 0 | EE21: =DataTransfer!BQ16 -> 0 | EG21: =DataTransfer!BR16 -> 0 | EI21: =DataTransfer!BS16 -> 0 | EK21: =DataTransfer!BT16 -> 0 | EM21: =DataTransfer!BU16 -> 0 | EO21: =DataTransfer!BV16 -> 0 | EQ21: =DataTransfer!BW16 -> 0 | ES21: =DataTransfer!BX16 -> 0 | EU21: =DataTransfer!BY16 -> 0 | EW21: =DataTransfer!BZ16 -> 0 | EY21: =DataTransfer!CA16 -> 0 | FA21: =DataTransfer!CB16 -> 0 | FC21: =DataTransfer!CC16 -> 0 | FE21: =DataTransfer!CD16 -> 0 | FG21: =DataTransfer!CE16 -> 0 | FI21: =DataTransfer!CF16 -> 0 | FK21: =DataTransfer!CG16 -> 0 | FM21: =DataTransfer!CH16 -> 0 | FO21: =DataTransfer!CI16 -> 0 | FQ21: =DataTransfer!CJ16 -> 0 | FS21: =DataTransfer!CK16 -> 0 | FU21: =DataTransfer!CL16 -> 0 | FW21: =DataTransfer!CM16 -> 0 | FY21: =DataTransfer!CN16 -> 0 | GA21: =DataTransfer!CO16 -> 0 | GC21: =DataTransfer!CP16 -> 0 | GE21: =DataTransfer!CQ16 -> 0 | GG21: =DataTransfer!CR16 -> 0 | GI21: =DataTransfer!CS16 -> 0 | GK21: =DataTransfer!CT16 -> 0 | GM21: =DataTransfer!CU16 -> 0 | GO21: =DataTransfer!CV16 -> 0 | GQ21: =DataTransfer!CW16 -> 0 | GS21: =DataTransfer!CX16 -> 0 | GU21: =DataTransfer!CY16 -> 0
A22: =DataTransfer!A17 -> Income @ Entry (Income Documentation) | B22: =DataTransfer!B17 -> HoH and adults | C22: =DataTransfer!C17 -> 0 | E22: =DataTransfer!D17 -> 0 | G22: =DataTransfer!E17 -> 0 | I22: =DataTransfer!F17 -> 0 | K22: =DataTransfer!G17 -> 0 | M22: =DataTransfer!H17 -> 0 | O22: =DataTransfer!I17 -> 0 | Q22: =DataTransfer!J17 -> 0 | S22: =DataTransfer!K17 -> 0 | U22: =DataTransfer!L17 -> 0 | W22: =DataTransfer!M17 -> 0 | Y22: =DataTransfer!N17 -> 0 | AA22: =DataTransfer!O17 -> 0 | AC22: =DataTransfer!P17 -> 0 | AE22: =DataTransfer!Q17 -> 0 | AG22: =DataTransfer!R17 -> 0 | AI22: =DataTransfer!S17 -> 0 | AK22: =DataTransfer!T17 -> 0 | AM22: =DataTransfer!U17 -> 0 | AO22: =DataTransfer!V17 -> 0 | AQ22: =DataTransfer!W17 -> 0 | AS22: =DataTransfer!X17 -> 0 | AU22: =DataTransfer!Y17 -> 0 | AW22: =DataTransfer!Z17 -> 0 | AY22: =DataTransfer!AA17 -> 0 | BA22: =DataTransfer!AB17 -> 0 | BC22: =DataTransfer!AC17 -> 0 | BE22: =DataTransfer!AD17 -> 0 | BG22: =DataTransfer!AE17 -> 0 | BI22: =DataTransfer!AF17 -> 0 | BK22: =DataTransfer!AG17 -> 0 | BM22: =DataTransfer!AH17 -> 0 | BO22: =DataTransfer!AI17 -> 0 | BQ22: =DataTransfer!AJ17 -> 0 | BS22: =DataTransfer!AK17 -> 0 | BU22: =DataTransfer!AL17 -> 0 | BW22: =DataTransfer!AM17 -> 0 | BY22: =DataTransfer!AN17 -> 0 | CA22: =DataTransfer!AO17 -> 0 | CC22: =DataTransfer!AP17 -> 0 | CE22: =DataTransfer!AQ17 -> 0 | CG22: =DataTransfer!AR17 -> 0 | CI22: =DataTransfer!AS17 -> 0 | CK22: =DataTransfer!AT17 -> 0 | CM22: =DataTransfer!AU17 -> 0 | CO22: =DataTransfer!AV17 -> 0 | CQ22: =DataTransfer!AW17 -> 0 | CS22: =DataTransfer!AX17 -> 0 | CU22: =DataTransfer!AY17 -> 0 | CW22: =DataTransfer!AZ17 -> 0 | CY22: =DataTransfer!BA17 -> 0 | DA22: =DataTransfer!BB17 -> 0 | DC22: =DataTransfer!BC17 -> 0 | DE22: =DataTransfer!BD17 -> 0 | DG22: =DataTransfer!BE17 -> 0 | DI22: =DataTransfer!BF17 -> 0 | DK22: =DataTransfer!BG17 -> 0 | DM22: =DataTransfer!BH17 -> 0 | DO22: =DataTransfer!BI17 -> 0 | DQ22: =DataTransfer!BJ17 -> 0 | DS22: =DataTransfer!BK17 -> 0 | DU22: =DataTransfer!BL17 -> 0 | DW22: =DataTransfer!BM17 -> 0 | DY22: =DataTransfer!BN17 -> 0 | EA22: =DataTransfer!BO17 -> 0 | EC22: =DataTransfer!BP17 -> 0 | EE22: =DataTransfer!BQ17 -> 0 | EG22: =DataTransfer!BR17 -> 0 | EI22: =DataTransfer!BS17 -> 0 | EK22: =DataTransfer!BT17 -> 0 | EM22: =DataTransfer!BU17 -> 0 | EO22: =DataTransfer!BV17 -> 0 | EQ22: =DataTransfer!BW17 -> 0 | ES22: =DataTransfer!BX17 -> 0 | EU22: =DataTransfer!BY17 -> 0 | EW22: =DataTransfer!BZ17 -> 0 | EY22: =DataTransfer!CA17 -> 0 | FA22: =DataTransfer!CB17 -> 0 | FC22: =DataTransfer!CC17 -> 0 | FE22: =DataTransfer!CD17 -> 0 | FG22: =DataTransfer!CE17 -> 0 | FI22: =DataTransfer!CF17 -> 0 | FK22: =DataTransfer!CG17 -> 0 | FM22: =DataTransfer!CH17 -> 0 | FO22: =DataTransfer!CI17 -> 0 | FQ22: =DataTransfer!CJ17 -> 0 | FS22: =DataTransfer!CK17 -> 0 | FU22: =DataTransfer!CL17 -> 0 | FW22: =DataTransfer!CM17 -> 0 | FY22: =DataTransfer!CN17 -> 0 | GA22: =DataTransfer!CO17 -> 0 | GC22: =DataTransfer!CP17 -> 0 | GE22: =DataTransfer!CQ17 -> 0 | GG22: =DataTransfer!CR17 -> 0 | GI22: =DataTransfer!CS17 -> 0 | GK22: =DataTransfer!CT17 -> 0 | GM22: =DataTransfer!CU17 -> 0 | GO22: =DataTransfer!CV17 -> 0 | GQ22: =DataTransfer!CW17 -> 0 | GS22: =DataTransfer!CX17 -> 0 | GU22: =DataTransfer!CY17 -> 0
A23: =DataTransfer!A18 -> Disabling condition (DC) | B23: =DataTransfer!B18 -> All | C23: =DataTransfer!C18 -> 0 | E23: =DataTransfer!D18 -> 0 | G23: =DataTransfer!E18 -> 0 | I23: =DataTransfer!F18 -> 0 | K23: =DataTransfer!G18 -> 0 | M23: =DataTransfer!H18 -> 0 | O23: =DataTransfer!I18 -> 0 | Q23: =DataTransfer!J18 -> 0 | S23: =DataTransfer!K18 -> 0 | U23: =DataTransfer!L18 -> 0 | W23: =DataTransfer!M18 -> 0 | Y23: =DataTransfer!N18 -> 0 | AA23: =DataTransfer!O18 -> 0 | AC23: =DataTransfer!P18 -> 0 | AE23: =DataTransfer!Q18 -> 0 | AG23: =DataTransfer!R18 -> 0 | AI23: =DataTransfer!S18 -> 0 | AK23: =DataTransfer!T18 -> 0 | AM23: =DataTransfer!U18 -> 0 | AO23: =DataTransfer!V18 -> 0 | AQ23: =DataTransfer!W18 -> 0 | AS23: =DataTransfer!X18 -> 0 | AU23: =DataTransfer!Y18 -> 0 | AW23: =DataTransfer!Z18 -> 0 | AY23: =DataTransfer!AA18 -> 0 | BA23: =DataTransfer!AB18 -> 0 | BC23: =DataTransfer!AC18 -> 0 | BE23: =DataTransfer!AD18 -> 0 | BG23: =DataTransfer!AE18 -> 0 | BI23: =DataTransfer!AF18 -> 0 | BK23: =DataTransfer!AG18 -> 0 | BM23: =DataTransfer!AH18 -> 0 | BO23: =DataTransfer!AI18 -> 0 | BQ23: =DataTransfer!AJ18 -> 0 | BS23: =DataTransfer!AK18 -> 0 | BU23: =DataTransfer!AL18 -> 0 | BW23: =DataTransfer!AM18 -> 0 | BY23: =DataTransfer!AN18 -> 0 | CA23: =DataTransfer!AO18 -> 0 | CC23: =DataTransfer!AP18 -> 0 | CE23: =DataTransfer!AQ18 -> 0 | CG23: =DataTransfer!AR18 -> 0 | CI23: =DataTransfer!AS18 -> 0 | CK23: =DataTransfer!AT18 -> 0 | CM23: =DataTransfer!AU18 -> 0 | CO23: =DataTransfer!AV18 -> 0 | CQ23: =DataTransfer!AW18 -> 0 | CS23: =DataTransfer!AX18 -> 0 | CU23: =DataTransfer!AY18 -> 0 | CW23: =DataTransfer!AZ18 -> 0 | CY23: =DataTransfer!BA18 -> 0 | DA23: =DataTransfer!BB18 -> 0 | DC23: =DataTransfer!BC18 -> 0 | DE23: =DataTransfer!BD18 -> 0 | DG23: =DataTransfer!BE18 -> 0 | DI23: =DataTransfer!BF18 -> 0 | DK23: =DataTransfer!BG18 -> 0 | DM23: =DataTransfer!BH18 -> 0 | DO23: =DataTransfer!BI18 -> 0 | DQ23: =DataTransfer!BJ18 -> 0 | DS23: =DataTransfer!BK18 -> 0 | DU23: =DataTransfer!BL18 -> 0 | DW23: =DataTransfer!BM18 -> 0 | DY23: =DataTransfer!BN18 -> 0 | EA23: =DataTransfer!BO18 -> 0 | EC23: =DataTransfer!BP18 -> 0 | EE23: =DataTransfer!BQ18 -> 0 | EG23: =DataTransfer!BR18 -> 0 | EI23: =DataTransfer!BS18 -> 0 | EK23: =DataTransfer!BT18 -> 0 | EM23: =DataTransfer!BU18 -> 0 | EO23: =DataTransfer!BV18 -> 0 | EQ23: =DataTransfer!BW18 -> 0 | ES23: =DataTransfer!BX18 -> 0 | EU23: =DataTransfer!BY18 -> 0 | EW23: =DataTransfer!BZ18 -> 0 | EY23: =DataTransfer!CA18 -> 0 | FA23: =DataTransfer!CB18 -> 0 | FC23: =DataTransfer!CC18 -> 0 | FE23: =DataTransfer!CD18 -> 0 | FG23: =DataTransfer!CE18 -> 0 | FI23: =DataTransfer!CF18 -> 0 | FK23: =DataTransfer!CG18 -> 0 | FM23: =DataTransfer!CH18 -> 0 | FO23: =DataTransfer!CI18 -> 0 | FQ23: =DataTransfer!CJ18 -> 0 | FS23: =DataTransfer!CK18 -> 0 | FU23: =DataTransfer!CL18 -> 0 | FW23: =DataTransfer!CM18 -> 0 | FY23: =DataTransfer!CN18 -> 0 | GA23: =DataTransfer!CO18 -> 0 | GC23: =DataTransfer!CP18 -> 0 | GE23: =DataTransfer!CQ18 -> 0 | GG23: =DataTransfer!CR18 -> 0 | GI23: =DataTransfer!CS18 -> 0 | GK23: =DataTransfer!CT18 -> 0 | GM23: =DataTransfer!CU18 -> 0 | GO23: =DataTransfer!CV18 -> 0 | GQ23: =DataTransfer!CW18 -> 0 | GS23: =DataTransfer!CX18 -> 0 | GU23: =DataTransfer!CY18 -> 0
