Workbook

Sheet Reporting Period

Sheet Client list

Sheet First data pull

Sheet Second data pull

Sheet DataTransfer
A1: Data Acknowledgement Form | B1: -
A2: # | B2: -
A3: Clarity ID | B3: -
A4: ServicePoint ID | B4: -
A5: Household ID | B5: -
A6: Relationship to Head of Household (Reasonableness based on household composition) | B6: All
A7: First (Any - ID/BC/SSC/SSI/SSDI ) | B7: All
A8: Last (Any - ID/BC/SSC/SSI/SSDI) | B8: All
A9: Last 4 SSN (Any - SSC/SSI/SSDI) | B9: All
A10: DOB (Any - ID/BC) | B10: All
A11: Gender (Any - ID/BC) | B11: All
A12: Prior Living Situation (Program Eligibility) | B12: All
... A28: Notes | B28: -
A29: Score
A30: Total Point Pool
A31: Data Errors
A33: Adult Closed - 19
A34: Adult Annual - 18
A35: Adult Open - 14
A37: Child Closed - 11
A38: Child Annual - 10
A39: Child Open - 9

Sheet DataEntry
A1: Data Elements | B1: Applicable | C1: HMIS Information | D1: Compliant | E1: HMIS Information | F1: Compliant | G1: HMIS Information | H1: Compliant | I1: HMIS Information | J1: Compliant | K1: HMIS Information | L1: Compliant | M1: HMIS Information | N1: Compliant | O1: HMIS Information | P1: Compliant | Q1: HMIS Information | R1: Compliant | S1: HMIS Information | T1: Compliant | U1: HMIS Information | V1: Compliant | W1: HMIS Information | X1: Compliant | Y1: HMIS Information | Z1: Compliant | AA1: HMIS Information | AB1: Compliant | AC1: HMIS Information | AD1: Compliant | AE1: HMIS Information | AF1: Compliant | AG1: HMIS Information | AH1: Compliant | AI1: HMIS Information | AJ1: Compliant | AK1: HMIS Information | AL1: Compliant | AM1: HMIS Information | AN1: Compliant | AO1: HMIS Information | AP1: Compliant | AQ1: HMIS Information | AR1: Compliant | AS1: HMIS Information | AT1: Compliant | AU1: HMIS Information | AV1: Compliant | AW1: HMIS Information | AX1: Compliant | AY1: HMIS Information | AZ1: Compliant | BA1: HMIS Information | BB1: Compliant | BC1: HMIS Information | BD1: Compliant | BE1: HMIS Information | BF1: Compliant | BG1: HMIS Information | BH1: Compliant | BI1: HMIS Information | BJ1: Compliant | BK1: HMIS Information | BL1: Compliant | BM1: HMIS Information | BN1: Compliant | BO1: HMIS Information | BP1: Compliant | BQ1: HMIS Information | BR1: Compliant | BS1: HMIS Information | BT1: Compliant | BU1: HMIS Information | BV1: Compliant | BW1: HMIS Information | BX1: Compliant | BY1: HMIS Information | BZ1: Compliant | CA1: HMIS Information | CB1: Compliant | CC1: HMIS Information | CD1: Compliant | CE1: HMIS Information | CF1: Compliant | CG1: HMIS Information | CH1: Compliant | CI1: HMIS Information | CJ1: Compliant | CK1: HMIS Information | CL1: Compliant | CM1: HMIS Information | CN1: Compliant | CO1: HMIS Information | CP1: Compliant | CQ1: HMIS Information | CR1: Compliant | CS1: HMIS Information | CT1: Compliant | CU1: HMIS Information | CV1: Compliant | CW1: HMIS Information | CX1: Compliant | CY1: HMIS Information | CZ1: Compliant | DA1: HMIS Information | DB1: Compliant | DC1: HMIS Information | DD1: Compliant | DE1: HMIS Information | DF1: Compliant | DG1: HMIS Information | DH1: Compliant | DI1: HMIS Information | DJ1: Compliant | DK1: HMIS Information | DL1: Compliant | DM1: HMIS Information | DN1: Compliant | DO1: HMIS Information | DP1: Compliant | DQ1: HMIS Information | DR1: Compliant | DS1: HMIS Information | DT1: Compliant | DU1: HMIS Information | DV1: Compliant | DW1: HMIS Information | DX1: Compliant | DY1: HMIS Information | DZ1: Compliant | EA1: HMIS Information | EB1: Compliant | EC1: HMIS Information | ED1: Compliant | EE1: HMIS Information | EF1: Compliant | EG1: HMIS Information | EH1: Compliant | EI1: HMIS Information | EJ1: Compliant | EK1: HMIS Information | EL1: Compliant | EM1: HMIS Information | EN1: Compliant | EO1: HMIS Information | EP1: Compliant | EQ1: HMIS Information | ER1: Compliant | ES1: HMIS Information | ET1: Compliant | EU1: HMIS Information | EV1: Compliant | EW1: HMIS Information | EX1: Compliant | EY1: HMIS Information | EZ1: Compliant | FA1: HMIS Information | FB1: Compliant | FC1: HMIS Information | FD1: Compliant | FE1: HMIS Information | FF1: Compliant | FG1: HMIS Information | FH1: Compliant | FI1: HMIS Information | FJ1: Compliant | FK1: HMIS Information | FL1: Compliant | FM1: HMIS Information | FN1: Compliant | FO1: HMIS Information | FP1: Compliant | FQ1: HMIS Information | FR1: Compliant | FS1: HMIS Information | FT1: Compliant | FU1: HMIS Information | FV1: Compliant | FW1: HMIS Information | FX1: Compliant | FY1: HMIS Information | FZ1: Compliant | GA1: HMIS Information | GB1: Compliant | GC1: HMIS Information | GD1: Compliant | GE1: HMIS Information | GF1: Compliant | GG1: HMIS Information | GH1: Compliant | GI1: HMIS Information | GJ1: Compliant | GK1: HMIS Information | GL1: Compliant | GM1: HMIS Information | GN1: Compliant | GO1: HMIS Information | GP1: Compliant | GQ1: HMIS Information | GR1: Compliant | GS1: HMIS Information | GT1: Compliant | GU1: HMIS Information | GV1: Compliant
A3: # | B3: -
A4: Data Acknowledgement | B4: All | C4: Data Acknowledgement | E4: Data Acknowledgement | G4: Data Acknowledgement | I4: Data Acknowledgement | K4: Data Acknowledgement | M4: Data Acknowledgement | O4: Data Acknowledgement | Q4: Data Acknowledgement | S4: Data Acknowledgement | U4: Data Acknowledgement | W4: Data Acknowledgement | Y4: Data Acknowledgement | AA4: Data Acknowledgement | AC4: Data Acknowledgement | AE4: Data Acknowledgement | AG4: Data Acknowledgement | AI4: Data Acknowledgement | AK4: Data Acknowledgement | AM4: Data Acknowledgement | AO4: Data Acknowledgement | AQ4: Data Acknowledgement | AS4: Data Acknowledgement | AU4: Data Acknowledgement | AW4: Data Acknowledgement | AY4: Data Acknowledgement | BA4: Data Acknowledgement | BC4: Data Acknowledgement | BE4: Data Acknowledgement | BG4: Data Acknowledgement | BI4: Data Acknowledgement | BK4: Data Acknowledgement | BM4: Data Acknowledgement | BO4: Data Acknowledgement | BQ4: Data Acknowledgement | BS4: Data Acknowledgement | BU4: Data Acknowledgement | BW4: Data Acknowledgement | BY4: Data Acknowledgement | CA4: Data Acknowledgement | CC4: Data Acknowledgement | CE4: Data Acknowledgement | CG4: Data Acknowledgement | CI4: Data Acknowledgement | CK4: Data Acknowledgement | CM4: Data Acknowledgement | CO4: Data Acknowledgement | CQ4: Data Acknowledgement | CS4: Data Acknowledgement | CU4: Data Acknowledgement | CW4: Data Acknowledgement | CY4: Data Acknowledgement | DA4: Data Acknowledgement | DC4: Data Acknowledgement | DE4: Data Acknowledgement | DG4: Data Acknowledgement | DI4: Data Acknowledgement | DK4: Data Acknowledgement | DM4: Data Acknowledgement | DO4: Data Acknowledgement | DQ4: Data Acknowledgement | DS4: Data Acknowledgement | DU4: Data Acknowledgement | DW4: Data Acknowledgement | DY4: Data Acknowledgement | EA4: Data Acknowledgement | EC4: Data Acknowledgement | EE4: Data Acknowledgement | EG4: Data Acknowledgement | EI4: Data Acknowledgement | EK4: Data Acknowledgement | EM4: Data Acknowledgement | EO4: Data Acknowledgement | EQ4: Data Acknowledgement | ES4: Data Acknowledgement | EU4: Data Acknowledgement | EW4: Data Acknowledgement | EY4: Data Acknowledgement | FA4: Data Acknowledgement | FC4: Data Acknowledgement | FE4: Data Acknowledgement | FG4: Data Acknowledgement | FI4: Data Acknowledgement | FK4: Data Acknowledgement | FM4: Data Acknowledgement | FO4: Data Acknowledgement | FQ4: Data Acknowledgement | FS4: Data Acknowledgement | FU4: Data Acknowledgement | FW4: Data Acknowledgement | FY4: Data Acknowledgement | GA4: Data Acknowledgement | GC4: Data Acknowledgement | GE4: Data Acknowledgement | GG4: Data Acknowledgement | GI4: Data Acknowledgement | GK4: Data Acknowledgement | GM4: Data Acknowledgement | GO4: Data Acknowledgement | GQ4: Data Acknowledgement | GS4: Data Acknowledgement | GU4: Data Acknowledgement
A5: =DataTransfer!A3 -> Clarity ID | B5: =DataTransfer!B3 -> - | C5: =DataTransfer!C3 -> 0 | E5: =DataTransfer!D3 -> 0 | G5: =DataTransfer!E3 -> 0 | I5: =DataTransfer!F3 -> 0 | K5: =DataTransfer!G3 -> 0 | M5: =DataTransfer!H3 -> 0 | O5: =DataTransfer!I3 -> 0 | Q5: =DataTransfer!J3 -> 0 | S5: =DataTransfer!K3 -> 0 | U5: =DataTransfer!L3 -> 0 | W5: =DataTransfer!M3 -> 0 | Y5: =DataTransfer!N3 -> 0 | AA5: =DataTransfer!O3 -> 0 | AC5: =DataTransfer!P3 -> 0 | AE5: =DataTransfer!Q3 -> 0 | AG5: =DataTransfer!R3 -> 0 | AI5: =DataTransfer!S3 -> 0 | AK5: =DataTransfer!T3 -> 0 | AM5: =DataTransfer!U3 -> 0 | AO5: =DataTransfer!V3 -> 0 | AQ5: =DataTransfer!W3 -> 0 | AS5: =DataTransfer!X3 -> 0 | AU5: =DataTransfer!Y3 -> 0 | AW5: =DataTransfer!Z3 -> 0 | AY5: =DataTransfer!AA3 -> 0 | BA5: =DataTransfer!AB3 -> 0 | BC5: =DataTransfer!AC3 -> 0 | BE5: =DataTransfer!AD3 -> 0 | BG5: =DataTransfer!AE3 -> 0 | BI5: =DataTransfer!AF3 -> 0 | BK5: =DataTransfer!AG3 -> 0 | BM5: =DataTransfer!AH3 -> 0 | BO5: =DataTransfer!AI3 -> 0 | BQ5: =DataTransfer!AJ3 -> 0 | BS5: =DataTransfer!AK3 -> 0 | BU5: =DataTransfer!AL3 -> 0 | BW5: =DataTransfer!AM3 -> 0 | BY5: =DataTransfer!AN3 -> 0 | CA5: =DataTransfer!AO3 -> 0 | CC5: =DataTransfer!AP3 -> 0 | CE5: =DataTransfer!AQ3 -> 0 | CG5: =DataTransfer!AR3 -> 0 | CI5: =DataTransfer!AS3 -> 0 | CK5: =DataTransfer!AT3 -> 0 | CM5: =DataTransfer!AU3 -> 0 | CO5: =DataTransfer!AV3 -> 0 | CQ5: =DataTransfer!AW3 -> 0 | CS5: =DataTransfer!AX3 -> 0 | CU5: =DataTransfer!AY3 -> 0 | CW5: =DataTransfer!AZ3 -> 0 | CY5: =DataTransfer!BA3 -> 0 | DA5: =DataTransfer!BB3 -> 0 | DC5: =DataTransfer!BC3 -> 0 | DE5: =DataTransfer!BD3 -> 0 | DG5: =DataTransfer!BE3 -> 0 | DI5: =DataTransfer!BF3 -> 0 | DK5: =DataTransfer!BG3 -> 0 | DM5: =DataTransfer!BH3 -> 0 | DO5: =DataTransfer!BI3 -> 0 | DQ5: =DataTransfer!BJ3 -> 0 | DS5: =DataTransfer!BK3 -> 0 | DU5: =DataTransfer!BL3 -> 0 | DW5: =DataTransfer!BM3 -> 0 | DY5: =DataTransfer!BN3 -> 0 | EA5: =DataTransfer!BO3 -> 0 | EC5: =DataTransfer!BP3 -> 0 | EE5: =DataTransfer!BQ3 -> 0 | EG5: =DataTransfer!BR3 -> 0 | EI5: =DataTransfer!BS3 -> 0 | EK5: =DataTransfer!BT3 -> 0 | EM5: =DataTransfer!BU3 -> 0 | EO5: =DataTransfer!BV3 -> 0 | EQ5: =DataTransfer!BW3 -> 0 | ES5: =DataTransfer!BX3 -> 0 | EU5: =DataTransfer!BY3 -> 0 | EW5: =DataTransfer!BZ3 -> 0 | EY5: =DataTransfer!CA3 -> 0 | FA5: =DataTransfer!CB3 -> 0 | FC5: =DataTransfer!CC3 -> 0 | FE5: =DataTransfer!CD3 -> 0 | FG5: =DataTransfer!CE3 -> 0 | FI5: =DataTransfer!CF3 -> 0 | FK5: =DataTransfer!CG3 -> 0 | FM5: =DataTransfer!CH3 -> 0 | FO5: =DataTransfer!CI3 -> 0 | FQ5: =DataTransfer!CJ3 -> 0 | FS5: =DataTransfer!CK3 -> 0 | FU5: =DataTransfer!CL3 -> 0 | FW5: =DataTransfer!CM3 -> 0 | FY5: =DataTransfer!CN3 -> 0 | GA5: =DataTransfer!CO3 -> 0 | GC5: =DataTransfer!CP3 -> 0 | GE5: =DataTransfer!CQ3 -> 0 | GG5: =DataTransfer!CR3 -> 0 | GI5: =DataTransfer!CS3 -> 0 | GK5: =DataTransfer!CT3 -> 0 | GM5: =DataTransfer!CU3 -> 0 | GO5: =DataTransfer!CV3 -> 0 | GQ5: =DataTransfer!CW3 -> 0 | GS5: =DataTransfer!CX3 -> 0 | GU5: =DataTransfer!CY3 -> 0
A6: =DataTransfer!A4 -> ServicePoint ID | B6: =DataTransfer!B4 -> - | C6: =DataTransfer!C4 -> 0 | E6: =DataTransfer!D4 -> 0 | G6: =DataTransfer!E4 -> 0 | I6: =DataTransfer!F4 -> 0 | K6: =DataTransfer!G4 -> 0 | M6: =DataTransfer!H4 -> 0 | O6: =DataTransfer!I4 -> 0 | Q6: =DataTransfer!J4 -> 0 | S6: =DataTransfer!K4 -> 0 | U6: =DataTransfer!L4 -> 0 | W6: =DataTransfer!M4 -> 0 | Y6: =DataTransfer!N4 -> 0 | AA6: =DataTransfer!O4 -> 0 | AC6: =DataTransfer!P4 -> 0 | AE6: =DataTransfer!Q4 -> 0 | AG6: =DataTransfer!R4 -> 0 | AI6: =DataTransfer!S4 -> 0 | AK6: =DataTransfer!T4 -> 0 | AM6: =DataTransfer!U4 -> 0 | AO6: =DataTransfer!V4 -> 0 | AQ6: =DataTransfer!W4 -> 0 | AS6: =DataTransfer!X4 -> 0 | AU6: =DataTransfer!Y4 -> 0 | AW6: =DataTransfer!Z4 -> 0 | AY6: =DataTransfer!AA4 -> 0 | BA6: =DataTransfer!AB4 -> 0 | BC6: =DataTransfer!AC4 -> 0 | BE6: =DataTransfer!AD4 -> 0 | BG6: =DataTransfer!AE4 -> 0 | BI6: =DataTransfer!AF4 -> 0 | BK6: =DataTransfer!AG4 -> 0 | BM6: =DataTransfer!AH4 -> 0 | BO6: =DataTransfer!AI4 -> 0 | BQ6: =DataTransfer!AJ4 -> 0 | BS6: =DataTransfer!AK4 -> 0 | BU6: =DataTransfer!AL4 -> 0 | BW6: =DataTransfer!AM4 -> 0 | BY6: =DataTransfer!AN4 -> 0 | CA6: =DataTransfer!AO4 -> 0 | CC6: =DataTransfer!AP4 -> 0 | CE6: =DataTransfer!AQ4 -> 0 | CG6: =DataTransfer!AR4 -> 0 | CI6: =DataTransfer!AS4 -> 0 | CK6: =DataTransfer!AT4 -> 0 | CM6: =DataTransfer!AU4 -> 0 | CO6: =DataTransfer!AV4 -> 0 | CQ6: =DataTransfer!AW4 -> 0 | CS6: =DataTransfer!AX4 -> 0 | CU6: =DataTransfer!AY4 -> 0 | CW6: =DataTransfer!AZ4 -> 0 | CY6: =DataTransfer!BA4 -> 0 | DA6: =DataTransfer!BB4 -> 0 | DC6: =DataTransfer!BC4 -> 0 | DE6: =DataTransfer!BD4 -> 0 | DG6: =DataTransfer!BE4 -> 0 | DI6: =DataTransfer!BF4 -> 0 | DK6: =DataTransfer!BG4 -> 0 | DM6: =DataTransfer!BH4 -> 0 | DO6: =DataTransfer!BI4 -> 0 | DQ6: =DataTransfer!BJ4 -> 0 | DS6: =DataTransfer!BK4 -> 0 | DU6: =DataTransfer!BL4 -> 0 | DW6: =DataTransfer!BM4 -> 0 | DY6: =DataTransfer!BN4 -> 0 | EA6: =DataTransfer!BO4 -> 0 | EC6: =DataTransfer!BP4 -> 0 | EE6: =DataTransfer!BQ4 -> 0 | EG6: =DataTransfer!BR4 -> 0 | EI6: =DataTransfer!BS4 -> 0 | EK6: =DataTransfer!BT4 -> 0 | EM6: =DataTransfer!BU4 -> 0 | EO6: =DataTransfer!BV4 -> 0 | EQ6: =DataTransfer!BW4 -> 0 | ES6: =DataTransfer!BX4 -> 0 | EU6: =DataTransfer!BY4 -> 0 | EW6: =DataTransfer!BZ4 -> 0 | EY6: =DataTransfer!CA4 -> 0 | FA6: =DataTransfer!CB4 -> 0 | FC6: =DataTransfer!CC4 -> 0 | FE6: =DataTransfer!CD4 -> 0 | FG6: =DataTransfer!CE4 -> 0 | FI6: =DataTransfer!CF4 -> 0 | FK6: =DataTransfer!CG4 -> 0 | FM6: =DataTransfer!CH4 -> 0 | FO6: =DataTransfer!CI4 -> 0 | FQ6: =DataTransfer!CJ4 -> 0 | FS6: =DataTransfer!CK4 -> 0 | FU6: =DataTransfer!CL4 -> 0 | FW6: =DataTransfer!CM4 -> 0 | FY6: =DataTransfer!CN4 -> 0 | GA6: =DataTransfer!CO4 -> 0 | GC6: =DataTransfer!CP4 -> 0 | GE6: =DataTransfer!CQ4 -> 0 | GG6: =DataTransfer!CR4 -> 0 | GI6: =DataTransfer!CS4 -> 0 | GK6: =DataTransfer!CT4 -> 0 | GM6: =DataTransfer!CU4 -> 0 | GO6: =DataTransfer!CV4 -> 0 | GQ6: =DataTransfer!CW4 -> 0 | GS6: =DataTransfer!CX4 -> 0 | GU6: =DataTransfer!CY4 -> 0
A7: =DataTransfer!A5 -> Household ID | B7: =DataTransfer!B5 -> - | C7: =DataTransfer!C5 -> 0 | E7: =DataTransfer!D5 -> 0 | G7: =DataTransfer!E5 -> 0 | I7: =DataTransfer!F5 -> 0 | K7: =DataTransfer!G5 -> 0 | M7: =DataTransfer!H5 -> 0 | O7: =DataTransfer!I5 -> 0 | Q7: =DataTransfer!J5 -> 0 | S7: =DataTransfer!K5 -> 0 | U7: =DataTransfer!L5 -> 0 | W7: =DataTransfer!M5 -> 0 | Y7: =DataTransfer!N5 -> 0 | AA7: =DataTransfer!O5 -> 0 | AC7: =DataTransfer!P5 -> 0 | AE7: =DataTransfer!Q5 -> 0 | AG7: =DataTransfer!R5 -> 0 | AI7: =DataTransfer!S5 -> 0 | AK7: =DataTransfer!T5 -> 0 | AM7: =DataTransfer!U5 -> 0 | AO7: =DataTransfer!V5 -> 0 | AQ7: =DataTransfer!W5 -> 0 | AS7: =DataTransfer!X5 -> 0 | AU7: =DataTransfer!Y5 -> 0 | AW7: =DataTransfer!Z5 -> 0 | AY7: =DataTransfer!AA5 -> 0 | BA7: =DataTransfer!AB5 -> 0 | BC7: =DataTransfer!AC5 -> 0 | BE7: =DataTransfer!AD5 -> 0 | BG7: =DataTransfer!AE5 -> 0 | BI7: =DataTransfer!AF5 -> 0 | BK7: =DataTransfer!AG5 -> 0 | BM7: =DataTransfer!AH5 -> 0 | BO7: =DataTransfer!AI5 -> 0 | BQ7: =DataTransfer!AJ5 -> 0 | BS7: =DataTransfer!AK5 -> 0 | BU7: =DataTransfer!AL5 -> 0 | BW7: =DataTransfer!AM5 -> 0 | BY7: =DataTransfer!AN5 -> 0 | CA7: =DataTransfer!AO5 -> 0 | CC7: =DataTransfer!AP5 -> 0 | CE7: =DataTransfer!AQ5 -> 0 | CG7: =DataTransfer!AR5 -> 0 | CI7: =DataTransfer!AS5 -> 0 | CK7: =DataTransfer!AT5 -> 0 | CM7: =DataTransfer!AU5 -> 0 | CO7: =DataTransfer!AV5 -> 0 | CQ7: =DataTransfer!AW5 -> 0 | CS7: =DataTransfer!AX5 -> 0 | CU7: =DataTransfer!AY5 -> 0 | CW7: =DataTransfer!AZ5 -> 0 | CY7: =DataTransfer!BA5 -> 0 | DA7: =DataTransfer!BB5 -> 0 | DC7: =DataTransfer!BC5 -> 0 | DE7: =DataTransfer!BD5 -> 0 | DG7: =DataTransfer!BE5 -> 0 | DI7: =DataTransfer!BF5 -> 0 | DK7: =DataTransfer!BG5 -> 0 | DM7: =DataTransfer!BH5 -> 0 | DO7: =DataTransfer!BI5 -> 0 | DQ7: =DataTransfer!BJ5 -> 0 | DS7: =DataTransfer!BK5 -> 0 | DU7: =DataTransfer!BL5 -> 0 | DW7: =DataTransfer!BM5 -> 0 | DY7: =DataTransfer!BN5 -> 0 | EA7: =DataTransfer!BO5 -> 0 | EC7: =DataTransfer!BP5 -> 0 | EE7: =DataTransfer!BQ5 -> 0 | EG7: =DataTransfer!BR5 -> 0 | EI7: =DataTransfer!BS5 -> 0 | EK7: =DataTransfer!BT5 -> 0 | EM7: =DataTransfer!BU5 -> 0 | EO7: =DataTransfer!BV5 -> 0 | EQ7: =DataTransfer!BW5 -> 0 | ES7: =DataTransfer!BX5 -> 0 | EU7: =DataTransfer!BY5 -> 0 | EW7: =DataTransfer!BZ5 -> 0 | EY7: =DataTransfer!CA5 -> 0 | FA7: =DataTransfer!CB5 -> 0 | FC7: =DataTransfer!CC5 -> 0 | FE7: =DataTransfer!CD5 -> 0 | FG7: =DataTransfer!CE5 -> 0 | FI7: =DataTransfer!CF5 -> 0 | FK7: =DataTransfer!CG5 -> 0 | FM7: =DataTransfer!CH5 -> 0 | FO7: =DataTransfer!CI5 -> 0 | FQ7: =DataTransfer!CJ5 -> 0 | FS7: =DataTransfer!CK5 -> 0 | FU7: =DataTransfer!CL5 -> 0 | FW7: =DataTransfer!CM5 -> 0 | FY7: =DataTransfer!CN5 -> 0 | GA7: =DataTransfer!CO5 -> 0 | GC7: =DataTransfer!CP5 -> 0 | GE7: =DataTransfer!CQ5 -> 0 | GG7: =DataTransfer!CR5 -> 0 | GI7: =DataTransfer!CS5 -> 0 | GK7: =DataTransfer!CT5 -> 0 | GM7: =DataTransfer!CU5 -> 0 | GO7: =DataTransfer!CV5 -> 0 | GQ7: =DataTransfer!CW5 -> 0 | GS7: =DataTransfer!CX5 -> 0 | GU7: =DataTransfer!CY5 -> 0
A9: =DataTransfer!A6 -> Relationship to Head of Household (Reasonableness based on household composition) | B9: =DataTransfer!B6 -> All | C9: =DataTransfer!C6 -> 0 | E9: =DataTransfer!D6 -> 0 | G9: =DataTransfer!E6 -> 0 | I9: =DataTransfer!F6 -> 0 | K9: =DataTransfer!G6 -> 0 | M9: =DataTransfer!H6 -> 0 | O9: =DataTransfer!I6 -> 0 | Q9: =DataTransfer!J6 -> 0 | S9: =DataTransfer!K6 -> 0 | U9: =DataTransfer!L6 -> 0 | W9: =DataTransfer!M6 -> 0 | Y9: =DataTransfer!N6 -> 0 | AA9: =DataTransfer!O6 -> 0 | AC9: =DataTransfer!P6 -> 0 | AE9: =DataTransfer!Q6 -> 0 | AG9: =DataTransfer!R6 -> 0 | AI9: =DataTransfer!S6 -> 0 | AK9: =DataTransfer!T6 -> 0 | AM9: =DataTransfer!U6 -> 0 | AO9: =DataTransfer!V6 -> 0 | AQ9: =DataTransfer!W6 -> 0 | AS9: =DataTransfer!X6 -> 0 | AU9: =DataTransfer!Y6 -> 0 | AW9: =DataTransfer!Z6 -> 0 | AY9: =DataTransfer!AA6 -> 0 | BA9: =DataTransfer!AB6 -> 0 | BC9: =DataTransfer!AC6 -> 0 | BE9: =DataTransfer!AD6 -> 0 | BG9: =DataTransfer!AE6 -> 0 | BI9: =DataTransfer!AF6 -> 0 | BK9: =DataTransfer!AG6 -> 0 | BM9: =DataTransfer!AH6 -> 0 | BO9: =DataTransfer!AI6 -> 0 | BQ9: =DataTransfer!AJ6 -> 0 | BS9: =DataTransfer!AK6 -> 0 | BU9: =DataTransfer!AL6 -> 0 | BW9: =DataTransfer!AM6 -> 0 | BY9: =DataTransfer!AN6 -> 0 | CA9: =DataTransfer!AO6 -> 0 | CC9: =DataTransfer!AP6 -> 0 | CE9: =DataTransfer!AQ6 -> 0 | CG9: =DataTransfer!AR6 -> 0 | CI9: =DataTransfer!AS6 -> 0 | CK9: =DataTransfer!AT6 -> 0 | CM9: =DataTransfer!AU6 -> 0 | CO9: =DataTransfer!AV6 -> 0 | CQ9: =DataTransfer!AW6 -> 0 | CS9: =DataTransfer!AX6 -> 0 | CU9: =DataTransfer!AY6 -> 0 | CW9: =DataTransfer!AZ6 -> 0 | CY9: =DataTransfer!BA6 -> 0 | DA9: =DataTransfer!BB6 -> 0 | DC9: =DataTransfer!BC6 -> 0 | DE9: =DataTransfer!BD6 -> 0 | DG9: =DataTransfer!BE6 -> 0 | DI9: =DataTransfer!BF6 -> 0 | DK9: =DataTransfer!BG6 -> 0 | DM9: =DataTransfer!BH6 -> 0 | DO9: =DataTransfer!BI6 -> 0 | DQ9: =DataTransfer!BJ6 -> 0 | DS9: =DataTransfer!BK6 -> 0 | DU9: =DataTransfer!BL6 -> 0 | DW9: =DataTransfer!BM6 -> 0 | DY9: =DataTransfer!BN6 -> 0 | EA9: =DataTransfer!BO6 -> 0 | EC9: =DataTransfer!BP6 -> 0 | EE9: =DataTransfer!BQ6 -> 0 | EG9: =DataTransfer!BR6 -> 0 | EI9: =DataTransfer!BS6 -> 0 | EK9: =DataTransfer!BT6 -> 0 | EM9: =DataTransfer!BU6 -> 0 | EO9: =DataTransfer!BV6 -> 0 | EQ9: =DataTransfer!BW6 -> 0 | ES9: =DataTransfer!BX6 -> 0 | EU9: =DataTransfer!BY6 -> 0 | EW9: =DataTransfer!BZ6 -> 0 | EY9: =DataTransfer!CA6 -> 0 | FA9: =DataTransfer!CB6 -> 0 | FC9: =DataTransfer!CC6 -> 0 | FE9: =DataTransfer!CD6 -> 0 | FG9: =DataTransfer!CE6 -> 0 | FI9: =DataTransfer!CF6 -> 0 | FK9: =DataTransfer!CG6 -> 0 | FM9: =DataTransfer!CH6 -> 0 | FO9: =DataTransfer!CI6 -> 0 | FQ9: =DataTransfer!CJ6 -> 0 | FS9: =DataTransfer!CK6 -> 0 | FU9: =DataTransfer!CL6 -> 0 | FW9: =DataTransfer!CM6 -> 0 | FY9: =DataTransfer!CN6 -> 0 | GA9: =DataTransfer!CO6 -> 0 | GC9: =DataTransfer!CP6 -> 0 | GE9: =DataTransfer!CQ6 -> 0 | GG9: =DataTransfer!CR6 -> 0 | GI9: =DataTransfer!CS6 -> 0 | GK9: =DataTransfer!CT6 -> 0 | GM9: =DataTransfer!CU6 -> 0 | GO9: =DataTransfer!CV6 -> 0 | GQ9: =DataTransfer!CW6 -> 0 | GS9: =DataTransfer!CX6 -> 0 | GU9: =DataTransfer!CY6 -> 0
A10: =DataTransfer!A7 -> First (Any - ID/BC/SSC/SSI/SSDI ) | B10: =DataTransfer!B7 -> All | C10: =DataTransfer!C7 -> 0 | E10: =DataTransfer!D7 -> 0 | G10: =DataTransfer!E7 -> 0 | I10: =DataTransfer!F7 -> 0 | K10: =DataTransfer!G7 -> 0 | M10: =DataTransfer!H7 -> 0 | O10: =DataTransfer!I7 -> 0 | Q10: =DataTransfer!J7 -> 0 | S10: =DataTransfer!K7 -> 0 | U10: =DataTransfer!L7 -> 0 | W10: =DataTransfer!M7 -> 0 | Y10: =DataTransfer!N7 -> 0 | AA10: =DataTransfer!O7 -> 0 | AC10: =DataTransfer!P7 -> 0 | AE10: =DataTransfer!Q7 -> 0 | AG10: =DataTransfer!R7 -> 0 | AI10: =DataTransfer!S7 -> 0 | AK10: =DataTransfer!T7 -> 0 | AM10: =DataTransfer!U7 -> 0 | AO10: =DataTransfer!V7 -> 0 | AQ10: =DataTransfer!W7 -> 0 | AS10: =DataTransfer!X7 -> 0 | AU10: =DataTransfer!Y7 -> 0 | AW10: =DataTransfer!Z7 -> 0 | AY10: =DataTransfer!AA7 -> 0 | BA10: =DataTransfer!AB7 -> 0 | BC10: =DataTransfer!AC7 -> 0 | BE10: =DataTransfer!AD7 -> 0 | BG10: =DataTransfer!AE7 -> 0 | BI10: =DataTransfer!AF7 -> 0 | BK10: =DataTransfer!AG7 -> 0 | BM10: =DataTransfer!AH7 -> 0 | BO10: =DataTransfer!AI7 -> 0 | BQ10: =DataTransfer!AJ7 -> 0 | BS10: =DataTransfer!AK7 -> 0 | BU10: =DataTransfer!AL7 -> 0 | BW10: =DataTransfer!AM7 -> 0 | BY10: =DataTransfer!AN7 -> 0 | CA10: =DataTransfer!AO7 -> 0 | CC10: =DataTransfer!AP7 -> 0 | CE10: =DataTransfer!AQ7 -> 0 | CG10: =DataTransfer!AR7 -> 0 | CI10: =DataTransfer!AS7 -> 0 | CK10: =DataTransfer!AT7 -> 0 | CM10: =DataTransfer!AU7 -> 0 | CO10: =DataTransfer!AV7 -> 0 | CQ10: =DataTransfer!AW7 -> 0 | CS10: =DataTransfer!AX7 -> 0 | CU10: =DataTransfer!AY7 -> 0 | CW10: =DataTransfer!AZ7 -> 0 | CY10: =DataTransfer!BA7 -> 0 | DA10: =DataTransfer!BB7 -> 0 | DC10: =DataTransfer!BC7 -> 0 | DE10: =DataTransfer!BD7 -> 0 | DG10: =DataTransfer!BE7 -> 0 | DI10: =DataTransfer!BF7 -> 0 | DK10: =DataTransfer!BG7 -> 0 | DM10: =DataTransfer!BH7 -> 0 | DO10: =DataTransfer!BI7 -> 0 | DQ10: =DataTransfer!BJ7 -> 0 | DS10: =DataTransfer!BK7 -> 0 | DU10: =DataTransfer!BL7 -> 0 | DW10: =DataTransfer!BM7 -> 0 | DY10: =DataTransfer!BN7 -> 0 | EA10: =DataTransfer!BO7 -> 0 | EC10: =DataTransfer!BP7 -> 0 | EE10: =DataTransfer!BQ7 -> 0 | EG10: =DataTransfer!BR7 -> 0 | EI10: =DataTransfer!BS7 -> 0 | EK10: =DataTransfer!BT7 -> 0 | EM10: =DataTransfer!BU7 -> 0 | EO10: =DataTransfer!BV7 -> 0 | EQ10: =DataTransfer!BW7 -> 0 | ES10: =DataTransfer!BX7 -> 0 | EU10: =DataTransfer!BY7 -> 0 | EW10: =DataTransfer!BZ7 -> 0 | EY10: =DataTransfer!CA7 -> 0 | FA10: =DataTransfer!CB7 -> 0 | FC10: =DataTransfer!CC7 -> 0 | FE10: =DataTransfer!CD7 -> 0 | FG10: =DataTransfer!CE7 -> 0 | FI10: =DataTransfer!CF7 -> 0 | FK10: =DataTransfer!CG7 -> 0 | FM10: =DataTransfer!CH7 -> 0 | FO10: =DataTransfer!CI7 -> 0 | FQ10: =DataTransfer!CJ7 -> 0 | FS10: =DataTransfer!CK7 -> 0 | FU10: =DataTransfer!CL7 -> 0 | FW10: =DataTransfer!CM7 -> 0 | FY10: =DataTransfer!CN7 -> 0 | GA10: =DataTransfer!CO7 -> 0 | GC10: =DataTransfer!CP7 -> 0 | GE10: =DataTransfer!CQ7 -> 0 | GG10: =DataTransfer!CR7 -> 0 | GI10: =DataTransfer!CS7 -> 0 | GK10: =DataTransfer!CT7 -> 0 | GM10: =DataTransfer!CU7 -> 0 | GO10: =DataTransfer!CV7 -> 0 | GQ10: =DataTransfer!CW7 -> 0 | GS10: =DataTransfer!CX7 -> 0 | GU10: =DataTransfer!CY7 -> 0
A11: =DataTransfer!A8 -> Last (Any - ID/BC/SSC/SSI/SSDI) | B11: =DataTransfer!B8 -> All | C11: =DataTransfer!C8 -> 0 | E11: =DataTransfer!D8 -> 0 | G11: =DataTransfer!E8 -> 0 | I11: =DataTransfer!F8 -> 0 | K11: =DataTransfer!G8 -> 0 | M11: =DataTransfer!H8 -> 0 | O11: =DataTransfer!I8 -> 0 | Q11: =DataTransfer!J8 -> 0 | S11: =DataTransfer!K8 -> 0 | U11: =DataTransfer!L8 -> 0 | W11: =DataTransfer!M8 -> 0 | Y11: =DataTransfer!N8 -> 0 | AA11: =DataTransfer!O8 -> 0 | AC11: =DataTransfer!P8 -> 0 | AE11: =DataTransfer!Q8 -> 0 | AG11: =DataTransfer!R8 -> 0 | AI11: =DataTransfer!S8 -> 0 | AK11: =DataTransfer!T8 -> 0 | AM11: =DataTransfer!U8 -> 0 | AO11: =DataTransfer!V8 -> 0 | AQ11: =DataTransfer!W8 -> 0 | AS11: =DataTransfer!X8 -> 0 | AU11: =DataTransfer!Y8 -> 0 | AW11: =DataTransfer!Z8 -> 0 | AY11: =DataTransfer!AA8 -> 0 | BA11: =DataTransfer!AB8 -> 0 | BC11: =DataTransfer!AC8 -> 0 | BE11: =DataTransfer!AD8 -> 0 | BG11: =DataTransfer!AE8 -> 0 | BI11: =DataTransfer!AF8 -> 0 | BK11: =DataTransfer!AG8 -> 0 | BM11: =DataTransfer!AH8 -> 0 | BO11: =DataTransfer!AI8 -> 0 | BQ11: =DataTransfer!AJ8 -> 0 | BS11: =DataTransfer!AK8 -> 0 | BU11: =DataTransfer!AL8 -> 0 | BW11: =DataTransfer!AM8 -> 0 | BY11: =DataTransfer!AN8 -> 0 | CA11: =DataTransfer!AO8 -> 0 | CC11: =DataTransfer!AP8 -> 0 | CE11: =DataTransfer!AQ8 -> 0 | CG11: =DataTransfer!AR8 -> 0 | CI11: =DataTransfer!AS8 -> 0 | CK11: =DataTransfer!AT8 -> 0 | CM11: =DataTransfer!AU8 -> 0 | CO11: =DataTransfer!AV8 -> 0 | CQ11: =DataTransfer!AW8 -> 0 | CS11: =DataTransfer!AX8 -> 0 | CU11: =DataTransfer!AY8 -> 0 | CW11: =DataTransfer!AZ8 -> 0 | CY11: =DataTransfer!BA8 -> 0 | DA11: =DataTransfer!BB8 -> 0 | DC11: =DataTransfer!BC8 -> 0 | DE11: =DataTransfer!BD8 -> 0 | DG11: =DataTransfer!BE8 -> 0 | DI11: =DataTransfer!BF8 -> 0 | DK11: =DataTransfer!BG8 -> 0 | DM11: =DataTransfer!BH8 -> 0 | DO11: =DataTransfer!BI8 -> 0 | DQ11: =DataTransfer!BJ8 -> 0 | DS11: =DataTransfer!BK8 -> 0 | DU11: =DataTransfer!BL8 -> 0 | DW11: =DataTransfer!BM8 -> 0 | DY11: =DataTransfer!BN8 -> 0 | EA11: =DataTransfer!BO8 -> 0 | EC11: =DataTransfer!BP8 -> 0 | EE11: =DataTransfer!BQ8 -> 0 | EG11: =DataTransfer!BR8 -> 0 | EI11: =DataTransfer!BS8 -> 0 | EK11: =DataTransfer!BT8 -> 0 | EM11: =DataTransfer!BU8 -> 0 | EO11: =DataTransfer!BV8 -> 0 | EQ11: =DataTransfer!BW8 -> 0 | ES11: =DataTransfer!BX8 -> 0 | EU11: =DataTransfer!BY8 -> 0 | EW11: =DataTransfer!BZ8 -> 0 | EY11: =DataTransfer!CA8 -> 0 | FA11: =DataTransfer!CB8 -> 0 | FC11: =DataTransfer!CC8 -> 0 | FE11: =DataTransfer!CD8 -> 0 | FG11: =DataTransfer!CE8 -> 0 | FI11: =DataTransfer!CF8 -> 0 | FK11: =DataTransfer!CG8 -> 0 | FM11: =DataTransfer!CH8 -> 0 | FO11: =DataTransfer!CI8 -> 0 | FQ11: =DataTransfer!CJ8 -> 0 | FS11: =DataTransfer!CK8 -> 0 | FU11: =DataTransfer!CL8 -> 0 | FW11: =DataTransfer!CM8 -> 0 | FY11: =DataTransfer!CN8 -> 0 | GA11: =DataTransfer!CO8 -> 0 | GC11: =DataTransfer!CP8 -> 0 | GE11: =DataTransfer!CQ8 -> 0 | GG11: =DataTransfer!CR8 -> 0 | GI11: =DataTransfer!CS8 -> 0 | GK11: =DataTransfer!CT8 -> 0 | GM11: =DataTransfer!CU8 -> 0 | GO11: =DataTransfer!CV8 -> 0 | GQ11: =DataTransfer!CW8 -> 0 | GS11: =DataTransfer!CX8 -> 0 | GU11: =DataTransfer!CY8 -> 0
A12: =DataTransfer!A9 -> Last 4 SSN (Any - SSC/SSI/SSDI) | B12: =DataTransfer!B9 -> All | C12: =DataTransfer!C9 -> 0 | E12: =DataTransfer!D9 -> 0 | G12: =DataTransfer!E9 -> 0 | I12: =DataTransfer!F9 -> 0 | K12: =DataTransfer!G9 -> 0 | M12: =DataTransfer!H9 -> 0 | O12: =DataTransfer!I9 -> 0 | Q12: =DataTransfer!J9 -> 0 | S12: =DataTransfer!K9 -> 0 | U12: =DataTransfer!L9 -> 0 | W12: =DataTransfer!M9 -> 0 | Y12: =DataTransfer!N9 -> 0 | AA12: =DataTransfer!O9 -> 0 | AC12: =DataTransfer!P9 -> 0 | AE12: =DataTransfer!Q9 -> 0 | AG12: =DataTransfer!R9 -> 0 | AI12: =DataTransfer!S9 -> 0 | AK12: =DataTransfer!T9 -> 0 | AM12: =DataTransfer!U9 -> 0 | AO12: =DataTransfer!V9 -> 0 | AQ12: =DataTransfer!W9 -> 0 | AS12: =DataTransfer!X9 -> 0 | AU12: =DataTransfer!Y9 -> 0 | AW12: =DataTransfer!Z9 -> 0 | AY12: =DataTransfer!AA9 -> 0 | BA12: =DataTransfer!AB9 -> 0 | BC12: =DataTransfer!AC9 -> 0 | BE12: =DataTransfer!AD9 -> 0 | BG12: =DataTransfer!AE9 -> 0 | BI12: =DataTransfer!AF9 -> 0 | BK12: =DataTransfer!AG9 -> 0 | BM12: =DataTransfer!AH9 -> 0 | BO12: =DataTransfer!AI9 -> 0 | BQ12: =DataTransfer!AJ9 -> 0 | BS12: =DataTransfer!AK9 -> 0 | BU12: =DataTransfer!AL9 -> 0 | BW12: =DataTransfer!AM9 -> 0 | BY12: =DataTransfer!AN9 -> 0 | CA12: =DataTransfer!AO9 -> 0 | CC12: =DataTransfer!AP9 -> 0 | CE12: =DataTransfer!AQ9 -> 0 | CG12: =DataTransfer!AR9 -> 0 | CI12: =DataTransfer!AS9 -> 0 | CK12: =DataTransfer!AT9 -> 0 | CM12: =DataTransfer!AU9 -> 0 | CO12: =DataTransfer!AV9 -> 0 | CQ12: =DataTransfer!AW9 -> 0 | CS12: =DataTransfer!AX9 -> 0 | CU12: =DataTransfer!AY9 -> 0 | CW12: =DataTransfer!AZ9 -> 0 | CY12: =DataTransfer!BA9 -> 0 | DA12: =DataTransfer!BB9 -> 0 | DC12: =DataTransfer!BC9 -> 0 | DE12: =DataTransfer!BD9 -> 0 | DG12: =DataTransfer!BE9 -> 0 | DI12: =DataTransfer!BF9 -> 0 | DK12: =DataTransfer!BG9 -> 0 | DM12: =DataTransfer!BH9 -> 0 | DO12: =DataTransfer!BI9 -> 0 | DQ12: =DataTransfer!BJ9 -> 0 | DS12: =DataTransfer!BK9 -> 0 | DU12: =DataTransfer!BL9 -> 0 | DW12: =DataTransfer!BM9 -> 0 | DY12: =DataTransfer!BN9 -> 0 | EA12: =DataTransfer!BO9 -> 0 | EC12: =DataTransfer!BP9 -> 0 | EE12: =DataTransfer!BQ9 -> 0 | EG12: =DataTransfer!BR9 -> 0 | EI12: =DataTransfer!BS9 -> 0 | EK12: =DataTransfer!BT9 -> 0 | EM12: =DataTransfer!BU9 -> 0 | EO12: =DataTransfer!BV9 -> 0 | EQ12: =DataTransfer!BW9 -> 0 | ES12: =DataTransfer!BX9 -> 0 | EU12: =DataTransfer!BY9 -> 0 | EW12: =DataTransfer!BZ9 -> 0 | EY12: =DataTransfer!CA9 -> 0 | FA12: =DataTransfer!CB9 -> 0 | FC12: =DataTransfer!CC9 -> 0 | FE12: =DataTransfer!CD9 -> 0 | FG12: =DataTransfer!CE9 -> 0 | FI12: =DataTransfer!CF9 -> 0 | FK12: =DataTransfer!CG9 -> 0 | FM12: =DataTransfer!CH9 -> 0 | FO12: =DataTransfer!CI9 -> 0 | FQ12: =DataTransfer!CJ9 -> 0 | FS12: =DataTransfer!CK9 -> 0 | FU12: =DataTransfer!CL9 -> 0 | FW12: =DataTransfer!CM9 -> 0 | FY12: =DataTransfer!CN9 -> 0 | GA12: =DataTransfer!CO9 -> 0 | GC12: =DataTransfer!CP9 -> 0 | GE12: =DataTransfer!CQ9 -> 0 | GG12: =DataTransfer!CR9 -> 0 | GI12: =DataTransfer!CS9 -> 0 | GK12: =DataTransfer!CT9 -> 0 | GM12: =DataTransfer!CU9 -> 0 | GO12: =DataTransfer!CV9 -> 0 | GQ12: =DataTransfer!CW9 -> 0 | GS12: =DataTransfer!CX9 -> 0 | GU12: =DataTransfer!CY9 -> 0
A13: =DataTransfer!A10 -> DOB (Any - ID/BC) | B13: =DataTransfer!B10 -> All | C13: =DataTransfer!C10 -> 0 | E13: =DataTransfer!D10 -> 0 | G13: =DataTransfer!E10 -> 0 | I13: =DataTransfer!F10 -> 0 | K13: =DataTransfer!G10 -> 0 | M13: =DataTransfer!H10 -> 0 | O13: =DataTransfer!I10 -> 0 | Q13: =DataTransfer!J10 -> 0 | S13: =DataTransfer!K10 -> 0 | U13: =DataTransfer!L10 -> 0 | W13: =DataTransfer!M10 -> 0 | Y13: =DataTransfer!N10 -> 0 | AA13: =DataTransfer!O10 -> 0 | AC13: =DataTransfer!P10 -> 0 | AE13: =DataTransfer!Q10 -> 0 | AG13: =DataTransfer!R10 -> 0 | AI13: =DataTransfer!S10 -> 0 | AK13: =DataTransfer!T10 -> 0 | AM13: =DataTransfer!U10 -> 0 | AO13: =DataTransfer!V10 -> 0 | AQ13: =DataTransfer!W10 -> 0 | AS13: =DataTransfer!X10 -> 0 | AU13: =DataTransfer!Y10 -> 0 | AW13: =DataTransfer!Z10 -> 0 | AY13: =DataTransfer!AA10 -> 0 | BA13: =DataTransfer!AB10 -> 0 | BC13: =DataTransfer!AC10 -> 0 | BE13: =DataTransfer!AD10 -> 0 | BG13: =DataTransfer!AE10 -> 0 | BI13: =DataTransfer!AF10 -> 0 | BK13: =DataTransfer!AG10 -> 0 | BM13: =DataTransfer!AH10 -> 0 | BO13: =DataTransfer!AI10 -> 0 | BQ13: =DataTransfer!AJ10 -> 0 | BS13: =DataTransfer!AK10 -> 0 | BU13: =DataTransfer!AL10 -> 0 | BW13: =DataTransfer!AM10 -> 0 | BY13: =DataTransfer!AN10 -> 0 | CA13: =DataTransfer!AO10 -> 0 | CC13: =DataTransfer!AP10 -> 0 | CE13: =DataTransfer!AQ10 -> 0 | CG13: =DataTransfer!AR10 -> 0 | CI13: =DataTransfer!AS10 -> 0 | CK13: =DataTransfer!AT10 -> 0 | CM13: =DataTransfer!AU10 -> 0 | CO13: =DataTransfer!AV10 -> 0 | CQ13: =DataTransfer!AW10 -> 0 | CS13: =DataTransfer!AX10 -> 0 | CU13: =DataTransfer!AY10 -> 0 | CW13: =DataTransfer!AZ10 -> 0 | CY13: =DataTransfer!BA10 -> 0 | DA13: =DataTransfer!BB10 -> 0 | DC13: =DataTransfer!BC10 -> 0 | DE13: =DataTransfer!BD10 -> 0 | DG13: =DataTransfer!BE10 -> 0 | DI13: =DataTransfer!BF10 -> 0 | DK13: =DataTransfer!BG10 -> 0 | DM13: =DataTransfer!BH10 -> 0 | DO13: =DataTransfer!BI10 -> 0 | DQ13: =DataTransfer!BJ10 -> 0 | DS13: =DataTransfer!BK10 -> 0 | DU13: =DataTransfer!BL10 -> 0 | DW13: =DataTransfer!BM10 -> 0 | DY13: =DataTransfer!BN10 -> 0 | EA13: =DataTransfer!BO10 -> 0 | EC13: =DataTransfer!BP10 -> 0 | EE13: =DataTransfer!BQ10 -> 0 | EG13: =DataTransfer!BR10 -> 0 | EI13: =DataTransfer!BS10 -> 0 | EK13: =DataTransfer!BT10 -> 0 | EM13: =DataTransfer!BU10 -> 0 | EO13: =DataTransfer!BV10 -> 0 | EQ13: =DataTransfer!BW10 -> 0 | ES13: =DataTransfer!BX10 -> 0 | EU13: =DataTransfer!BY10 -> 0 | EW13: =DataTransfer!BZ10 -> 0 | EY13: =DataTransfer!CA10 -> 0 | FA13: =DataTransfer!CB10 -> 0 | FC13: =DataTransfer!CC10 -> 0 | FE13: =DataTransfer!CD10 -> 0 | FG13: =DataTransfer!CE10 -> 0 | FI13: =DataTransfer!CF10 -> 0 | FK13: =DataTransfer!CG10 -> 0 | FM13: =DataTransfer!CH10 -> 0 | FO13: =DataTransfer!CI10 -> 0 | FQ13: =DataTransfer!CJ10 -> 0 | FS13: =DataTransfer!CK10 -> 0 | FU13: =DataTransfer!CL10 -> 0 | FW13: =DataTransfer!CM10 -> 0 | FY13: =DataTransfer!CN10 -> 0 | GA13: =DataTransfer!CO10 -> 0 | GC13: =DataTransfer!CP10 -> 0 | GE13: =DataTransfer!CQ10 -> 0 | GG13: =DataTransfer!CR10 -> 0 | GI13: =DataTransfer!CS10 -> 0 | GK13: =DataTransfer!CT10 -> 0 | GM13: =DataTransfer!CU10 -> 0 | GO13: =DataTransfer!CV10 -> 0 | GQ13: =DataTransfer!CW10 -> 0 | GS13: =DataTransfer!CX10 -> 0 | GU13: =DataTransfer!CY10 -> 0
A14: =DataTransfer!A11 -> Gender (Any - ID/BC) | B14: =DataTransfer!B11 -> All | C14: =DataTransfer!C11 -> 0 | E14: =DataTransfer!D11 -> 0 | G14: =DataTransfer!E11 -> 0 | I14: =DataTransfer!F11 -> 0 | K14: =DataTransfer!G11 -> 0 | M14: =DataTransfer!H11 -> 0 | O14: =DataTransfer!I11 -> 0 | Q14: =DataTransfer!J11 -> 0 | S14: =DataTransfer!K11 -> 0 | U14: =DataTransfer!L11 -> 0 | W14: =DataTransfer!M11 -> 0 | Y14: =DataTransfer!N11 -> 0 | AA14: =DataTransfer!O11 -> 0 | AC14: =DataTransfer!P11 -> 0 | AE14: =DataTransfer!Q11 -> 0 | AG14: =DataTransfer!R11 -> 0 | AI14: =DataTransfer!S11 -> 0 | AK14: =DataTransfer!T11 -> 0 | AM14: =DataTransfer!U11 -> 0 | AO14: =DataTransfer!V11 -> 0 | AQ14: =DataTransfer!W11 -> 0 | AS14: =DataTransfer!X11 -> 0 | AU14: =DataTransfer!Y11 -> 0 | AW14: =DataTransfer!Z11 -> 0 | AY14: =DataTransfer!AA11 -> 0 | BA14: =DataTransfer!AB11 -> 0 | BC14: =DataTransfer!AC11 -> 0 | BE14: =DataTransfer!AD11 -> 0 | BG14: =DataTransfer!AE11 -> 0 | BI14: =DataTransfer!AF11 -> 0 | BK14: =DataTransfer!AG11 -> 0 | BM14: =DataTransfer!AH11 -> 0 | BO14: =DataTransfer!AI11 -> 0 | BQ14: =DataTransfer!AJ11 -> 0 | BS14: =DataTransfer!AK11 -> 0 | BU14: =DataTransfer!AL11 -> 0 | BW14: =DataTransfer!AM11 -> 0 | BY14: =DataTransfer!AN11 -> 0 | CA14: =DataTransfer!AO11 -> 0 | CC14: =DataTransfer!AP11 -> 0 | CE14: =DataTransfer!AQ11 -> 0 | CG14: =DataTransfer!AR11 -> 0 | CI14: =DataTransfer!AS11 -> 0 | CK14: =DataTransfer!AT11 -> 0 | CM14: =DataTransfer!AU11 -> 0 | CO14: =DataTransfer!AV11 -> 0 | CQ14: =DataTransfer!AW11 -> 0 | CS14: =DataTransfer!AX11 -> 0 | CU14: =DataTransfer!AY11 -> 0 | CW14: =DataTransfer!AZ11 -> 0 | CY14: =DataTransfer!BA11 -> 0 | DA14: =DataTransfer!BB11 -> 0 | DC14: =DataTransfer!BC11 -> 0 | DE14: =DataTransfer!BD11 -> 0 | DG14: =DataTransfer!BE11 -> 0 | DI14: =DataTransfer!BF11 -> 0 | DK14: =DataTransfer!BG11 -> 0 | DM14: =DataTransfer!BH11 -> 0 | DO14: =DataTransfer!BI11 -> 0 | DQ14: =DataTransfer!BJ11 -> 0 | DS14: =DataTransfer!BK11 -> 0 | DU14: =DataTransfer!BL11 -> 0 | DW14: =DataTransfer!BM11 -> 0 | DY14: =DataTransfer!BN11 -> 0 | EA14: =DataTransfer!BO11 -> 0 | EC14: =DataTransfer!BP11 -> 0 | EE14: =DataTransfer!BQ11 -> 0 | EG14: =DataTransfer!BR11 -> 0 | EI14: =DataTransfer!BS11 -> 0 | EK14: =DataTransfer!BT11 -> 0 | EM14: =DataTransfer!BU11 -> 0 | EO14: =DataTransfer!BV11 -> 0 | EQ14: =DataTransfer!BW11 -> 0 | ES14: =DataTransfer!BX11 -> 0 | EU14: =DataTransfer!BY11 -> 0 | EW14: =DataTransfer!BZ11 -> 0 | EY14: =DataTransfer!CA11 -> 0 | FA14: =DataTransfer!CB11 -> 0 | FC14: =DataTransfer!CC11 -> 0 | FE14: =DataTransfer!CD11 -> 0 | FG14: =DataTransfer!CE11 -> 0 | FI14: =DataTransfer!CF11 -> 0 | FK14: =DataTransfer!CG11 -> 0 | FM14: =DataTransfer!CH11 -> 0 | FO14: =DataTransfer!CI11 -> 0 | FQ14: =DataTransfer!CJ11 -> 0 | FS14: =DataTransfer!CK11 -> 0 | FU14: =DataTransfer!CL11 -> 0 | FW14: =DataTransfer!CM11 -> 0 | FY14: =DataTransfer!CN11 -> 0 | GA14: =DataTransfer!CO11 -> 0 | GC14: =DataTransfer!CP11 -> 0 | GE14: =DataTransfer!CQ11 -> 0 | GG14: =DataTransfer!CR11 -> 0 | GI14: =DataTransfer!CS11 -> 0 | GK14: =DataTransfer!CT11 -> 0 | GM14: =DataTransfer!CU11 -> 0 | GO14: =DataTransfer!CV11 -> 0 | GQ14: =DataTransfer!CW11 -> 0 | GS14: =DataTransfer!CX11 -> 0 | GU14: =DataTransfer!CY11 -> 0
A15: =DataTransfer!A12 -> Prior Living Situation (Program Eligibility) | B15: =DataTransfer!B12 -> All | C15: =DataTransfer!C12 -> 0 | E15: =DataTransfer!D12 -> 0 | G15: =DataTransfer!E12 -> 0 | I15: =DataTransfer!F12 -> 0 | K15: =DataTransfer!G12 -> 0 | M15: =DataTransfer!H12 -> 0 | O15: =DataTransfer!I12 -> 0 | Q15: =DataTransfer!J12 -> 0 | S15: =DataTransfer!K12 -> 0 | U15: =DataTransfer!L12 -> 0 | W15: =DataTransfer!M12 -> 0 | Y15: =DataTransfer!N12 -> 0 | AA15: =DataTransfer!O12 -> 0 | AC15: =DataTransfer!P12 -> 0 | AE15: =DataTransfer!Q12 -> 0 | AG15: =DataTransfer!R12 -> 0 | AI15: =DataTransfer!S12 -> 0 | AK15: =DataTransfer!T12 -> 0 | AM15: =DataTransfer!U12 -> 0 | AO15: =DataTransfer!V12 -> 0 | AQ15: =DataTransfer!W12 -> 0 | AS15: =DataTransfer!X12 -> 0 | AU15: =DataTransfer!Y12 -> 0 | AW15: =DataTransfer!Z12 -> 0 | AY15: =DataTransfer!AA12 -> 0 | BA15: =DataTransfer!AB12 -> 0 | BC15: =DataTransfer!AC12 -> 0 | BE15: =DataTransfer!AD12 -> 0 | BG15: =DataTransfer!AE12 -> 0 | BI15: =DataTransfer!AF12 -> 0 | BK15: =DataTransfer!AG12 -> 0 | BM15: =DataTransfer!AH12 -> 0 | BO15: =DataTransfer!AI12 -> 0 | BQ15: =DataTransfer!AJ12 -> 0 | BS15: =DataTransfer!AK12 -> 0 | BU15: =DataTransfer!AL12 -> 0 | BW15: =DataTransfer!AM12 -> 0 | BY15: =DataTransfer!AN12 -> 0 | CA15: =DataTransfer!AO12 -> 0 | CC15: =DataTransfer!AP12 -> 0 | CE15: =DataTransfer!AQ12 -> 0 | CG15: =DataTransfer!AR12 -> 0 | CI15: =DataTransfer!AS12 -> 0 | CK15: =DataTransfer!AT12 -> 0 | CM15: =DataTransfer!AU12 -> 0 | CO15: =DataTransfer!AV12 -> 0 | CQ15: =DataTransfer!AW12 -> 0 | CS15: =DataTransfer!AX12 -> 0 | CU15: =DataTransfer!AY12 -> 0 | CW15: =DataTransfer!AZ12 -> 0 | CY15: =DataTransfer!BA12 -> 0 | DA15: =DataTransfer!BB12 -> 0 | DC15: =DataTransfer!BC12 -> 0 | DE15: =DataTransfer!BD12 -> 0 | DG15: =DataTransfer!BE12 -> 0 | DI15: =DataTransfer!BF12 -> 0 | DK15: =DataTransfer!BG12 -> 0 | DM15: =DataTransfer!BH12 -> 0 | DO15: =DataTransfer!BI12 -> 0 | DQ15: =DataTransfer!BJ12 -> 0 | DS15: =DataTransfer!BK12 -> 0 | DU15: =DataTransfer!BL12 -> 0 | DW15: =DataTransfer!BM12 -> 0 | DY15: =DataTransfer!BN12 -> 0 | EA15: =DataTransfer!BO12 -> 0 | EC15: =DataTransfer!BP12 -> 0 | EE15: =DataTransfer!BQ12 -> 0 | EG15: =DataTransfer!BR12 -> 0 | EI15: =DataTransfer!BS12 -> 0 | EK15: =DataTransfer!BT12 -> 0 | EM15: =DataTransfer!BU12 -> 0 | EO15: =DataTransfer!BV12 -> 0 | EQ15: =DataTransfer!BW12 -> 0 | ES15: =DataTransfer!BX12 -> 0 | EU15: =DataTransfer!BY12 -> 0 | EW15: =DataTransfer!BZ12 -> 0 | EY15: =DataTransfer!CA12 -> 0 | FA15: =DataTransfer!CB12 -> 0 | FC15: =DataTransfer!CC12 -> 0 | FE15: =DataTransfer!CD12 -> 0 | FG15: =DataTransfer!CE12 -> 0 | FI15: =DataTransfer!CF12 -> 0 | FK15: =DataTransfer!CG12 -> 0 | FM15: =DataTransfer!CH12 -> 0 | FO15: =DataTransfer!CI12 -> 0 | FQ15: =DataTransfer!CJ12 -> 0 | FS15: =DataTransfer!CK12 -> 0 | FU15: =DataTransfer!CL12 -> 0 | FW15: =DataTransfer!CM12 -> 0 | FY15: =DataTransfer!CN12 -> 0 | GA15: =DataTransfer!CO12 -> 0 | GC15: =DataTransfer!CP12 -> 0 | GE15: =DataTransfer!CQ12 -> 0 | GG15: =DataTransfer!CR12 -> 0 | GI15: =DataTransfer!CS12 -> 0 | GK15: =DataTransfer!CT12 -> 0 | GM15: =DataTransfer!CU12 -> 0 | GO15: =DataTransfer!CV12 -> 0 | GQ15: =DataTransfer!CW12 -> 0 | GS15: =DataTransfer!CX12 -> 0 | GU15: =DataTransfer!CY12 -> 0
A16: =DataTransfer!A13 -> Subsidy Type | B16: =DataTransfer!B13 -> All | C16: =DataTransfer!C13 -> 0 | E16: =DataTransfer!D13 -> 0 | G16: =DataTransfer!E13 -> 0 | I16: =DataTransfer!F13 -> 0 | K16: =DataTransfer!G13 -> 0 | M16: =DataTransfer!H13 -> 0 | O16: =DataTransfer!I13 -> 0 | Q16: =DataTransfer!J13 -> 0 | S16: =DataTransfer!K13 -> 0 | U16: =DataTransfer!L13 -> 0 | W16: =DataTransfer!M13 -> 0 | Y16: =DataTransfer!N13 -> 0 | AA16: =DataTransfer!O13 -> 0 | AC16: =DataTransfer!P13 -> 0 | AE16: =DataTransfer!Q13 -> 0 | AG16: =DataTransfer!R13 -> 0 | AI16: =DataTransfer!S13 -> 0 | AK16: =DataTransfer!T13 -> 0 | AM16: =DataTransfer!U13 -> 0 | AO16: =DataTransfer!V13 -> 0 | AQ16: =DataTransfer!W13 -> 0 | AS16: =DataTransfer!X13 -> 0 | AU16: =DataTransfer!Y13 -> 0 | AW16: =DataTransfer!Z13 -> 0 | AY16: =DataTransfer!AA13 -> 0 | BA16: =DataTransfer!AB13 -> 0 | BC16: =DataTransfer!AC13 -> 0 | BE16: =DataTransfer!AD13 -> 0 | BG16: =DataTransfer!AE13 -> 0 | BI16: =DataTransfer!AF13 -> 0 | BK16: =DataTransfer!AG13 -> 0 | BM16: =DataTransfer!AH13 -> 0 | BO16: =DataTransfer!AI13 -> 0 | BQ16: =DataTransfer!AJ13 -> 0 | BS16: =DataTransfer!AK13 -> 0 | BU16: =DataTransfer!AL13 -> 0 | BW16: =DataTransfer!AM13 -> 0 | BY16: =DataTransfer!AN13 -> 0 | CA16: =DataTransfer!AO13 -> 0 | CC16: =DataTransfer!AP13 -> 0 | CE16: =DataTransfer!AQ13 -> 0 | CG16: =DataTransfer!AR13 -> 0 | CI16: =DataTransfer!AS13 -> 0 | CK16: =DataTransfer!AT13 -> 0 | CM16: =DataTransfer!AU13 -> 0 | CO16: =DataTransfer!AV13 -> 0 | CQ16: =DataTransfer!AW13 -> 0 | CS16: =DataTransfer!AX13 -> 0 | CU16: =DataTransfer!AY13 -> 0 | CW16: =DataTransfer!AZ13 -> 0 | CY16: =DataTransfer!BA13 -> 0 | DA16: =DataTransfer!BB13 -> 0 | DC16: =DataTransfer!BC13 -> 0 | DE16: =DataTransfer!BD13 -> 0 | DG16: =DataTransfer!BE13 -> 0 | DI16: =DataTransfer!BF13 -> 0 | DK16: =DataTransfer!BG13 -> 0 | DM16: =DataTransfer!BH13 -> 0 | DO16: =DataTransfer!BI13 -> 0 | DQ16: =DataTransfer!BJ13 -> 0 | DS16: =DataTransfer!BK13 -> 0 | DU16: =DataTransfer!BL13 -> 0 | DW16: =DataTransfer!BM13 -> 0 | DY16: =DataTransfer!BN13 -> 0 | EA16: =DataTransfer!BO13 -> 0 | EC16: =DataTransfer!BP13 -> 0 | EE16: =DataTransfer!BQ13 -> 0 | EG16: =DataTransfer!BR13 -> 0 | EI16: =DataTransfer!BS13 -> 0 | EK16: =DataTransfer!BT13 -> 0 | EM16: =DataTransfer!BU13 -> 0 | EO16: =DataTransfer!BV13 -> 0 | EQ16: =DataTransfer!BW13 -> 0 | ES16: =DataTransfer!BX13 -> 0 | EU16: =DataTransfer!BY13 -> 0 | EW16: =DataTransfer!BZ13 -> 0 | EY16: =DataTransfer!CA13 -> 0 | FA16: =DataTransfer!CB13 -> 0 | FC16: =DataTransfer!CC13 -> 0 | FE16: =DataTransfer!CD13 -> 0 | FG16: =DataTransfer!CE13 -> 0 | FI16: =DataTransfer!CF13 -> 0 | FK16: =DataTransfer!CG13 -> 0 | FM16: =DataTransfer!CH13 -> 0 | FO16: =DataTransfer!CI13 -> 0 | FQ16: =DataTransfer!CJ13 -> 0 | FS16: =DataTransfer!CK13 -> 0 | FU16: =DataTransfer!CL13 -> 0 | FW16: =DataTransfer!CM13 -> 0 | FY16: =DataTransfer!CN13 -> 0 | GA16: =DataTransfer!CO13 -> 0 | GC16: =DataTransfer!CP13 -> 0 | GE16: =DataTransfer!CQ13 -> 0 | GG16: =DataTransfer!CR13 -> 0 | GI16: =DataTransfer!CS13 -> 0 | GK16: =DataTransfer!CT13 -> 0 | GM16: =DataTransfer!CU13 -> 0 | GO16: =DataTransfer!CV13 -> 0 | GQ16: =DataTransfer!CW13 -> 0 | GS16: =DataTransfer!CX13 -> 0 | GU16: =DataTransfer!CY13 -> 0
A17: Comments
A19: =DataTransfer!A14 -> Project Start Date (Reasonableness based on enrollment documents) | B19: =DataTransfer!B14 -> All | C19: =DataTransfer!C14 -> 0 | E19: =DataTransfer!D14 -> 0 | G19: =DataTransfer!E14 -> 0 | I19: =DataTransfer!F14 -> 0 | K19: =DataTransfer!G14 -> 0 | M19: =DataTransfer!H14 -> 0 | O19: =DataTransfer!I14 -> 0 | Q19: =DataTransfer!J14 -> 0 | S19: =DataTransfer!K14 -> 0 | U19: =DataTransfer!L14 -> 0 | W19: =DataTransfer!M14 -> 0 | Y19: =DataTransfer!N14 -> 0 | AA19: =DataTransfer!O14 -> 0 | AC19: =DataTransfer!P14 -> 0 | AE19: =DataTransfer!Q14 -> 0 | AG19: =DataTransfer!R14 -> 0 | AI19: =DataTransfer!S14 -> 0 | AK19: =DataTransfer!T14 -> 0 | AM19: =DataTransfer!U14 -> 0 | AO19: =DataTransfer!V14 -> 0 | AQ19: =DataTransfer!W14 -> 0 | AS19: =DataTransfer!X14 -> 0 | AU19: =DataTransfer!Y14 -> 0 | AW19: =DataTransfer!Z14 -> 0 | AY19: =DataTransfer!AA14 -> 0 | BA19: =DataTransfer!AB14 -> 0 | BC19: =DataTransfer!AC14 -> 0 | BE19: =DataTransfer!AD14 -> 0 | BG19: =DataTransfer!AE14 -> 0 | BI19: =DataTransfer!AF14 -> 0 | BK19: =DataTransfer!AG14 -> 0 | BM19: =DataTransfer!AH14 -> 0 | BO19: =DataTransfer!AI14 -> 0 | BQ19: =DataTransfer!AJ14 -> 0 | BS19: =DataTransfer!AK14 -> 0 | BU19: =DataTransfer!AL14 -> 0 | BW19: =DataTransfer!AM14 -> 0 | BY19: =DataTransfer!AN14 -> 0 | CA19: =DataTransfer!AO14 -> 0 | CC19: =DataTransfer!AP14 -> 0 | CE19: =DataTransfer!AQ14 -> 0 | CG19: =DataTransfer!AR14 -> 0 | CI19: =DataTransfer!AS14 -> 0 | CK19: =DataTransfer!AT14 -> 0 | CM19: =DataTransfer!AU14 -> 0 | CO19: =DataTransfer!AV14 -> 0 | CQ19: =DataTransfer!AW14 -> 0 | CS19: =DataTransfer!AX14 -> 0 | CU19: =DataTransfer!AY14 -> 0 | CW19: =DataTransfer!AZ14 -> 0 | CY19: =DataTransfer!BA14 -> 0 | DA19: =DataTransfer!BB14 -> 0 | DC19: =DataTransfer!BC14 -> 0 | DE19: =DataTransfer!BD14 -> 0 | DG19: =DataTransfer!BE14 -> 0 | DI19: =DataTransfer!BF14 -> 0 | DK19: =DataTransfer!BG14 -> 0 | DM19: =DataTransfer!BH14 -> 0 | DO19: =DataTransfer!BI14 -> 0 | DQ19: =DataTransfer!BJ14 -> 0 | DS19: =DataTransfer!BK14 -> 0 | DU19: =DataTransfer!BL14 -> 0 | DW19: =DataTransfer!BM14 -> 0 | DY19: =DataTransfer!BN14 -> 0 | EA19: =DataTransfer!BO14 -> 0 | EC19: =DataTransfer!BP14 -> 0 | EE19: =DataTransfer!BQ14 -> 0 | EG19: =DataTransfer!BR14 -> 0 | EI19: =DataTransfer!BS14 -> 0 | EK19: =DataTransfer!BT14 -> 0 | EM19: =DataTransfer!BU14 -> 0 | EO19: =DataTransfer!BV14 -> 0 | EQ19: =DataTransfer!BW14 -> 0 | ES19: =DataTransfer!BX14 -> 0 | EU19: =DataTransfer!BY14 -> 0 | EW19: =DataTransfer!BZ14 -> 0 | EY19: =DataTransfer!CA14 -> 0 | FA19: =DataTransfer!CB14 -> 0 | FC19: =DataTransfer!CC14 -> 0 | FE19: =DataTransfer!CD14 -> 0 | FG19: =DataTransfer!CE14 -> 0 | FI19: =DataTransfer!CF14 -> 0 | FK19: =DataTransfer!CG14 -> 0 | FM19: =DataTransfer!CH14 -> 0 | FO19: =DataTransfer!CI14 -> 0 | FQ19: =DataTransfer!CJ14 -> 0 | FS19: =DataTransfer!CK14 -> 0 | FU19: =DataTransfer!CL14 -> 0 | FW19: =DataTransfer!CM14 -> 0 | FY19: =DataTransfer!CN14 -> 0 | GA19: =DataTransfer!CO14 -> 0 | GC19: =DataTransfer!CP14 -> 0 | GE19: =DataTransfer!CQ14 -> 0 | GG19: =DataTransfer!CR14 -> 0 | GI19: =DataTransfer!CS14 -> 0 | GK19: =DataTransfer!CT14 -> 0 | GM19: =DataTransfer!CU14 -> 0 | GO19: =DataTransfer!CV14 -> 0 | GQ19: =DataTransfer!CW14 -> 0 | GS19: =DataTransfer!CX14 -> 0 | GU19: =DataTransfer!CY14 -> 0
A20: =DataTransfer!A15 -> Employed @ Entry (Income Documentation) | B20: =DataTransfer!B15 -> HoH and adults | C20: =DataTransfer!C15 -> 0 | E20: =DataTransfer!D15 -> 0 | G20: =DataTransfer!E15 -> 0 | I20: =DataTransfer!F15 -> 0 | K20: =DataTransfer!G15 -> 0 | M20: =DataTransfer!H15 -> 0 | O20: =DataTransfer!I15 -> 0 | Q20: =DataTransfer!J15 -> 0 | S20: =DataTransfer!K15 -> 0 | U20: =DataTransfer!L15 -> 0 | W20: =DataTransfer!M15 -> 0 | Y20: =DataTransfer!N15 -> 0 | AA20: =DataTransfer!O15 -> 0 | AC20: =DataTransfer!P15 -> 0 | AE20: =DataTransfer!Q15 -> 0 | AG20: =DataTransfer!R15 -> 0 | AI20: =DataTransfer!S15 -> 0 | AK20: =DataTransfer!T15 -> 0 | AM20: =DataTransfer!U15 -> 0 | AO20: =DataTransfer!V15 -> 0 | AQ20: =DataTransfer!W15 -> 0 | AS20: =DataTransfer!X15 -> 0 | AU20: =DataTransfer!Y15 -> 0 | AW20: =DataTransfer!Z15 -> 0 | AY20: =DataTransfer!AA15 -> 0 | BA20: =DataTransfer!AB15 -> 0 | BC20: =DataTransfer!AC15 -> 0 | BE20: =DataTransfer!AD15 -> 0 | BG20: =DataTransfer!AE15 -> 0 | BI20: =DataTransfer!AF15 -> 0 | BK20: =DataTransfer!AG15 -> 0 | BM20: =DataTransfer!AH15 -> 0 | BO20: =DataTransfer!AI15 -> 0 | BQ20: =DataTransfer!AJ15 -> 0 | BS20: =DataTransfer!AK15 -> 0 | BU20: =DataTransfer!AL15 -> 0 | BW20: =DataTransfer!AM15 -> 0 | BY20: =DataTransfer!AN15 -> 0 | CA20: =DataTransfer!AO15 -> 0 | CC20: =DataTransfer!AP15 -> 0 | CE20: =DataTransfer!AQ15 -> 0 | CG20: =DataTransfer!AR15 -> 0 | CI20: =DataTransfer!AS15 -> 0 | CK20: =DataTransfer!AT15 -> 0 | CM20: =DataTransfer!AU15 -> 0 | CO20: =DataTransfer!AV15 -> 0 | CQ20: =DataTransfer!AW15 -> 0 | CS20: =DataTransfer!AX15 -> 0 | CU20: =DataTransfer!AY15 -> 0 | CW20: =DataTransfer!AZ15 -> 0 | CY20: =DataTransfer!BA15 -> 0 | DA20: =DataTransfer!BB15 -> 0 | DC20: =DataTransfer!BC15 -> 0 | DE20: =DataTransfer!BD15 -> 0 | DG20: =DataTransfer!BE15 -> 0 | DI20: =DataTransfer!BF15 -> 0 | DK20: =DataTransfer!BG15 -> 0 | DM20: =DataTransfer!BH15 -> 0 | DO20: =DataTransfer!BI15 -> 0 | DQ20: =DataTransfer!BJ15 -> 0 | DS20: =DataTransfer!BK15 -> 0 | DU20: =DataTransfer!BL15 -> 0 | DW20: =DataTransfer!BM15 -> 0 | DY20: =DataTransfer!BN15 -> 0 | EA20: =DataTransfer!BO15 -> 0 | EC20: =DataTransfer!BP15 -> 0 | EE20: =DataTransfer!BQ15 -> 0 | EG20: =DataTransfer!BR15 -> 0 | EI20: =DataTransfer!BS15 -> 0 | EK20: =DataTransfer!BT15 -> 0 | EM20: =DataTransfer!BU15 -> 0 | EO20: =DataTransfer!BV15 -> 0 | EQ20: =DataTransfer!BW15 -> 0 | ES20: =DataTransfer!BX15 -> 0 | EU20: =DataTransfer!BY15 -> 0 | EW20: =DataTransfer!BZ15 -> 0 | EY20: =DataTransfer!CA15 -> 0 | FA20: =DataTransfer!CB15 -> 0 | FC20: =DataTransfer!CC15 -> 0 | FE20: =DataTransfer!CD15 -> 0 | FG20: =DataTransfer!CE15 -> 0 | FI20: =DataTransfer!CF15 -> 0 | FK20: =DataTransfer!CG15 -> 0 | FM20: =DataTransfer!CH15 -> 0 | FO20: =DataTransfer!CI15 -> 0 | FQ20: =DataTransfer!CJ15 -> 0 | FS20: =DataTransfer!CK15 -> 0 | FU20: =DataTransfer!CL15 -> 0 | FW20: =DataTransfer!CM15 -> 0 | FY20: =DataTransfer!CN15 -> 0 | GA20: =DataTransfer!CO15 -> 0 | GC20: =DataTransfer!CP15 -> 0 | GE20: =DataTransfer!CQ15 -> 0 | GG20: =DataTransfer!CR15 -> 0 | GI20: =DataTransfer!CS15 -> 0 | GK20: =DataTransfer!CT15 -> 0 | GM20: =DataTransfer!CU15 -> 0 | GO20: =DataTransfer!CV15 -> 0 | GQ20: =DataTransfer!CW15 -> 0 | GS20: =DataTransfer!CX15 -> 0 | GU20: =DataTransfer!CY15 -> 0
A21: =DataTransfer!A16 -> Income from Any Source @ Entry (Income Documentation) | B21: =DataTransfer!B16 -> HoH and adults | C21: =DataTransfer!C16 -> 0 | E21: =DataTransfer!D16 -> 0 | G21: =DataTransfer!E16 -> 0 | I21: =DataTransfer!F16 -> 0 | K21: =DataTransfer!G16 -> 0 | M21: =DataTransfer!H16 -> 0 | O21: =DataTransfer!I16 -> 0 | Q21: =DataTransfer!J16 -> 0 | S21: =DataTransfer!K16 -> 0 | U21: =DataTransfer!L16 -> 0 | W21: =DataTransfer!M16 -> 0 | Y21: =DataTransfer!N16 -> 0 | AA21: =DataTransfer!O16 -> 0 | AC21: =DataTransfer!P16 -> 0 | AE21: =DataTransfer!Q16 -> 0 | AG21: =DataTransfer!R16 -> 0 | AI21: =DataTransfer!S16 -> 0 | AK21: =DataTransfer!T16 -> 0 | AM21: =DataTransfer!U16 -> 0 | AO21: =DataTransfer!V16 -> 0 | AQ21: =DataTransfer!W16 -> 0 | AS21: =DataTransfer!X16 -> 0 | AU21: =DataTransfer!Y16 -> 0 | AW21: =DataTransfer!Z16 -> 0 | AY21: =DataTransfer!AA16 -> 0 | BA21: =DataTransfer!AB16 -> 0 | BC21: =DataTransfer!AC16 -> 0 | BE21: =DataTransfer!AD16 -> 0 | BG21: =DataTransfer!AE16 -> 0 | BI21: =DataTransfer!AF16 -> 0 | BK21: =DataTransfer!AG16 -> 0 | BM21: =DataTransfer!AH16 -> 0 | BO21: =DataTransfer!AI16 -> 0 | BQ21: =DataTransfer!AJ16 -> 0 | BS21: =DataTransfer!AK16 -> 0 | BU21: =DataTransfer!AL16 -> 0 | BW21: =DataTransfer!AM16 -> 0 | BY21: =DataTransfer!AN16 -> 0 | CA21: =DataTransfer!AO16 -> 0 | CC21: =DataTransfer!AP16 -> 0 | CE21: =DataTransfer!AQ16 -> 0 | CG21: =DataTransfer!AR16 -> 0 | CI21: =DataTransfer!AS16 -> 0 | CK21: =DataTransfer!AT16 -> 0 | CM21: =DataTransfer!AU16 -> 0 | CO21: =DataTransfer!AV16 -> 0 | CQ21: =DataTransfer!AW16 -> 0 | CS21: =DataTransfer!AX16 -> 0 | CU21: =DataTransfer!AY16 -> 0 | CW21: =DataTransfer!AZ16 -> 0 | CY21: =DataTransfer!BA16 -> 0 | DA21: =DataTransfer!BB16 -> 0 | DC21: =DataTransfer!BC16 -> 0 | DE21: =DataTransfer!BD16 -> 0 | DG21: =DataTransfer!BE16 -> 0 | DI21: =DataTransfer!BF16 -> 0 | DK21: =DataTransfer!BG16 -> 0 | DM21: =DataTransfer!BH16 -> 0 | DO21: =DataTransfer!BI16 -> 0 | DQ21: =DataTransfer!BJ16 -> 0 | DS21: =DataTransfer!BK16 -> 0 | DU21: =DataTransfer!BL16 -> 0 | DW21: =DataTransfer!BM16 -> 0 | DY21: =DataTransfer!BN16 -> 0 | EA21: =DataTransfer!BO16 -> 0 | EC21: =DataTransfer!BP16 -> 0 | EE21: =DataTransfer!BQ16 -> 0 | EG21: =DataTransfer!BR16 -> 0 | EI21: =DataTransfer!BS16 -> 0 | EK21: =DataTransfer!BT16 -> 0 | EM21: =DataTransfer!BU16 -> 0 | EO21: =DataTransfer!BV16 -> 0 | EQ21: =DataTransfer!BW16 -> 0 | ES21: =DataTransfer!BX16 -> 0 | EU21: =DataTransfer!BY16 -> 0 | EW21: =DataTransfer!BZ16 -> 0 | EY21: =DataTransfer!CA16 -> 0 | FA21: =DataTransfer!CB16 -> 0 | FC21: =DataTransfer!CC16 -> 0 | FE21: =DataTransfer!CD16 -> 0 | FG21: =DataTransfer!CE16 -> 0 | FI21: =DataTransfer!CF16 -> 0 | FK21: =DataTransfer!CG16 -> 0 | FM21: =DataTransfer!CH16 -> 0 | FO21: =DataTransfer!CI16 -> 0 | FQ21: =DataTransfer!CJ16 -> 0 | FS21: =DataTransfer!CK16 -> 0 | FU21: =DataTransfer!CL16 -> 0 | FW21: =DataTransfer!CM16 -> 0 | FY21: =DataTransfer!CN16 -> 0 | GA21: =DataTransfer!CO16 -> 0 | GC21: =DataTransfer!CP16 -> 0 | GE21: =DataTransfer!CQ16 -> 0 | GG21: =DataTransfer!CR16 -> 0 | GI21: =DataTransfer!CS16 -> 0 | GK21: =DataTransfer!CT16 -> 0 | GM21: =DataTransfer!CU16 -> 0 | GO21: =DataTransfer!CV16 -> 0 | GQ21: =DataTransfer!CW16 -> 0 | GS21: =DataTransfer!CX16 -> 0 | GU21: =DataTransfer!CY16 -> 0
A22: =DataTransfer!A17 -> Income @ Entry (Income Documentation) | B22: =DataTransfer!B17 -> HoH and adults | C22: =DataTransfer!C17 -> 0 | E22: =DataTransfer!D17 -> 0 | G22: =DataTransfer!E17 -> 0 | I22: =DataTransfer!F17 -> 0 | K22: =DataTransfer!G17 -> 0 | M22: =DataTransfer!H17 -> 0 | O22: =DataTransfer!I17 -> 0 | Q22: =DataTransfer!J17 -> 0 | S22: =DataTransfer!K17 -> 0 | U22: =DataTransfer!L17 -> 0 | W22: =DataTransfer!M17 -> 0 | Y22: =DataTransfer!N17 -> 0 | AA22: =DataTransfer!O17 -> 0 | AC22: =DataTransfer!P17 -> 0 | AE22: =DataTransfer!Q17 -> 0 | AG22: =DataTransfer!R17 -> 0 | AI22: =DataTransfer!S17 -> 0 | AK22: =DataTransfer!T17 -> 0 | AM22: =DataTransfer!U17 -> 0 | AO22: =DataTransfer!V17 -> 0 | AQ22: =DataTransfer!W17 -> 0 | AS22: =DataTransfer!X17 -> 0 | AU22: =DataTransfer!Y17 -> 0 | AW22: =DataTransfer!Z17 -> 0 | AY22: =DataTransfer!AA17 -> 0 | BA22: =DataTransfer!AB17 -> 0 | BC22: =DataTransfer!AC17 -> 0 | BE22: =DataTransfer!AD17 -> 0 | BG22: =DataTransfer!AE17 -> 0 | BI22: =DataTransfer!AF17 -> 0 | BK22: =DataTransfer!AG17 -> 0 | BM22: =DataTransfer!AH17 -> 0 | BO22: =DataTransfer!AI17 -> 0 | BQ22: =DataTransfer!AJ17 -> 0 | BS22: =DataTransfer!AK17 -> 0 | BU22: =DataTransfer!AL17 -> 0 | BW22: =DataTransfer!AM17 -> 0 | BY22: =DataTransfer!AN17 -> 0 | CA22: =DataTransfer!AO17 -> 0 | CC22: =DataTransfer!AP17 -> 0 | CE22: =DataTransfer!AQ17 -> 0 | CG22: =DataTransfer!AR17 -> 0 | CI22: =DataTransfer!AS17 -> 0 | CK22: =DataTransfer!AT17 -> 0 | CM22: =DataTransfer!AU17 -> 0 | CO22: =DataTransfer!AV17 -> 0 | CQ22: =DataTransfer!AW17 -> 0 | CS22: =DataTransfer!AX17 -> 0 | CU22: =DataTransfer!AY17 -> 0 | CW22: =DataTransfer!AZ17 -> 0 | CY22: =DataTransfer!BA17 -> 0 | DA22: =DataTransfer!BB17 -> 0 | DC22: =DataTransfer!BC17 -> 0 | DE22: =DataTransfer!BD17 -> 0 | DG22: =DataTransfer!BE17 -> 0 | DI22: =DataTransfer!BF17 -> 0 | DK22: =DataTransfer!BG17 -> 0 | DM22: =DataTransfer!BH17 -> 0 | DO22: =DataTransfer!BI17 -> 0 | DQ22: =DataTransfer!BJ17 -> 0 | DS22: =DataTransfer!BK17 -> 0 | DU22: =DataTransfer!BL17 -> 0 | DW22: =DataTransfer!BM17 -> 0 | DY22: =DataTransfer!BN17 -> 0 | EA22: =DataTransfer!BO17 -> 0 | EC22: =DataTransfer!BP17 -> 0 | EE22: =DataTransfer!BQ17 -> 0 | EG22: =DataTransfer!BR17 -> 0 | EI22: =DataTransfer!BS17 -> 0 | EK22: =DataTransfer!BT17 -> 0 | EM22: =DataTransfer!BU17 -> 0 | EO22: =DataTransfer!BV17 -> 0 | EQ22: =DataTransfer!BW17 -> 0 | ES22: =DataTransfer!BX17 -> 0 | EU22: =DataTransfer!BY17 -> 0 | EW22: =DataTransfer!BZ17 -> 0 | EY22: =DataTransfer!CA17 -> 0 | FA22: =DataTransfer!CB17 -> 0 | FC22: =DataTransfer!CC17 -> 0 | FE22: =DataTransfer!CD17 -> 0 | FG22: =DataTransfer!CE17 -> 0 | FI22: =DataTransfer!CF17 -> 0 | FK22: =DataTransfer!CG17 -> 0 | FM22: =DataTransfer!CH17 -> 0 | FO22: =DataTransfer!CI17 -> 0 | FQ22: =DataTransfer!CJ17 -> 0 | FS22: =DataTransfer!CK17 -> 0 | FU22: =DataTransfer!CL17 -> 0 | FW22: =DataTransfer!CM17 -> 0 | FY22: =DataTransfer!CN17 -> 0 | GA22: =DataTransfer!CO17 -> 0 | GC22: =DataTransfer!CP17 -> 0 | GE22: =DataTransfer!CQ17 -> 0 | GG22: =DataTransfer!CR17 -> 0 | GI22: =DataTransfer!CS17 -> 0 | GK22: =DataTransfer!CT17 -> 0 | GM22: =DataTransfer!CU17 -> 0 | GO22: =DataTransfer!CV17 -> 0 | GQ22: =DataTransfer!CW17 -> 0 | GS22: =DataTransfer!CX17 -> 0 | GU22: =DataTransfer!CY17 -> 0
A23: =DataTransfer!A18 -> Disabling condition (DC) | B23: =DataTransfer!B18 -> All | C23: =DataTransfer!C18 -> 0 | E23: =DataTransfer!D18 -> 0 | G23: =DataTransfer!E18 -> 0 | I23: =DataTransfer!F18 -> 0 | K23: =DataTransfer!G18 -> 0 | M23: =DataTransfer!H18 -> 0 | O23: =DataTransfer!I18 -> 0 | Q23: =DataTransfer!J18 -> 0 | S23: =DataTransfer!K18 -> 0 | U23: =DataTransfer!L18 -> 0 | W23: =DataTransfer!M18 -> 0 | Y23: =DataTransfer!N18 -> 0 | AA23: =DataTransfer!O18 -> 0 | AC23: =DataTransfer!P18 -> 0 | AE23: =DataTransfer!Q18 -> 0 | AG23: =DataTransfer!R18 -> 0 | AI23: =DataTransfer!S18 -> 0 | AK23: =DataTransfer!T18 -> 0 | AM23: =DataTransfer!U18 -> 0 | AO23: =DataTransfer!V18 -> 0 | AQ23: =DataTransfer!W18 -> 0 | AS23: =DataTransfer!X18 -> 0 | AU23: =DataTransfer!Y18 -> 0 | AW23: =DataTransfer!Z18 -> 0 | AY23: =DataTransfer!AA18 -> 0 | BA23: =DataTransfer!AB18 -> 0 | BC23: =DataTransfer!AC18 -> 0 | BE23: =DataTransfer!AD18 -> 0 | BG23: =DataTransfer!AE18 -> 0 | BI23: =DataTransfer!AF18 -> 0 | BK23: =DataTransfer!AG18 -> 0 | BM23: =DataTransfer!AH18 -> 0 | BO23: =DataTransfer!AI18 -> 0 | BQ23: =DataTransfer!AJ18 -> 0 | BS23: =DataTransfer!AK18 -> 0 | BU23: =DataTransfer!AL18 -> 0 | BW23: =DataTransfer!AM18 -> 0 | BY23: =DataTransfer!AN18 -> 0 | CA23: =DataTransfer!AO18 -> 0 | CC23: =DataTransfer!AP18 -> 0 | CE23: =DataTransfer!AQ18 -> 0 | CG23: =DataTransfer!AR18 -> 0 | CI23: =DataTransfer!AS18 -> 0 | CK23: =DataTransfer!AT18 -> 0 | CM23: =DataTransfer!AU18 -> 0 | CO23: =DataTransfer!AV18 -> 0 | CQ23: =DataTransfer!AW18 -> 0 | CS23: =DataTransfer!AX18 -> 0 | CU23: =DataTransfer!AY18 -> 0 | CW23: =DataTransfer!AZ18 -> 0 | CY23: =DataTransfer!BA18 -> 0 | DA23: =DataTransfer!BB18 -> 0 | DC23: =DataTransfer!BC18 -> 0 | DE23: =DataTransfer!BD18 -> 0 | DG23: =DataTransfer!BE18 -> 0 | DI23: =DataTransfer!BF18 -> 0 | DK23: =DataTransfer!BG18 -> 0 | DM23: =DataTransfer!BH18 -> 0 | DO23: =DataTransfer!BI18 -> 0 | DQ23: =DataTransfer!BJ18 -> 0 | DS23: =DataTransfer!BK18 -> 0 | DU23: =DataTransfer!BL18 -> 0 | DW23: =DataTransfer!BM18 -> 0 | DY23: =DataTransfer!BN18 -> 0 | EA23: =DataTransfer!BO18 -> 0 | EC23: =DataTransfer!BP18 -> 0 | EE23: =DataTransfer!BQ18 -> 0 | EG23: =DataTransfer!BR18 -> 0 | EI23: =DataTransfer!BS18 -> 0 | EK23: =DataTransfer!BT18 -> 0 | EM23: =DataTransfer!BU18 -> 0 | EO23: =DataTransfer!BV18 -> 0 | EQ23: =DataTransfer!BW18 -> 0 | ES23: =DataTransfer!BX18 -> 0 | EU23: =DataTransfer!BY18 -> 0 | EW23: =DataTransfer!BZ18 -> 0 | EY23: =DataTransfer!CA18 -> 0 | FA23: =DataTransfer!CB18 -> 0 | FC23: =DataTransfer!CC18 -> 0 | FE23: =DataTransfer!CD18 -> 0 | FG23: =DataTransfer!CE18 -> 0 | FI23: =DataTransfer!CF18 -> 0 | FK23: =DataTransfer!CG18 -> 0 | FM23: =DataTransfer!CH18 -> 0 | FO23: =DataTransfer!CI18 -> 0 | FQ23: =DataTransfer!CJ18 -> 0 | FS23: =DataTransfer!CK18 -> 0 | FU23: =DataTransfer!CL18 -> 0 | FW23: =DataTransfer!CM18 -> 0 | FY23: =DataTransfer!CN18 -> 0 | GA23: =DataTransfer!CO18 -> 0 | GC23: =DataTransfer!CP18 -> 0 | GE23: =DataTransfer!CQ18 -> 0 | GG23: =DataTransfer!CR18 -> 0 | GI23: =DataTransfer!CS18 -> 0 | GK23: =DataTransfer!CT18 -> 0 | GM23: =DataTransfer!CU18 -> 0 | GO23: =DataTransfer!CV18 -> 0 | GQ23: =DataTransfer!CW18 -> 0 | GS23: =DataTransfer!CX18 -> 0 | GU23: =DataTransfer!CY18 -> 0
A24: =DataTransfer!A19 -> Disability @ Entry (DC) | B24: =DataTransfer!B19 -> All | C24: =DataTransfer!C19 -> 0 | E24: =DataTransfer!D19 -> 0 | G24: =DataTransfer!E19 -> 0 | I24: =DataTransfer!F19 -> 0 | K24: =DataTransfer!G19 -> 0 | M24: =DataTransfer!H19 -> 0 | O24: =DataTransfer!I19 -> 0 | Q24: =DataTransfer!J19 -> 0 | S24: =DataTransfer!K19 -> 0 | U24: =DataTransfer!L19 -> 0 | W24: =DataTransfer!M19 -> 0 | Y24: =DataTransfer!N19 -> 0 | AA24: =DataTransfer!O19 -> 0 | AC24: =DataTransfer!P19 -> 0 | AE24: =DataTransfer!Q19 -> 0 | AG24: =DataTransfer!R19 -> 0 | AI24: =DataTransfer!S19 -> 0 | AK24: =DataTransfer!T19 -> 0 | AM24: =DataTransfer!U19 -> 0 | AO24: =DataTransfer!V19 -> 0 | AQ24: =DataTransfer!W19 -> 0 | AS24: =DataTransfer!X19 -> 0 | AU24: =DataTransfer!Y19 -> 0 | AW24: =DataTransfer!Z19 -> 0 | AY24: =DataTransfer!AA19 -> 0 | BA24: =DataTransfer!AB19 -> 0 | BC24: =DataTransfer!AC19 -> 0 | BE24: =DataTransfer!AD19 -> 0 | BG24: =DataTransfer!AE19 -> 0 | BI24: =DataTransfer!AF19 -> 0 | BK24: =DataTransfer!AG19 -> 0 | BM24: =DataTransfer!AH19 -> 0 | BO24: =DataTransfer!AI19 -> 0 | BQ24: =DataTransfer!AJ19 -> 0 | BS24: =DataTransfer!AK19 -> 0 | BU24: =DataTransfer!AL19 -> 0 | BW24: =DataTransfer!AM19 -> 0 | BY24: =DataTransfer!AN19 -> 0 | CA24: =DataTransfer!AO19 -> 0 | CC24: =DataTransfer!AP19 -> 0 | CE24: =DataTransfer!AQ19 -> 0 | CG24: =DataTransfer!AR19 -> 0 | CI24: =DataTransfer!AS19 -> 0 | CK24: =DataTransfer!AT19 -> 0 | CM24: =DataTransfer!AU19 -> 0 | CO24: =DataTransfer!AV19 -> 0 | CQ24: =DataTransfer!AW19 -> 0 | CS24: =DataTransfer!AX19 -> 0 | CU24: =DataTransfer!AY19 -> 0 | CW24: =DataTransfer!AZ19 -> 0 | CY24: =DataTransfer!BA19 -> 0 | DA24: =DataTransfer!BB19 -> 0 | DC24: =DataTransfer!BC19 -> 0 | DE24: =DataTransfer!BD19 -> 0 | DG24: =DataTransfer!BE19 -> 0 | DI24: =DataTransfer!BF19 -> 0 | DK24: =DataTransfer!BG19 -> 0 | DM24: =DataTransfer!BH19 -> 0 | DO24: =DataTransfer!BI19 -> 0 | DQ24: =DataTransfer!BJ19 -> 0 | DS24: =DataTransfer!BK19 -> 0 | DU24: =DataTransfer!BL19 -> 0 | DW24: =DataTransfer!BM19 -> 0 | DY24: =DataTransfer!BN19 -> 0 | EA24: =DataTransfer!BO19 -> 0 | EC24: =DataTransfer!BP19 -> 0 | EE24: =DataTransfer!BQ19 -> 0 | EG24: =DataTransfer!BR19 -> 0 | EI24: =DataTransfer!BS19 -> 0 | EK24: =DataTransfer!BT19 -> 0 | EM24: =DataTransfer!BU19 -> 0 | EO24: =DataTransfer!BV19 -> 0 | EQ24: =DataTransfer!BW19 -> 0 | ES24: =DataTransfer!BX19 -> 0 | EU24: =DataTransfer!BY19 -> 0 | EW24: =DataTransfer!BZ19 -> 0 | EY24: =DataTransfer!CA19 -> 0 | FA24: =DataTransfer!CB19 -> 0 | FC24: =DataTransfer!CC19 -> 0 | FE24: =DataTransfer!CD19 -> 0 | FG24: =DataTransfer!CE19 -> 0 | FI24: =DataTransfer!CF19 -> 0 | FK24: =DataTransfer!CG19 -> 0 | FM24: =DataTransfer!CH19 -> 0 | FO24: =DataTransfer!CI19 -> 0 | FQ24: =DataTransfer!CJ19 -> 0 | FS24: =DataTransfer!CK19 -> 0 | FU24: =DataTransfer!CL19 -> 0 | FW24: =DataTransfer!CM19 -> 0 | FY24: =DataTransfer!CN19 -> 0 | GA24: =DataTransfer!CO19 -> 0 | GC24: =DataTransfer!CP19 -> 0 | GE24: =DataTransfer!CQ19 -> 0 | GG24: =DataTransfer!CR19 -> 0 | GI24: =DataTransfer!CS19 -> 0 | GK24: =DataTransfer!CT19 -> 0 | GM24: =DataTransfer!CU19 -> 0 | GO24: =DataTransfer!CV19 -> 0 | GQ24: =DataTransfer!CW19 -> 0 | GS24: =DataTransfer!CX19 -> 0 | GU24: =DataTransfer!CY19 -> 0
A25: Comments
A27: =DataTransfer!A20 -> Exit Date (Reasonableness based on exit documents) | B27: =DataTransfer!B20 -> All | C27: =IF(DataTransfer!C20="","",DataTransfer!C20) | E27: =IF(DataTransfer!D20="","",DataTransfer!D20) | G27: =IF(DataTransfer!E20="","",DataTransfer!E20) | I27: =IF(DataTransfer!F20="","",DataTransfer!F20) | K27: =IF(DataTransfer!G20="","",DataTransfer!G20) | M27: =IF(DataTransfer!H20="","",DataTransfer!H20) | O27: =IF(DataTransfer!I20="","",DataTransfer!I20) | Q27: =IF(DataTransfer!J20="","",DataTransfer!J20) | S27: =IF(DataTransfer!K20="","",DataTransfer!K20) | U27: =IF(DataTransfer!L20="","",DataTransfer!L20) | W27: =IF(DataTransfer!M20="","",DataTransfer!M20) | Y27: =IF(DataTransfer!N20="","",DataTransfer!N20) | AA27: =IF(DataTransfer!O20="","",DataTransfer!O20) | AC27: =IF(DataTransfer!P20="","",DataTransfer!P20) | AE27: =IF(DataTransfer!Q20="","",DataTransfer!Q20) | AG27: =IF(DataTransfer!R20="","",DataTransfer!R20) | AI27: =IF(DataTransfer!S20="","",DataTransfer!S20) | AK27: =IF(DataTransfer!T20="","",DataTransfer!T20) | AM27: =IF(DataTransfer!U20="","",DataTransfer!U20) | AO27: =IF(DataTransfer!V20="","",DataTransfer!V20) | AQ27: =IF(DataTransfer!W20="","",DataTransfer!W20) | AS27: =IF(DataTransfer!X20="","",DataTransfer!X20) | AU27: =IF(DataTransfer!Y20="","",DataTransfer!Y20) | AW27: =IF(DataTransfer!Z20="","",DataTransfer!Z20) | AY27: =IF(DataTransfer!AA20="","",DataTransfer!AA20) | BA27: =IF(DataTransfer!AB20="","",DataTransfer!AB20) | BC27: =IF(DataTransfer!AC20="","",DataTransfer!AC20) | BE27: =IF(DataTransfer!AD20="","",DataTransfer!AD20) | BG27: =IF(DataTransfer!AE20="","",DataTransfer!AE20) | BI27: =IF(DataTransfer!AF20="","",DataTransfer!AF20) | BK27: =IF(DataTransfer!AG20="","",DataTransfer!AG20) | BM27: =IF(DataTransfer!AH20="","",DataTransfer!AH20) | BO27: =IF(DataTransfer!AI20="","",DataTransfer!AI20) | BQ27: =IF(DataTransfer!AJ20="","",DataTransfer!AJ20) | BS27: =IF(DataTransfer!AK20="","",DataTransfer!AK20) | BU27: =IF(DataTransfer!AL20="","",DataTransfer!AL20) | BW27: =IF(DataTransfer!AM20="","",DataTransfer!AM20) | BY27: =IF(DataTransfer!AN20="","",DataTransfer!AN20) | CA27: =IF(DataTransfer!AO20="","",DataTransfer!AO20) | CC27: =IF(DataTransfer!AP20="","",DataTransfer!AP20) | CE27: =IF(DataTransfer!AQ20="","",DataTransfer!AQ20) | CG27: =IF(DataTransfer!AR20="","",DataTransfer!AR20) | CI27: =IF(DataTransfer!AS20="","",DataTransfer!AS20) | CK27: =IF(DataTransfer!AT20="","",DataTransfer!AT20) | CM27: =IF(DataTransfer!AU20="","",DataTransfer!AU20) | CO27: =IF(DataTransfer!AV20="","",DataTransfer!AV20) | CQ27: =IF(DataTransfer!AW20="","",DataTransfer!AW20) | CS27: =IF(DataTransfer!AX20="","",DataTransfer!AX20) | CU27: =IF(DataTransfer!AY20="","",DataTransfer!AY20) | CW27: =IF(DataTransfer!AZ20="","",DataTransfer!AZ20) | CY27: =IF(DataTransfer!BA20="","",DataTransfer!BA20) | DA27: =IF(DataTransfer!BB20="","",DataTransfer!BB20) | DC27: =IF(DataTransfer!BC20="","",DataTransfer!BC20) | DE27: =IF(DataTransfer!BD20="","",DataTransfer!BD20) | DG27: =IF(DataTransfer!BE20="","",DataTransfer!BE20) | DI27: =IF(DataTransfer!BF20="","",DataTransfer!BF20) | DK27: =IF(DataTransfer!BG20="","",DataTransfer!BG20) | DM27: =IF(DataTransfer!BH20="","",DataTransfer!BH20) | DO27: =IF(DataTransfer!BI20="","",DataTransfer!BI20) | DQ27: =IF(DataTransfer!BJ20="","",DataTransfer!BJ20) | DS27: =IF(DataTransfer!BK20="","",DataTransfer!BK20) | DU27: =IF(DataTransfer!BL20="","",DataTransfer!BL20) | DW27: =IF(DataTransfer!BM20="","",DataTransfer!BM20) | DY27: =IF(DataTransfer!BN20="","",DataTransfer!BN20) | EA27: =IF(DataTransfer!BO20="","",DataTransfer!BO20) | EC27: =IF(DataTransfer!BP20="","",DataTransfer!BP20) | EE27: =IF(DataTransfer!BQ20="","",DataTransfer!BQ20) | EG27: =IF(DataTransfer!BR20="","",DataTransfer!BR20) | EI27: =IF(DataTransfer!BS20="","",DataTransfer!BS20) | EK27: =IF(DataTransfer!BT20="","",DataTransfer!BT20) | EM27: =IF(DataTransfer!BU20="","",DataTransfer!BU20) | EO27: =IF(DataTransfer!BV20="","",DataTransfer!BV20) | EQ27: =IF(DataTransfer!BW20="","",DataTransfer!BW20) | ES27: =IF(DataTransfer!BX20="","",DataTransfer!BX20) | EU27: =IF(DataTransfer!BY20="","",DataTransfer!BY20) | EW27: =IF(DataTransfer!BZ20="","",DataTransfer!BZ20) | EY27: =IF(DataTransfer!CA20="","",DataTransfer!CA20) | FA27: =IF(DataTransfer!CB20="","",DataTransfer!CB20) | FC27: =IF(DataTransfer!CC20="","",DataTransfer!CC20) | FE27: =IF(DataTransfer!CD20="","",DataTransfer!CD20) | FG27: =IF(DataTransfer!CE20="","",DataTransfer!CE20) | FI27: =IF(DataTransfer!CF20="","",DataTransfer!CF20) | FK27: =IF(DataTransfer!CG20="","",DataTransfer!CG20) | FM27: =IF(DataTransfer!CH20="","",DataTransfer!CH20) | FO27: =IF(DataTransfer!CI20="","",DataTransfer!CI20) | FQ27: =IF(DataTransfer!CJ20="","",DataTransfer!CJ20) | FS27: =IF(DataTransfer!CK20="","",DataTransfer!CK20) | FU27: =IF(DataTransfer!CL20="","",DataTransfer!CL20) | FW27: =IF(DataTransfer!CM20="","",DataTransfer!CM20) | FY27: =IF(DataTransfer!CN20="","",DataTransfer!CN20) | GA27: =IF(DataTransfer!CO20="","",DataTransfer!CO20) | GC27: =IF(DataTransfer!CP20="","",DataTransfer!CP20) | GE27: =IF(DataTransfer!CQ20="","",DataTransfer!CQ20) | GG27: =IF(DataTransfer!CR20="","",DataTransfer!CR20) | GI27: =IF(DataTransfer!CS20="","",DataTransfer!CS20) | GK27: =IF(DataTransfer!CT20="","",DataTransfer!CT20) | GM27: =IF(DataTransfer!CU20="","",DataTransfer!CU20) | GO27: =IF(DataTransfer!CV20="","",DataTransfer!CV20) | GQ27: =IF(DataTransfer!CW20="","",DataTransfer!CW20) | GS27: =IF(DataTransfer!CX20="","",DataTransfer!CX20) | GU27: =IF(DataTransfer!CY20="","",DataTransfer!CY20)
A28: =DataTransfer!A21 -> Exit Destination (Reasonableness based on case notes and other exit documentation) | B28: =DataTransfer!B21 -> All | C28: =IF(DataTransfer!C21="","",DataTransfer!C21) | E28: =IF(DataTransfer!D21="","",DataTransfer!D21) | G28: =IF(DataTransfer!E21="","",DataTransfer!E21) | I28: =IF(DataTransfer!F21="","",DataTransfer!F21) | K28: =IF(DataTransfer!G21="","",DataTransfer!G21) | M28: =IF(DataTransfer!H21="","",DataTransfer!H21) | O28: =IF(DataTransfer!I21="","",DataTransfer!I21) | Q28: =IF(DataTransfer!J21="","",DataTransfer!J21) | S28: =IF(DataTransfer!K21="","",DataTransfer!K21) | U28: =IF(DataTransfer!L21="","",DataTransfer!L21) | W28: =IF(DataTransfer!M21="","",DataTransfer!M21) | Y28: =IF(DataTransfer!N21="","",DataTransfer!N21) | AA28: =IF(DataTransfer!O21="","",DataTransfer!O21) | AC28: =IF(DataTransfer!P21="","",DataTransfer!P21) | AE28: =IF(DataTransfer!Q21="","",DataTransfer!Q21) | AG28: =IF(DataTransfer!R21="","",DataTransfer!R21) | AI28: =IF(DataTransfer!S21="","",DataTransfer!S21) | AK28: =IF(DataTransfer!T21="","",DataTransfer!T21) | AM28: =IF(DataTransfer!U21="","",DataTransfer!U21) | AO28: =IF(DataTransfer!V21="","",DataTransfer!V21) | AQ28: =IF(DataTransfer!W21="","",DataTransfer!W21) | AS28: =IF(DataTransfer!X21="","",DataTransfer!X21) | AU28: =IF(DataTransfer!Y21="","",DataTransfer!Y21) | AW28: =IF(DataTransfer!Z21="","",DataTransfer!Z21) | AY28: =IF(DataTransfer!AA21="","",DataTransfer!AA21) | BA28: =IF(DataTransfer!AB21="","",DataTransfer!AB21) | BC28: =IF(DataTransfer!AC21="","",DataTransfer!AC21) | BE28: =IF(DataTransfer!AD21="","",DataTransfer!AD21) | BG28: =IF(DataTransfer!AE21="","",DataTransfer!AE21) | BI28: =IF(DataTransfer!AF21="","",DataTransfer!AF21) | BK28: =IF(DataTransfer!AG21="","",DataTransfer!AG21) | BM28: =IF(DataTransfer!AH21="","",DataTransfer!AH21) | BO28: =IF(DataTransfer!AI21="","",DataTransfer!AI21) | BQ28: =IF(DataTransfer!AJ21="","",DataTransfer!AJ21) | BS28: =IF(DataTransfer!AK21="","",DataTransfer!AK21) | BU28: =IF(DataTransfer!AL21="","",DataTransfer!AL21) | BW28: =IF(DataTransfer!AM21="","",DataTransfer!AM21) | BY28: =IF(DataTransfer!AN21="","",DataTransfer!AN21) | CA28: =IF(DataTransfer!AO21="","",DataTransfer!AO21) | CC28: =IF(DataTransfer!AP21="","",DataTransfer!AP21) | CE28: =IF(DataTransfer!AQ21="","",DataTransfer!AQ21) | CG28: =IF(DataTransfer!AR21="","",DataTransfer!AR21) | CI28: =IF(DataTransfer!AS21="","",DataTransfer!AS21) | CK28: =IF(DataTransfer!AT21="","",DataTransfer!AT21) | CM28: =IF(DataTransfer!AU21="","",DataTransfer!AU21) | CO28: =IF(DataTransfer!AV21="","",DataTransfer!AV21) | CQ28: =IF(DataTransfer!AW21="","",DataTransfer!AW21) | CS28: =IF(DataTransfer!AX21="","",DataTransfer!AX21) | CU28: =IF(DataTransfer!AY21="","",DataTransfer!AY21) | CW28: =IF(DataTransfer!AZ21="","",DataTransfer!AZ21) | CY28: =IF(DataTransfer!BA21="","",DataTransfer!BA21) | DA28: =IF(DataTransfer!BB21="","",DataTransfer!BB21) | DC28: =IF(DataTransfer!BC21="","",DataTransfer!BC21) | DE28: =IF(DataTransfer!BD21="","",DataTransfer!BD21) | DG28: =IF(DataTransfer!BE21="","",DataTransfer!BE21) | DI28: =IF(DataTransfer!BF21="","",DataTransfer!BF21) | DK28: =IF(DataTransfer!BG21="","",DataTransfer!BG21) | DM28: =IF(DataTransfer!BH21="","",DataTransfer!BH21) | DO28: =IF(DataTransfer!BI21="","",DataTransfer!BI21) | DQ28: =IF(DataTransfer!BJ21="","",DataTransfer!BJ21) | DS28: =IF(DataTransfer!BK21="","",DataTransfer!BK21) | DU28: =IF(DataTransfer!BL21="","",DataTransfer!BL21) | DW28: =IF(DataTransfer!BM21="","",DataTransfer!BM21) | DY28: =IF(DataTransfer!BN21="","",DataTransfer!BN21) | EA28: =IF(DataTransfer!BO21="","",DataTransfer!BO21) | EC28: =IF(DataTransfer!BP21="","",DataTransfer!BP21) | EE28: =IF(DataTransfer!BQ21="","",DataTransfer!BQ21) | EG28: =IF(DataTransfer!BR21="","",DataTransfer!BR21) | EI28: =IF(DataTransfer!BS21="","",DataTransfer!BS21) | EK28: =IF(DataTransfer!BT21="","",DataTransfer!BT21) | EM28: =IF(DataTransfer!BU21="","",DataTransfer!BU21) | EO28: =IF(DataTransfer!BV21="","",DataTransfer!BV21) | EQ28: =IF(DataTransfer!BW21="","",DataTransfer!BW21) | ES28: =IF(DataTransfer!BX21="","",DataTransfer!BX21) | EU28: =IF(DataTransfer!BY21="","",DataTransfer!BY21) | EW28: =IF(DataTransfer!BZ21="","",DataTransfer!BZ21) | EY28: =IF(DataTransfer!CA21="","",DataTransfer!CA21) | FA28: =IF(DataTransfer!CB21="","",DataTransfer!CB21) | FC28: =IF(DataTransfer!CC21="","",DataTransfer!CC21) | FE28: =IF(DataTransfer!CD21="","",DataTransfer!CD21) | FG28: =IF(DataTransfer!CE21="","",DataTransfer!CE21) | FI28: =IF(DataTransfer!CF21="","",DataTransfer!CF21) | FK28: =IF(DataTransfer!CG21="","",DataTransfer!CG21) | FM28: =IF(DataTransfer!CH21="","",DataTransfer!CH21) | FO28: =IF(DataTransfer!CI21="","",DataTransfer!CI21) | FQ28: =IF(DataTransfer!CJ21="","",DataTransfer!CJ21) | FS28: =IF(DataTransfer!CK21="","",DataTransfer!CK21) | FU28: =IF(DataTransfer!CL21="","",DataTransfer!CL21) | FW28: =IF(DataTransfer!CM21="","",DataTransfer!CM21) | FY28: =IF(DataTransfer!CN21="","",DataTransfer!CN21) | GA28: =IF(DataTransfer!CO21="","",DataTransfer!CO21) | GC28: =IF(DataTransfer!CP21="","",DataTransfer!CP21) | GE28: =IF(DataTransfer!CQ21="","",DataTransfer!CQ21) | GG28: =IF(DataTransfer!CR21="","",DataTransfer!CR21) | GI28: =IF(DataTransfer!CS21="","",DataTransfer!CS21) | GK28: =IF(DataTransfer!CT21="","",DataTransfer!CT21) | GM28: =IF(DataTransfer!CU21="","",DataTransfer!CU21) | GO28: =IF(DataTransfer!CV21="","",DataTransfer!CV21) | GQ28: =IF(DataTransfer!CW21="","",DataTransfer!CW21) | GS28: =IF(DataTransfer!CX21="","",DataTransfer!CX21) | GU28: =IF(DataTransfer!CY21="","",DataTransfer!CY21)
A29: =DataTransfer!A22 -> Subsidy Type | B29: =DataTransfer!B22 -> All | C29: =DataTransfer!C22 -> 0 | E29: =DataTransfer!D22 -> 0 | G29: =DataTransfer!E22 -> 0 | I29: =DataTransfer!F22 -> 0 | K29: =DataTransfer!G22 -> 0 | M29: =DataTransfer!H22 -> 0 | O29: =DataTransfer!I22 -> 0 | Q29: =DataTransfer!J22 -> 0 | S29: =DataTransfer!K22 -> 0 | U29: =DataTransfer!L22 -> 0 | W29: =DataTransfer!M22 -> 0 | Y29: =DataTransfer!N22 -> 0 | AA29: =DataTransfer!O22 -> 0 | AC29: =DataTransfer!P22 -> 0 | AE29: =DataTransfer!Q22 -> 0 | AG29: =DataTransfer!R22 -> 0 | AI29: =DataTransfer!S22 -> 0 | AK29: =DataTransfer!T22 -> 0 | AM29: =DataTransfer!U22 -> 0 | AO29: =DataTransfer!V22 -> 0 | AQ29: =DataTransfer!W22 -> 0 | AS29: =DataTransfer!X22 -> 0 | AU29: =DataTransfer!Y22 -> 0 | AW29: =DataTransfer!Z22 -> 0 | AY29: =DataTransfer!AA22 -> 0 | BA29: =DataTransfer!AB22 -> 0 | BC29: =DataTransfer!AC22 -> 0 | BE29: =DataTransfer!AD22 -> 0 | BG29: =DataTransfer!AE22 -> 0 | BI29: =DataTransfer!AF22 -> 0 | BK29: =DataTransfer!AG22 -> 0 | BM29: =DataTransfer!AH22 -> 0 | BO29: =DataTransfer!AI22 -> 0 | BQ29: =DataTransfer!AJ22 -> 0 | BS29: =DataTransfer!AK22 -> 0 | BU29: =DataTransfer!AL22 -> 0 | BW29: =DataTransfer!AM22 -> 0 | BY29: =DataTransfer!AN22 -> 0 | CA29: =DataTransfer!AO22 -> 0 | CC29: =DataTransfer!AP22 -> 0 | CE29: =DataTransfer!AQ22 -> 0 | CG29: =DataTransfer!AR22 -> 0 | CI29: =DataTransfer!AS22 -> 0 | CK29: =DataTransfer!AT22 -> 0 | CM29: =DataTransfer!AU22 -> 0 | CO29: =DataTransfer!AV22 -> 0 | CQ29: =DataTransfer!AW22 -> 0 | CS29: =DataTransfer!AX22 -> 0 | CU29: =DataTransfer!AY22 -> 0 | CW29: =DataTransfer!AZ22 -> 0 | CY29: =DataTransfer!BA22 -> 0 | DA29: =DataTransfer!BB22 -> 0 | DC29: =DataTransfer!BC22 -> 0 | DE29: =DataTransfer!BD22 -> 0 | DG29: =DataTransfer!BE22 -> 0 | DI29: =DataTransfer!BF22 -> 0 | DK29: =DataTransfer!BG22 -> 0 | DM29: =DataTransfer!BH22 -> 0 | DO29: =DataTransfer!BI22 -> 0 | DQ29: =DataTransfer!BJ22 -> 0 | DS29: =DataTransfer!BK22 -> 0 | DU29: =DataTransfer!BL22 -> 0 | DW29: =DataTransfer!BM22 -> 0 | DY29: =DataTransfer!BN22 -> 0 | EA29: =DataTransfer!BO22 -> 0 | EC29: =DataTransfer!BP22 -> 0 | EE29: =DataTransfer!BQ22 -> 0 | EG29: =DataTransfer!BR22 -> 0 | EI29: =DataTransfer!BS22 -> 0 | EK29: =DataTransfer!BT22 -> 0 | EM29: =DataTransfer!BU22 -> 0 | EO29: =DataTransfer!BV22 -> 0 | EQ29: =DataTransfer!BW22 -> 0 | ES29: =DataTransfer!BX22 -> 0 | EU29: =DataTransfer!BY22 -> 0 | EW29: =DataTransfer!BZ22 -> 0 | EY29: =DataTransfer!CA22 -> 0 | FA29: =DataTransfer!CB22 -> 0 | FC29: =DataTransfer!CC22 -> 0 | FE29: =DataTransfer!CD22 -> 0 | FG29: =DataTransfer!CE22 -> 0 | FI29: =DataTransfer!CF22 -> 0 | FK29: =DataTransfer!CG22 -> 0 | FM29: =DataTransfer!CH22 -> 0 | FO29: =DataTransfer!CI22 -> 0 | FQ29: =DataTransfer!CJ22 -> 0 | FS29: =DataTransfer!CK22 -> 0 | FU29: =DataTransfer!CL22 -> 0 | FW29: =DataTransfer!CM22 -> 0 | FY29: =DataTransfer!CN22 -> 0 | GA29: =DataTransfer!CO22 -> 0 | GC29: =DataTransfer!CP22 -> 0 | GE29: =DataTransfer!CQ22 -> 0 | GG29: =DataTransfer!CR22 -> 0 | GI29: =DataTransfer!CS22 -> 0 | GK29: =DataTransfer!CT22 -> 0 | GM29: =DataTransfer!CU22 -> 0 | GO29: =DataTransfer!CV22 -> 0 | GQ29: =DataTransfer!CW22 -> 0 | GS29: =DataTransfer!CX22 -> 0 | GU29: =DataTransfer!CY22 -> 0
A30: =DataTransfer!A23 -> Employed @ Exit/Review (Income Documentation) | B30: =DataTransfer!B23 -> HoH and adults | C30: =DataTransfer!C23 -> 0 | E30: =DataTransfer!D23 -> 0 | G30: =DataTransfer!E23 -> 0 | I30: =DataTransfer!F23 -> 0 | K30: =DataTransfer!G23 -> 0 | M30: =DataTransfer!H23 -> 0 | O30: =DataTransfer!I23 -> 0 | Q30: =DataTransfer!J23 -> 0 | S30: =DataTransfer!K23 -> 0 | U30: =DataTransfer!L23 -> 0 | W30: =DataTransfer!M23 -> 0 | Y30: =DataTransfer!N23 -> 0 | AA30: =DataTransfer!O23 -> 0 | AC30: =DataTransfer!P23 -> 0 | AE30: =DataTransfer!Q23 -> 0 | AG30: =DataTransfer!R23 -> 0 | AI30: =DataTransfer!S23 -> 0 | AK30: =DataTransfer!T23 -> 0 | AM30: =DataTransfer!U23 -> 0 | AO30: =DataTransfer!V23 -> 0 | AQ30: =DataTransfer!W23 -> 0 | AS30: =DataTransfer!X23 -> 0 | AU30: =DataTransfer!Y23 -> 0 | AW30: =DataTransfer!Z23 -> 0 | AY30: =DataTransfer!AA23 -> 0 | BA30: =DataTransfer!AB23 -> 0 | BC30: =DataTransfer!AC23 -> 0 | BE30: =DataTransfer!AD23 -> 0 | BG30: =DataTransfer!AE23 -> 0 | BI30: =DataTransfer!AF23 -> 0 | BK30: =DataTransfer!AG23 -> 0 | BM30: =DataTransfer!AH23 -> 0 | BO30: =DataTransfer!AI23 -> 0 | BQ30: =DataTransfer!AJ23 -> 0 | BS30: =DataTransfer!AK23 -> 0 | BU30: =DataTransfer!AL23 -> 0 | BW30: =DataTransfer!AM23 -> 0 | BY30: =DataTransfer!AN23 -> 0 | CA30: =DataTransfer!AO23 -> 0 | CC30: =DataTransfer!AP23 -> 0 | CE30: =DataTransfer!AQ23 -> 0 | CG30: =DataTransfer!AR23 -> 0 | CI30: =DataTransfer!AS23 -> 0 | CK30: =DataTransfer!AT23 -> 0 | CM30: =DataTransfer!AU23 -> 0 | CO30: =DataTransfer!AV23 -> 0 | CQ30: =DataTransfer!AW23 -> 0 | CS30: =DataTransfer!AX23 -> 0 | CU30: =DataTransfer!AY23 -> 0 | CW30: =DataTransfer!AZ23 -> 0 | CY30: =DataTransfer!BA23 -> 0 | DA30: =DataTransfer!BB23 -> 0 | DC30: =DataTransfer!BC23 -> 0 | DE30: =DataTransfer!BD23 -> 0 | DG30: =DataTransfer!BE23 -> 0 | DI30: =DataTransfer!BF23 -> 0 | DK30: =DataTransfer!BG23 -> 0 | DM30: =DataTransfer!BH23 -> 0 | DO30: =DataTransfer!BI23 -> 0 | DQ30: =DataTransfer!BJ23 -> 0 | DS30: =DataTransfer!BK23 -> 0 | DU30: =DataTransfer!BL23 -> 0 | DW30: =DataTransfer!BM23 -> 0 | DY30: =DataTransfer!BN23 -> 0 | EA30: =DataTransfer!BO23 -> 0 | EC30: =DataTransfer!BP23 -> 0 | EE30: =DataTransfer!BQ23 -> 0 | EG30: =DataTransfer!BR23 -> 0 | EI30: =DataTransfer!BS23 -> 0 | EK30: =DataTransfer!BT23 -> 0 | EM30: =DataTransfer!BU23 -> 0 | EO30: =DataTransfer!BV23 -> 0 | EQ30: =DataTransfer!BW23 -> 0 | ES30: =DataTransfer!BX23 -> 0 | EU30: =DataTransfer!BY23 -> 0 | EW30: =DataTransfer!BZ23 -> 0 | EY30: =DataTransfer!CA23 -> 0 | FA30: =DataTransfer!CB23 -> 0 | FC30: =DataTransfer!CC23 -> 0 | FE30: =DataTransfer!CD23 -> 0 | FG30: =DataTransfer!CE23 -> 0 | FI30: =DataTransfer!CF23 -> 0 | FK30: =DataTransfer!CG23 -> 0 | FM30: =DataTransfer!CH23 -> 0 | FO30: =DataTransfer!CI23 -> 0 | FQ30: =DataTransfer!CJ23 -> 0 | FS30: =DataTransfer!CK23 -> 0 | FU30: =DataTransfer!CL23 -> 0 | FW30: =DataTransfer!CM23 -> 0 | FY30: =DataTransfer!CN23 -> 0 | GA30: =DataTransfer!CO23 -> 0 | GC30: =DataTransfer!CP23 -> 0 | GE30: =DataTransfer!CQ23 -> 0 | GG30: =DataTransfer!CR23 -> 0 | GI30: =DataTransfer!CS23 -> 0 | GK30: =DataTransfer!CT23 -> 0 | GM30: =DataTransfer!CU23 -> 0 | GO30: =DataTransfer!CV23 -> 0 | GQ30: =DataTransfer!CW23 -> 0 | GS30: =DataTransfer!CX23 -> 0 | GU30: =DataTransfer!CY23 -> 0
A31: =DataTransfer!A24 -> Income from Any Source @ Exit/Review (Income Documentation) | B31: =DataTransfer!B24 -> HoH and adults | C31: =DataTransfer!C24 -> 0 | E31: =DataTransfer!D24 -> 0 | G31: =DataTransfer!E24 -> 0 | I31: =DataTransfer!F24 -> 0 | K31: =DataTransfer!G24 -> 0 | M31: =DataTransfer!H24 -> 0 | O31: =DataTransfer!I24 -> 0 | Q31: =DataTransfer!J24 -> 0 | S31: =DataTransfer!K24 -> 0 | U31: =DataTransfer!L24 -> 0 | W31: =DataTransfer!M24 -> 0 | Y31: =DataTransfer!N24 -> 0 | AA31: =DataTransfer!O24 -> 0 | AC31: =DataTransfer!P24 -> 0 | AE31: =DataTransfer!Q24 -> 0 | AG31: =DataTransfer!R24 -> 0 | AI31: =DataTransfer!S24 -> 0 | AK31: =DataTransfer!T24 -> 0 | AM31: =DataTransfer!U24 -> 0 | AO31: =DataTransfer!V24 -> 0 | AQ31: =DataTransfer!W24 -> 0 | AS31: =DataTransfer!X24 -> 0 | AU31: =DataTransfer!Y24 -> 0 | AW31: =DataTransfer!Z24 -> 0 | AY31: =DataTransfer!AA24 -> 0 | BA31: =DataTransfer!AB24 -> 0 | BC31: =DataTransfer!AC24 -> 0 | BE31: =DataTransfer!AD24 -> 0 | BG31: =DataTransfer!AE24 -> 0 | BI31: =DataTransfer!AF24 -> 0 | BK31: =DataTransfer!AG24 -> 0 | BM31: =DataTransfer!AH24 -> 0 | BO31: =DataTransfer!AI24 -> 0 | BQ31: =DataTransfer!AJ24 -> 0 | BS31: =DataTransfer!AK24 -> 0 | BU31: =DataTransfer!AL24 -> 0 | BW31: =DataTransfer!AM24 -> 0 | BY31: =DataTransfer!AN24 -> 0 | CA31: =DataTransfer!AO24 -> 0 | CC31: =DataTransfer!AP24 -> 0 | CE31: =DataTransfer!AQ24 -> 0 | CG31: =DataTransfer!AR24 -> 0 | CI31: =DataTransfer!AS24 -> 0 | CK31: =DataTransfer!AT24 -> 0 | CM31: =DataTransfer!AU24 -> 0 | CO31: =DataTransfer!AV24 -> 0 | CQ31: =DataTransfer!AW24 -> 0 | CS31: =DataTransfer!AX24 -> 0 | CU31: =DataTransfer!AY24 -> 0 | CW31: =DataTransfer!AZ24 -> 0 | CY31: =DataTransfer!BA24 -> 0 | DA31: =DataTransfer!BB24 -> 0 | DC31: =DataTransfer!BC24 -> 0 | DE31: =DataTransfer!BD24 -> 0 | DG31: =DataTransfer!BE24 -> 0 | DI31: =DataTransfer!BF24 -> 0 | DK31: =DataTransfer!BG24 -> 0 | DM31: =DataTransfer!BH24 -> 0 | DO31: =DataTransfer!BI24 -> 0 | DQ31: =DataTransfer!BJ24 -> 0 | DS31: =DataTransfer!BK24 -> 0 | DU31: =DataTransfer!BL24 -> 0 | DW31: =DataTransfer!BM24 -> 0 | DY31: =DataTransfer!BN24 -> 0 | EA31: =DataTransfer!BO24 -> 0 | EC31: =DataTransfer!BP24 -> 0 | EE31: =DataTransfer!BQ24 -> 0 | EG31: =DataTransfer!BR24 -> 0 | EI31: =DataTransfer!BS24 -> 0 | EK31: =DataTransfer!BT24 -> 0 | EM31: =DataTransfer!BU24 -> 0 | EO31: =DataTransfer!BV24 -> 0 | EQ31: =DataTransfer!BW24 -> 0 | ES31: =DataTransfer!BX24 -> 0 | EU31: =DataTransfer!BY24 -> 0 | EW31: =DataTransfer!BZ24 -> 0 | EY31: =DataTransfer!CA24 -> 0 | FA31: =DataTransfer!CB24 -> 0 | FC31: =DataTransfer!CC24 -> 0 | FE31: =DataTransfer!CD24 -> 0 | FG31: =DataTransfer!CE24 -> 0 | FI31: =DataTransfer!CF24 -> 0 | FK31: =DataTransfer!CG24 -> 0 | FM31: =DataTransfer!CH24 -> 0 | FO31: =DataTransfer!CI24 -> 0 | FQ31: =DataTransfer!CJ24 -> 0 | FS31: =DataTransfer!CK24 -> 0 | FU31: =DataTransfer!CL24 -> 0 | FW31: =DataTransfer!CM24 -> 0 | FY31: =DataTransfer!CN24 -> 0 | GA31: =DataTransfer!CO24 -> 0 | GC31: =DataTransfer!CP24 -> 0 | GE31: =DataTransfer!CQ24 -> 0 | GG31: =DataTransfer!CR24 -> 0 | GI31: =DataTransfer!CS24 -> 0 | GK31: =DataTransfer!CT24 -> 0 | GM31: =DataTransfer!CU24 -> 0 | GO31: =DataTransfer!CV24 -> 0 | GQ31: =DataTransfer!CW24 -> 0 | GS31: =DataTransfer!CX24 -> 0 | GU31: =DataTransfer!CY24 -> 0
A32: =DataTransfer!A25 -> Income @ Exit/Review (Income Documentation) | B32: =DataTransfer!B25 -> HoH and adults | C32: =DataTransfer!C25 -> 0 | E32: =DataTransfer!D25 -> 0 | G32: =DataTransfer!E25 -> 0 | I32: =DataTransfer!F25 -> 0 | K32: =DataTransfer!G25 -> 0 | M32: =DataTransfer!H25 -> 0 | O32: =DataTransfer!I25 -> 0 | Q32: =DataTransfer!J25 -> 0 | S32: =DataTransfer!K25 -> 0 | U32: =DataTransfer!L25 -> 0 | W32: =DataTransfer!M25 -> 0 | Y32: =DataTransfer!N25 -> 0 | AA32: =DataTransfer!O25 -> 0 | AC32: =DataTransfer!P25 -> 0 | AE32: =DataTransfer!Q25 -> 0 | AG32: =DataTransfer!R25 -> 0 | AI32: =DataTransfer!S25 -> 0 | AK32: =DataTransfer!T25 -> 0 | AM32: =DataTransfer!U25 -> 0 | AO32: =DataTransfer!V25 -> 0 | AQ32: =DataTransfer!W25 -> 0 | AS32: =DataTransfer!X25 -> 0 | AU32: =DataTransfer!Y25 -> 0 | AW32: =DataTransfer!Z25 -> 0 | AY32: =DataTransfer!AA25 -> 0 | BA32: =DataTransfer!AB25 -> 0 | BC32: =DataTransfer!AC25 -> 0 | BE32: =DataTransfer!AD25 -> 0 | BG32: =DataTransfer!AE25 -> 0 | BI32: =DataTransfer!AF25 -> 0 | BK32: =DataTransfer!AG25 -> 0 | BM32: =DataTransfer!AH25 -> 0 | BO32: =DataTransfer!AI25 -> 0 | BQ32: =DataTransfer!AJ25 -> 0 | BS32: =DataTransfer!AK25 -> 0 | BU32: =DataTransfer!AL25 -> 0 | BW32: =DataTransfer!AM25 -> 0 | BY32: =DataTransfer!AN25 -> 0 | CA32: =DataTransfer!AO25 -> 0 | CC32: =DataTransfer!AP25 -> 0 | CE32: =DataTransfer!AQ25 -> 0 | CG32: =DataTransfer!AR25 -> 0 | CI32: =DataTransfer!AS25 -> 0 | CK32: =DataTransfer!AT25 -> 0 | CM32: =DataTransfer!AU25 -> 0 | CO32: =DataTransfer!AV25 -> 0 | CQ32: =DataTransfer!AW25 -> 0 | CS32: =DataTransfer!AX25 -> 0 | CU32: =DataTransfer!AY25 -> 0 | CW32: =DataTransfer!AZ25 -> 0 | CY32: =DataTransfer!BA25 -> 0 | DA32: =DataTransfer!BB25 -> 0 | DC32: =DataTransfer!BC25 -> 0 | DE32: =DataTransfer!BD25 -> 0 | DG32: =DataTransfer!BE25 -> 0 | DI32: =DataTransfer!BF25 -> 0 | DK32: =DataTransfer!BG25 -> 0 | DM32: =DataTransfer!BH25 -> 0 | DO32: =DataTransfer!BI25 -> 0 | DQ32: =DataTransfer!BJ25 -> 0 | DS32: =DataTransfer!BK25 -> 0 | DU32: =DataTransfer!BL25 -> 0 | DW32: =DataTransfer!BM25 -> 0 | DY32: =DataTransfer!BN25 -> 0 | EA32: =DataTransfer!BO25 -> 0 | EC32: =DataTransfer!BP25 -> 0 | EE32: =DataTransfer!BQ25 -> 0 | EG32: =DataTransfer!BR25 -> 0 | EI32: =DataTransfer!BS25 -> 0 | EK32: =DataTransfer!BT25 -> 0 | EM32: =DataTransfer!BU25 -> 0 | EO32: =DataTransfer!BV25 -> 0 | EQ32: =DataTransfer!BW25 -> 0 | ES32: =DataTransfer!BX25 -> 0 | EU32: =DataTransfer!BY25 -> 0 | EW32: =DataTransfer!BZ25 -> 0 | EY32: =DataTransfer!CA25 -> 0 | FA32: =DataTransfer!CB25 -> 0 | FC32: =DataTransfer!CC25 -> 0 | FE32: =DataTransfer!CD25 -> 0 | FG32: =DataTransfer!CE25 -> 0 | FI32: =DataTransfer!CF25 -> 0 | FK32: =DataTransfer!CG25 -> 0 | FM32: =DataTransfer!CH25 -> 0 | FO32: =DataTransfer!CI25 -> 0 | FQ32: =DataTransfer!CJ25 -> 0 | FS32: =DataTransfer!CK25 -> 0 | FU32: =DataTransfer!CL25 -> 0 | FW32: =DataTransfer!CM25 -> 0 | FY32: =DataTransfer!CN25 -> 0 | GA32: =DataTransfer!CO25 -> 0 | GC32: =DataTransfer!CP25 -> 0 | GE32: =DataTransfer!CQ25 -> 0 | GG32: =DataTransfer!CR25 -> 0 | GI32: =DataTransfer!CS25 -> 0 | GK32: =DataTransfer!CT25 -> 0 | GM32: =DataTransfer!CU25 -> 0 | GO32: =DataTransfer!CV25 -> 0 | GQ32: =DataTransfer!CW25 -> 0 | GS32: =DataTransfer!CX25 -> 0 | GU32: =DataTransfer!CY25 -> 0
A33: =DataTransfer!A26 -> Housing Move-In Date | B33: =DataTransfer!B26 -> HoH and adults | C33: =DataTransfer!C26 -> 0 | E33: =DataTransfer!D26 -> 0 | G33: =DataTransfer!E26 -> 0 | I33: =DataTransfer!F26 -> 0 | K33: =DataTransfer!G26 -> 0 | M33: =DataTransfer!H26 -> 0 | O33: =DataTransfer!I26 -> 0 | Q33: =DataTransfer!J26 -> 0 | S33: =DataTransfer!K26 -> 0 | U33: =DataTransfer!L26 -> 0 | W33: =DataTransfer!M26 -> 0 | Y33: =DataTransfer!N26 -> 0 | AA33: =DataTransfer!O26 -> 0 | AC33: =DataTransfer!P26 -> 0 | AE33: =DataTransfer!Q26 -> 0 | AG33: =DataTransfer!R26 -> 0 | AI33: =DataTransfer!S26 -> 0 | AK33: =DataTransfer!T26 -> 0 | AM33: =DataTransfer!U26 -> 0 | AO33: =DataTransfer!V26 -> 0 | AQ33: =DataTransfer!W26 -> 0 | AS33: =DataTransfer!X26 -> 0 | AU33: =DataTransfer!Y26 -> 0 | AW33: =DataTransfer!Z26 -> 0 | AY33: =DataTransfer!AA26 -> 0 | BA33: =DataTransfer!AB26 -> 0 | BC33: =DataTransfer!AC26 -> 0 | BE33: =DataTransfer!AD26 -> 0 | BG33: =DataTransfer!AE26 -> 0 | BI33: =DataTransfer!AF26 -> 0 | BK33: =DataTransfer!AG26 -> 0 | BM33: =DataTransfer!AH26 -> 0 | BO33: =DataTransfer!AI26 -> 0 | BQ33: =DataTransfer!AJ26 -> 0 | BS33: =DataTransfer!AK26 -> 0 | BU33: =DataTransfer!AL26 -> 0 | BW33: =DataTransfer!AM26 -> 0 | BY33: =DataTransfer!AN26 -> 0 | CA33: =DataTransfer!AO26 -> 0 | CC33: =DataTransfer!AP26 -> 0 | CE33: =DataTransfer!AQ26 -> 0 | CG33: =DataTransfer!AR26 -> 0 | CI33: =DataTransfer!AS26 -> 0 | CK33: =DataTransfer!AT26 -> 0 | CM33: =DataTransfer!AU26 -> 0 | CO33: =DataTransfer!AV26 -> 0 | CQ33: =DataTransfer!AW26 -> 0 | CS33: =DataTransfer!AX26 -> 0 | CU33: =DataTransfer!AY26 -> 0 | CW33: =DataTransfer!AZ26 -> 0 | CY33: =DataTransfer!BA26 -> 0 | DA33: =DataTransfer!BB26 -> 0 | DC33: =DataTransfer!BC26 -> 0 | DE33: =DataTransfer!BD26 -> 0 | DG33: =DataTransfer!BE26 -> 0 | DI33: =DataTransfer!BF26 -> 0 | DK33: =DataTransfer!BG26 -> 0 | DM33: =DataTransfer!BH26 -> 0 | DO33: =DataTransfer!BI26 -> 0 | DQ33: =DataTransfer!BJ26 -> 0 | DS33: =DataTransfer!BK26 -> 0 | DU33: =DataTransfer!BL26 -> 0 | DW33: =DataTransfer!BM26 -> 0 | DY33: =DataTransfer!BN26 -> 0 | EA33: =DataTransfer!BO26 -> 0 | EC33: =DataTransfer!BP26 -> 0 | EE33: =DataTransfer!BQ26 -> 0 | EG33: =DataTransfer!BR26 -> 0 | EI33: =DataTransfer!BS26 -> 0 | EK33: =DataTransfer!BT26 -> 0 | EM33: =DataTransfer!BU26 -> 0 | EO33: =DataTransfer!BV26 -> 0 | EQ33: =DataTransfer!BW26 -> 0 | ES33: =DataTransfer!BX26 -> 0 | EU33: =DataTransfer!BY26 -> 0 | EW33: =DataTransfer!BZ26 -> 0 | EY33: =DataTransfer!CA26 -> 0 | FA33: =DataTransfer!CB26 -> 0 | FC33: =DataTransfer!CC26 -> 0 | FE33: =DataTransfer!CD26 -> 0 | FG33: =DataTransfer!CE26 -> 0 | FI33: =DataTransfer!CF26 -> 0 | FK33: =DataTransfer!CG26 -> 0 | FM33: =DataTransfer!CH26 -> 0 | FO33: =DataTransfer!CI26 -> 0 | FQ33: =DataTransfer!CJ26 -> 0 | FS33: =DataTransfer!CK26 -> 0 | FU33: =DataTransfer!CL26 -> 0 | FW33: =DataTransfer!CM26 -> 0 | FY33: =DataTransfer!CN26 -> 0 | GA33: =DataTransfer!CO26 -> 0 | GC33: =DataTransfer!CP26 -> 0 | GE33: =DataTransfer!CQ26 -> 0 | GG33: =DataTransfer!CR26 -> 0 | GI33: =DataTransfer!CS26 -> 0 | GK33: =DataTransfer!CT26 -> 0 | GM33: =DataTransfer!CU26 -> 0 | GO33: =DataTransfer!CV26 -> 0 | GQ33: =DataTransfer!CW26 -> 0 | GS33: =DataTransfer!CX26 -> 0 | GU33: =DataTransfer!CY26 -> 0
A34: =DataTransfer!A27 -> Interim Review Date (Within 30 days of enrollment anniversary) | B34: =DataTransfer!B27 -> All | C34: =IF(DataTransfer!C27="","",DataTransfer!C27) | E34: =IF(DataTransfer!D27="","",DataTransfer!D27) | G34: =IF(DataTransfer!E27="","",DataTransfer!E27) | I34: =IF(DataTransfer!F27="","",DataTransfer!F27) | K34: =IF(DataTransfer!G27="","",DataTransfer!G27) | M34: =IF(DataTransfer!H27="","",DataTransfer!H27) | O34: =IF(DataTransfer!I27="","",DataTransfer!I27) | Q34: =IF(DataTransfer!J27="","",DataTransfer!J27) | S34: =IF(DataTransfer!K27="","",DataTransfer!K27) | U34: =IF(DataTransfer!L27="","",DataTransfer!L27) | W34: =IF(DataTransfer!M27="","",DataTransfer!M27) | Y34: =IF(DataTransfer!N27="","",DataTransfer!N27) | AA34: =IF(DataTransfer!O27="","",DataTransfer!O27) | AC34: =IF(DataTransfer!P27="","",DataTransfer!P27) | AE34: =IF(DataTransfer!Q27="","",DataTransfer!Q27) | AG34: =IF(DataTransfer!R27="","",DataTransfer!R27) | AI34: =IF(DataTransfer!S27="","",DataTransfer!S27) | AK34: =IF(DataTransfer!T27="","",DataTransfer!T27) | AM34: =IF(DataTransfer!U27="","",DataTransfer!U27) | AO34: =IF(DataTransfer!V27="","",DataTransfer!V27) | AQ34: =IF(DataTransfer!W27="","",DataTransfer!W27) | AS34: =IF(DataTransfer!X27="","",DataTransfer!X27) | AU34: =IF(DataTransfer!Y27="","",DataTransfer!Y27) | AW34: =IF(DataTransfer!Z27="","",DataTransfer!Z27) | AY34: =IF(DataTransfer!AA27="","",DataTransfer!AA27) | BA34: =IF(DataTransfer!AB27="","",DataTransfer!AB27) | BC34: =IF(DataTransfer!AC27="","",DataTransfer!AC27) | BE34: =IF(DataTransfer!AD27="","",DataTransfer!AD27) | BG34: =IF(DataTransfer!AE27="","",DataTransfer!AE27) | BI34: =IF(DataTransfer!AF27="","",DataTransfer!AF27) | BK34: =IF(DataTransfer!AG27="","",DataTransfer!AG27) | BM34: =IF(DataTransfer!AH27="","",DataTransfer!AH27) | BO34: =IF(DataTransfer!AI27="","",DataTransfer!AI27) | BQ34: =IF(DataTransfer!AJ27="","",DataTransfer!AJ27) | BS34: =IF(DataTransfer!AK27="","",DataTransfer!AK27) | BU34: =IF(DataTransfer!AL27="","",DataTransfer!AL27) | BW34: =IF(DataTransfer!AM27="","",DataTransfer!AM27) | BY34: =IF(DataTransfer!AN27="","",DataTransfer!AN27) | CA34: =IF(DataTransfer!AO27="","",DataTransfer!AO27) | CC34: =IF(DataTransfer!AP27="","",DataTransfer!AP27) | CE34: =IF(DataTransfer!AQ27="","",DataTransfer!AQ27) | CG34: =IF(DataTransfer!AR27="","",DataTransfer!AR27) | CI34: =IF(DataTransfer!AS27="","",DataTransfer!AS27) | CK34: =IF(DataTransfer!AT27="","",DataTransfer!AT27) | CM34: =IF(DataTransfer!AU27="","",DataTransfer!AU27) | CO34: =IF(DataTransfer!AV27="","",DataTransfer!AV27) | CQ34: =IF(DataTransfer!AW27="","",DataTransfer!AW27) | CS34: =IF(DataTransfer!AX27="","",DataTransfer!AX27) | CU34: =IF(DataTransfer!AY27="","",DataTransfer!AY27) | CW34: =IF(DataTransfer!AZ27="","",DataTransfer!AZ27) | CY34: =IF(DataTransfer!BA27="","",DataTransfer!BA27) | DA34: =IF(DataTransfer!BB27="","",DataTransfer!BB27) | DC34: =IF(DataTransfer!BC27="","",DataTransfer!BC27) | DE34: =IF(DataTransfer!BD27="","",DataTransfer!BD27) | DG34: =IF(DataTransfer!BE27="","",DataTransfer!BE27) | DI34: =IF(DataTransfer!BF27="","",DataTransfer!BF27) | DK34: =IF(DataTransfer!BG27="","",DataTransfer!BG27) | DM34: =IF(DataTransfer!BH27="","",DataTransfer!BH27) | DO34: =IF(DataTransfer!BI27="","",DataTransfer!BI27) | DQ34: =IF(DataTransfer!BJ27="","",DataTransfer!BJ27) | DS34: =IF(DataTransfer!BK27="","",DataTransfer!BK27) | DU34: =IF(DataTransfer!BL27="","",DataTransfer!BL27) | DW34: =IF(DataTransfer!BM27="","",DataTransfer!BM27) | DY34: =IF(DataTransfer!BN27="","",DataTransfer!BN27) | EA34: =IF(DataTransfer!BO27="","",DataTransfer!BO27) | EC34: =IF(DataTransfer!BP27="","",DataTransfer!BP27) | EE34: =IF(DataTransfer!BQ27="","",DataTransfer!BQ27) | EG34: =IF(DataTransfer!BR27="","",DataTransfer!BR27) | EI34: =IF(DataTransfer!BS27="","",DataTransfer!BS27) | EK34: =IF(DataTransfer!BT27="","",DataTransfer!BT27) | EM34: =IF(DataTransfer!BU27="","",DataTransfer!BU27) | EO34: =IF(DataTransfer!BV27="","",DataTransfer!BV27) | EQ34: =IF(DataTransfer!BW27="","",DataTransfer!BW27) | ES34: =IF(DataTransfer!BX27="","",DataTransfer!BX27) | EU34: =IF(DataTransfer!BY27="","",DataTransfer!BY27) | EW34: =IF(DataTransfer!BZ27="","",DataTransfer!BZ27) | EY34: =IF(DataTransfer!CA27="","",DataTransfer!CA27) | FA34: =IF(DataTransfer!CB27="","",DataTransfer!CB27) | FC34: =IF(DataTransfer!CC27="","",DataTransfer!CC27) | FE34: =IF(DataTransfer!CD27="","",DataTransfer!CD27) | FG34: =IF(DataTransfer!CE27="","",DataTransfer!CE27) | FI34: =IF(DataTransfer!CF27="","",DataTransfer!CF27) | FK34: =IF(DataTransfer!CG27="","",DataTransfer!CG27) | FM34: =IF(DataTransfer!CH27="","",DataTransfer!CH27) | FO34: =IF(DataTransfer!CI27="","",DataTransfer!CI27) | FQ34: =IF(DataTransfer!CJ27="","",DataTransfer!CJ27) | FS34: =IF(DataTransfer!CK27="","",DataTransfer!CK27) | FU34: =IF(DataTransfer!CL27="","",DataTransfer!CL27) | FW34: =IF(DataTransfer!CM27="","",DataTransfer!CM27) | FY34: =IF(DataTransfer!CN27="","",DataTransfer!CN27) | GA34: =IF(DataTransfer!CO27="","",DataTransfer!CO27) | GC34: =IF(DataTransfer!CP27="","",DataTransfer!CP27) | GE34: =IF(DataTransfer!CQ27="","",DataTransfer!CQ27) | GG34: =IF(DataTransfer!CR27="","",DataTransfer!CR27) | GI34: =IF(DataTransfer!CS27="","",DataTransfer!CS27) | GK34: =IF(DataTransfer!CT27="","",DataTransfer!CT27) | GM34: =IF(DataTransfer!CU27="","",DataTransfer!CU27) | GO34: =IF(DataTransfer!CV27="","",DataTransfer!CV27) | GQ34: =IF(DataTransfer!CW27="","",DataTransfer!CW27) | GS34: =IF(DataTransfer!CX27="","",DataTransfer!CX27) | GU34: =IF(DataTransfer!CY27="","",DataTransfer!CY27)
A35: Exit Interview Comments
A36: Adult (1) or Child (2) | D36: =IF(C9=$E$46,1,2) -> 2 | F36: =IF(E9=$E$46,1,2) -> 2 | H36: =IF(G9=$E$46,1,2) -> 2 | J36: =IF(I9=$E$46,1,2) -> 2 | L36: =IF(K9=$E$46,1,2) -> 2 | N36: =IF(M9=$E$46,1,2) -> 2 | P36: =IF(O9=$E$46,1,2) -> 2 | R36: =IF(Q9=$E$46,1,2) -> 2 | T36: =IF(S9=$E$46,1,2) -> 2 | V36: =IF(U9=$E$46,1,2) -> 2 | X36: =IF(W9=$E$46,1,2) -> 2 | Z36: =IF(Y9=$E$46,1,2) -> 2 | AB36: =IF(AA9=$E$46,1,2) -> 2 | AD36: =IF(AC9=$E$46,1,2) -> 2 | AF36: =IF(AE9=$E$46,1,2) -> 2 | AH36: =IF(AG9=$E$46,1,2) -> 2 | AJ36: =IF(AI9=$E$46,1,2) -> 2 | AL36: =IF(AK9=$E$46,1,2) -> 2 | AN36: =IF(AM9=$E$46,1,2) -> 2 | AP36: =IF(AO9=$E$46,1,2) -> 2 | AR36: =IF(AQ9=$E$46,1,2) -> 2 | AT36: =IF(AS9=$E$46,1,2) -> 2 | AV36: =IF(AU9=$E$46,1,2) -> 2 | AX36: =IF(AW9=$E$46,1,2) -> 2 | AZ36: =IF(AY9=$E$46,1,2) -> 2 | BB36: =IF(BA9=$E$46,1,2) -> 2 | BD36: =IF(BC9=$E$46,1,2) -> 2 | BF36: =IF(BE9=$E$46,1,2) -> 2 | BH36: =IF(BG9=$E$46,1,2) -> 2 | BJ36: =IF(BI9=$E$46,1,2) -> 2 | BL36: =IF(BK9=$E$46,1,2) -> 2 | BN36: =IF(BM9=$E$46,1,2) -> 2 | BP36: =IF(BO9=$E$46,1,2) -> 2 | BR36: =IF(BQ9=$E$46,1,2) -> 2 | BT36: =IF(BS9=$E$46,1,2) -> 2 | BV36: =IF(BU9=$E$46,1,2) -> 2 | BX36: =IF(BW9=$E$46,1,2) -> 2 | BZ36: =IF(BY9=$E$46,1,2) -> 2 | CB36: =IF(CA9=$E$46,1,2) -> 2 | CD36: =IF(CC9=$E$46,1,2) -> 2 | CF36: =IF(CE9=$E$46,1,2) -> 2 | CH36: =IF(CG9=$E$46,1,2) -> 2 | CJ36: =IF(CI9=$E$46,1,2) -> 2 | CL36: =IF(CK9=$E$46,1,2) -> 2 | CN36: =IF(CM9=$E$46,1,2) -> 2 | CP36: =IF(CO9=$E$46,1,2) -> 2 | CR36: =IF(CQ9=$E$46,1,2) -> 2 | CT36: =IF(CS9=$E$46,1,2) -> 2 | CV36: =IF(CU9=$E$46,1,2) -> 2 | CX36: =IF(CW9=$E$46,1,2) -> 2 | CZ36: =IF(CY9=$E$46,1,2) -> 2 | DB36: =IF(DA9=$E$46,1,2) -> 2 | DD36: =IF(DC9=$E$46,1,2) -> 2 | DF36: =IF(DE9=$E$46,1,2) -> 2 | DH36: =IF(DG9=$E$46,1,2) -> 2 | DJ36: =IF(DI9=$E$46,1,2) -> 2 | DL36: =IF(DK9=$E$46,1,2) -> 2 | DN36: =IF(DM9=$E$46,1,2) -> 2 | DP36: =IF(DO9=$E$46,1,2) -> 2 | DR36: =IF(DQ9=$E$46,1,2) -> 2 | DT36: =IF(DS9=$E$46,1,2) -> 2 | DV36: =IF(DU9=$E$46,1,2) -> 2 | DX36: =IF(DW9=$E$46,1,2) -> 2 | DZ36: =IF(DY9=$E$46,1,2) -> 2 | EB36: =IF(EA9=$E$46,1,2) -> 2 | ED36: =IF(EC9=$E$46,1,2) -> 2 | EF36: =IF(EE9=$E$46,1,2) -> 2 | EH36: =IF(EG9=$E$46,1,2) -> 2 | EJ36: =IF(EI9=$E$46,1,2) -> 2 | EL36: =IF(EK9=$E$46,1,2) -> 2 | EN36: =IF(EM9=$E$46,1,2) -> 2 | EP36: =IF(EO9=$E$46,1,2) -> 2 | ER36: =IF(EQ9=$E$46,1,2) -> 2 | ET36: =IF(ES9=$E$46,1,2) -> 2 | EV36: =IF(EU9=$E$46,1,2) -> 2 | EX36: =IF(EW9=$E$46,1,2) -> 2 | EZ36: =IF(EY9=$E$46,1,2) -> 2 | FB36: =IF(FA9=$E$46,1,2) -> 2 | FD36: =IF(FC9=$E$46,1,2) -> 2 | FF36: =IF(FE9=$E$46,1,2) -> 2 | FH36: =IF(FG9=$E$46,1,2) -> 2 | FJ36: =IF(FI9=$E$46,1,2) -> 2 | FL36: =IF(FK9=$E$46,1,2) -> 2 | FN36: =IF(FM9=$E$46,1,2) -> 2 | FP36: =IF(FO9=$E$46,1,2) -> 2 | FR36: =IF(FQ9=$E$46,1,2) -> 2 | FT36: =IF(FS9=$E$46,1,2) -> 2 | FV36: =IF(FU9=$E$46,1,2) -> 2 | FX36: =IF(FW9=$E$46,1,2) -> 2 | FZ36: =IF(FY9=$E$46,1,2) -> 2 | GB36: =IF(GA9=$E$46,1,2) -> 2 | GD36: =IF(GC9=$E$46,1,2) -> 2 | GF36: =IF(GE9=$E$46,1,2) -> 2 | GH36: =IF(GG9=$E$46,1,2) -> 2 | GJ36: =IF(GI9=$E$46,1,2) -> 2 | GL36: =IF(GK9=$E$46,1,2) -> 2 | GN36: =IF(GM9=$E$46,1,2) -> 2 | GP36: =IF(GO9=$E$46,1,2) -> 2 | GR36: =IF(GQ9=$E$46,1,2) -> 2 | GT36: =IF(GS9=$E$46,1,2) -> 2 | GV36: =IF(GU9=$E$46,1,2) -> 2
A37: Adult Closed (19) | D37: =IF(AND(D36=1,C28>""),19,0) -> 0 | F37: =IF(AND($F$36=1,E28>""),19,0) -> 0 | H37: =IF(AND($F$36=1,G28>""),19,0) -> 0 | J37: =IF(AND($F$36=1,I28>""),19,0) -> 0 | L37: =IF(AND($F$36=1,K28>""),19,0) -> 0 | N37: =IF(AND($F$36=1,M28>""),19,0) -> 0 | P37: =IF(AND($F$36=1,O28>""),19,0) -> 0 | R37: =IF(AND($F$36=1,Q28>""),19,0) -> 0 | T37: =IF(AND($F$36=1,S28>""),19,0) -> 0 | V37: =IF(AND($F$36=1,U28>""),19,0) -> 0 | X37: =IF(AND($F$36=1,W28>""),19,0) -> 0 | Z37: =IF(AND($F$36=1,Y28>""),19,0) -> 0 | AB37: =IF(AND($F$36=1,AA28>""),19,0) -> 0 | AD37: =IF(AND($F$36=1,AC28>""),19,0) -> 0 | AF37: =IF(AND($F$36=1,AE28>""),19,0) -> 0 | AH37: =IF(AND($F$36=1,AG28>""),19,0) -> 0 | AJ37: =IF(AND($F$36=1,AI28>""),19,0) -> 0 | AL37: =IF(AND($F$36=1,AK28>""),19,0) -> 0 | AN37: =IF(AND($F$36=1,AM28>""),19,0) -> 0 | AP37: =IF(AND($F$36=1,AO28>""),19,0) -> 0 | AR37: =IF(AND($F$36=1,AQ28>""),19,0) -> 0 | AT37: =IF(AND($F$36=1,AS28>""),19,0) -> 0 | AV37: =IF(AND($F$36=1,AU28>""),19,0) -> 0 | AX37: =IF(AND($F$36=1,AW28>""),19,0) -> 0 | AZ37: =IF(AND($F$36=1,AY28>""),19,0) -> 0 | BB37: =IF(AND($F$36=1,BA28>""),19,0) -> 0 | BD37: =IF(AND($F$36=1,BC28>""),19,0) -> 0 | BF37: =IF(AND($F$36=1,BE28>""),19,0) -> 0 | BH37: =IF(AND($F$36=1,BG28>""),19,0) -> 0 | BJ37: =IF(AND($F$36=1,BI28>""),19,0) -> 0 | BL37: =IF(AND($F$36=1,BK28>""),19,0) -> 0 | BN37: =IF(AND($F$36=1,BM28>""),19,0) -> 0 | BP37: =IF(AND($F$36=1,BO28>""),19,0) -> 0 | BR37: =IF(AND($F$36=1,BQ28>""),19,0) -> 0 | BT37: =IF(AND($F$36=1,BS28>""),19,0) -> 0 | BV37: =IF(AND($F$36=1,BU28>""),19,0) -> 0 | BX37: =IF(AND($F$36=1,BW28>""),19,0) -> 0 | BZ37: =IF(AND($F$36=1,BY28>""),19,0) -> 0 | CB37: =IF(AND($F$36=1,CA28>""),19,0) -> 0 | CD37: =IF(AND($F$36=1,CC28>""),19,0) -> 0 | CF37: =IF(AND($F$36=1,CE28>""),19,0) -> 0 | CH37: =IF(AND($F$36=1,CG28>""),19,0) -> 0 | CJ37: =IF(AND($F$36=1,CI28>""),19,0) -> 0 | CL37: =IF(AND($F$36=1,CK28>""),19,0) -> 0 | CN37: =IF(AND($F$36=1,CM28>""),19,0) -> 0 | CP37: =IF(AND($F$36=1,CO28>""),19,0) -> 0 | CR37: =IF(AND($F$36=1,CQ28>""),19,0) -> 0 | CT37: =IF(AND($F$36=1,CS28>""),19,0) -> 0 | CV37: =IF(AND($F$36=1,CU28>""),19,0) -> 0 | CX37: =IF(AND($F$36=1,CW28>""),19,0) -> 0 | CZ37: =IF(AND($F$36=1,CY28>""),19,0) -> 0 | DB37: =IF(AND($F$36=1,DA28>""),19,0) -> 0 | DD37: =IF(AND($F$36=1,DC28>""),19,0) -> 0 | DF37: =IF(AND($F$36=1,DE28>""),19,0) -> 0 | DH37: =IF(AND($F$36=1,DG28>""),19,0) -> 0 | DJ37: =IF(AND($F$36=1,DI28>""),19,0) -> 0 | DL37: =IF(AND($F$36=1,DK28>""),19,0) -> 0 | DN37: =IF(AND($F$36=1,DM28>""),19,0) -> 0 | DP37: =IF(AND($F$36=1,DO28>""),19,0) -> 0 | DR37: =IF(AND($F$36=1,DQ28>""),19,0) -> 0 | DT37: =IF(AND($F$36=1,DS28>""),19,0) -> 0 | DV37: =IF(AND($F$36=1,DU28>""),19,0) -> 0 | DX37: =IF(AND($F$36=1,DW28>""),19,0) -> 0 | DZ37: =IF(AND($F$36=1,DY28>""),19,0) -> 0 | EB37: =IF(AND($F$36=1,EA28>""),19,0) -> 0 | ED37: =IF(AND($F$36=1,EC28>""),19,0) -> 0 | EF37: =IF(AND($F$36=1,EE28>""),19,0) -> 0 | EH37: =IF(AND($F$36=1,EG28>""),19,0) -> 0 | EJ37: =IF(AND($F$36=1,EI28>""),19,0) -> 0 | EL37: =IF(AND($F$36=1,EK28>""),19,0) -> 0 | EN37: =IF(AND($F$36=1,EM28>""),19,0) -> 0 | EP37: =IF(AND($F$36=1,EO28>""),19,0) -> 0 | ER37: =IF(AND($F$36=1,EQ28>""),19,0) -> 0 | ET37: =IF(AND($F$36=1,ES28>""),19,0) -> 0 | EV37: =IF(AND($F$36=1,EU28>""),19,0) -> 0 | EX37: =IF(AND($F$36=1,EW28>""),19,0) -> 0 | EZ37: =IF(AND($F$36=1,EY28>""),19,0) -> 0 | FB37: =IF(AND($F$36=1,FA28>""),19,0) -> 0 | FD37: =IF(AND($F$36=1,FC28>""),19,0) -> 0 | FF37: =IF(AND($F$36=1,FE28>""),19,0) -> 0 | FH37: =IF(AND($F$36=1,FG28>""),19,0) -> 0 | FJ37: =IF(AND($F$36=1,FI28>""),19,0) -> 0 | FL37: =IF(AND($F$36=1,FK28>""),19,0) -> 0 | FN37: =IF(AND($F$36=1,FM28>""),19,0) -> 0 | FP37: =IF(AND($F$36=1,FO28>""),19,0) -> 0 | FR37: =IF(AND($F$36=1,FQ28>""),19,0) -> 0 | FT37: =IF(AND($F$36=1,FS28>""),19,0) -> 0 | FV37: =IF(AND($F$36=1,FU28>""),19,0) -> 0 | FX37: =IF(AND($F$36=1,FW28>""),19,0) -> 0 | FZ37: =IF(AND($F$36=1,FY28>""),19,0) -> 0 | GB37: =IF(AND($F$36=1,GA28>""),19,0) -> 0 | GD37: =IF(AND($F$36=1,GC28>""),19,0) -> 0 | GF37: =IF(AND($F$36=1,GE28>""),19,0) -> 0 | GH37: =IF(AND($F$36=1,GG28>""),19,0) -> 0 | GJ37: =IF(AND($F$36=1,GI28>""),19,0) -> 0 | GL37: =IF(AND($F$36=1,GK28>""),19,0) -> 0 | GN37: =IF(AND($F$36=1,GM28>""),19,0) -> 0 | GP37: =IF(AND($F$36=1,GO28>""),19,0) -> 0 | GR37: =IF(AND($F$36=1,GQ28>""),19,0) -> 0 | GT37: =IF(AND($F$36=1,GS28>""),19,0) -> 0 | GV37: =IF(AND($F$36=1,GU28>""),19,0) -> 0
A38: Adult Annual (19) | D38: =IF(AND(D36=1,C33>""),19,0) -> 0 | F38: =IF(AND($F$36=1,E34>""),19,0) -> 0 | H38: =IF(AND($F$36=1,G34>""),19,0) -> 0 | J38: =IF(AND($F$36=1,I34>""),19,0) -> 0 | L38: =IF(AND($F$36=1,K34>""),19,0) -> 0 | N38: =IF(AND($F$36=1,M34>""),19,0) -> 0 | P38: =IF(AND($F$36=1,O34>""),19,0) -> 0 | R38: =IF(AND($F$36=1,Q34>""),19,0) -> 0 | T38: =IF(AND($F$36=1,S34>""),19,0) -> 0 | V38: =IF(AND($F$36=1,U34>""),19,0) -> 0 | X38: =IF(AND($F$36=1,W34>""),19,0) -> 0 | Z38: =IF(AND($F$36=1,Y34>""),19,0) -> 0 | AB38: =IF(AND($F$36=1,AA34>""),19,0) -> 0 | AD38: =IF(AND($F$36=1,AC34>""),19,0) -> 0 | AF38: =IF(AND($F$36=1,AE34>""),19,0) -> 0 | AH38: =IF(AND($F$36=1,AG34>""),19,0) -> 0 | AJ38: =IF(AND($F$36=1,AI34>""),19,0) -> 0 | AL38: =IF(AND($F$36=1,AK34>""),19,0) -> 0 | AN38: =IF(AND($F$36=1,AM34>""),19,0) -> 0 | AP38: =IF(AND($F$36=1,AO34>""),19,0) -> 0 | AR38: =IF(AND($F$36=1,AQ34>""),19,0) -> 0 | AT38: =IF(AND($F$36=1,AS34>""),19,0) -> 0 | AV38: =IF(AND($F$36=1,AU34>""),19,0) -> 0 | AX38: =IF(AND($F$36=1,AW34>""),19,0) -> 0 | AZ38: =IF(AND($F$36=1,AY34>""),19,0) -> 0 | BB38: =IF(AND($F$36=1,BA34>""),19,0) -> 0 | BD38: =IF(AND($F$36=1,BC34>""),19,0) -> 0 | BF38: =IF(AND($F$36=1,BE34>""),19,0) -> 0 | BH38: =IF(AND($F$36=1,BG34>""),19,0) -> 0 | BJ38: =IF(AND($F$36=1,BI34>""),19,0) -> 0 | BL38: =IF(AND($F$36=1,BK34>""),19,0) -> 0 | BN38: =IF(AND($F$36=1,BM34>""),19,0) -> 0 | BP38: =IF(AND($F$36=1,BO34>""),19,0) -> 0 | BR38: =IF(AND($F$36=1,BQ34>""),19,0) -> 0 | BT38: =IF(AND($F$36=1,BS34>""),19,0) -> 0 | BV38: =IF(AND($F$36=1,BU34>""),19,0) -> 0 | BX38: =IF(AND($F$36=1,BW34>""),19,0) -> 0 | BZ38: =IF(AND($F$36=1,BY34>""),19,0) -> 0 | CB38: =IF(AND($F$36=1,CA34>""),19,0) -> 0 | CD38: =IF(AND($F$36=1,CC34>""),19,0) -> 0 | CF38: =IF(AND($F$36=1,CE34>""),19,0) -> 0 | CH38: =IF(AND($F$36=1,CG34>""),19,0) -> 0 | CJ38: =IF(AND($F$36=1,CI34>""),19,0) -> 0 | CL38: =IF(AND($F$36=1,CK34>""),19,0) -> 0 | CN38: =IF(AND($F$36=1,CM34>""),19,0) -> 0 | CP38: =IF(AND($F$36=1,CO34>""),19,0) -> 0 | CR38: =IF(AND($F$36=1,CQ34>""),19,0) -> 0 | CT38: =IF(AND($F$36=1,CS34>""),19,0) -> 0 | CV38: =IF(AND($F$36=1,CU34>""),19,0) -> 0 | CX38: =IF(AND($F$36=1,CW34>""),19,0) -> 0 | CZ38: =IF(AND($F$36=1,CY34>""),19,0) -> 0 | DB38: =IF(AND($F$36=1,DA34>""),19,0) -> 0 | DD38: =IF(AND($F$36=1,DC34>""),19,0) -> 0 | DF38: =IF(AND($F$36=1,DE34>""),19,0) -> 0 | DH38: =IF(AND($F$36=1,DG34>""),19,0) -> 0 | DJ38: =IF(AND($F$36=1,DI34>""),19,0) -> 0 | DL38: =IF(AND($F$36=1,DK34>""),19,0) -> 0 | DN38: =IF(AND($F$36=1,DM34>""),19,0) -> 0 | DP38: =IF(AND($F$36=1,DO34>""),19,0) -> 0 | DR38: =IF(AND($F$36=1,DQ34>""),19,0) -> 0 | DT38: =IF(AND($F$36=1,DS34>""),19,0) -> 0 | DV38: =IF(AND($F$36=1,DU34>""),19,0) -> 0 | DX38: =IF(AND($F$36=1,DW34>""),19,0) -> 0 | DZ38: =IF(AND($F$36=1,DY34>""),19,0) -> 0 | EB38: =IF(AND($F$36=1,EA34>""),19,0) -> 0 | ED38: =IF(AND($F$36=1,EC34>""),19,0) -> 0 | EF38: =IF(AND($F$36=1,EE34>""),19,0) -> 0 | EH38: =IF(AND($F$36=1,EG34>""),19,0) -> 0 | EJ38: =IF(AND($F$36=1,EI34>""),19,0) -> 0 | EL38: =IF(AND($F$36=1,EK34>""),19,0) -> 0 | EN38: =IF(AND($F$36=1,EM34>""),19,0) -> 0 | EP38: =IF(AND($F$36=1,EO34>""),19,0) -> 0 | ER38: =IF(AND($F$36=1,EQ34>""),19,0) -> 0 | ET38: =IF(AND($F$36=1,ES34>""),19,0) -> 0 | EV38: =IF(AND($F$36=1,EU34>""),19,0) -> 0 | EX38: =IF(AND($F$36=1,EW34>""),19,0) -> 0 | EZ38: =IF(AND($F$36=1,EY34>""),19,0) -> 0 | FB38: =IF(AND($F$36=1,FA34>""),19,0) -> 0 | FD38: =IF(AND($F$36=1,FC34>""),19,0) -> 0 | FF38: =IF(AND($F$36=1,FE34>""),19,0) -> 0 | FH38: =IF(AND($F$36=1,FG34>""),19,0) -> 0 | FJ38: =IF(AND($F$36=1,FI34>""),19,0) -> 0 | FL38: =IF(AND($F$36=1,FK34>""),19,0) -> 0 | FN38: =IF(AND($F$36=1,FM34>""),19,0) -> 0 | FP38: =IF(AND($F$36=1,FO34>""),19,0) -> 0 | FR38: =IF(AND($F$36=1,FQ34>""),19,0) -> 0 | FT38: =IF(AND($F$36=1,FS34>""),19,0) -> 0 | FV38: =IF(AND($F$36=1,FU34>""),19,0) -> 0 | FX38: =IF(AND($F$36=1,FW34>""),19,0) -> 0 | FZ38: =IF(AND($F$36=1,FY34>""),19,0) -> 0 | GB38: =IF(AND($F$36=1,GA34>""),19,0) -> 0 | GD38: =IF(AND($F$36=1,GC34>""),19,0) -> 0 | GF38: =IF(AND($F$36=1,GE34>""),19,0) -> 0 | GH38: =IF(AND($F$36=1,GG34>""),19,0) -> 0 | GJ38: =IF(AND($F$36=1,GI34>""),19,0) -> 0 | GL38: =IF(AND($F$36=1,GK34>""),19,0) -> 0 | GN38: =IF(AND($F$36=1,GM34>""),19,0) -> 0 | GP38: =IF(AND($F$36=1,GO34>""),19,0) -> 0 | GR38: =IF(AND($F$36=1,GQ34>""),19,0) -> 0 | GT38: =IF(AND($F$36=1,GS34>""),19,0) -> 0 | GV38: =IF(AND($F$36=1,GU34>""),19,0) -> 0
A39: Adult Open (15) | D39: =IF(D36=1,15,0) -> 0 | F39: =IF($F$36=1,15,0) -> 0 | H39: =IF($F$36=1,15,0) -> 0 | J39: =IF($F$36=1,15,0) -> 0 | L39: =IF($F$36=1,15,0) -> 0 | N39: =IF($F$36=1,15,0) -> 0 | P39: =IF($F$36=1,15,0) -> 0 | R39: =IF($F$36=1,15,0) -> 0 | T39: =IF($F$36=1,15,0) -> 0 | V39: =IF($F$36=1,15,0) -> 0 | X39: =IF($F$36=1,15,0) -> 0 | Z39: =IF($F$36=1,15,0) -> 0 | AB39: =IF($F$36=1,15,0) -> 0 | AD39: =IF($F$36=1,15,0) -> 0 | AF39: =IF($F$36=1,15,0) -> 0 | AH39: =IF($F$36=1,15,0) -> 0 | AJ39: =IF($F$36=1,15,0) -> 0 | AL39: =IF($F$36=1,15,0) -> 0 | AN39: =IF($F$36=1,15,0) -> 0 | AP39: =IF($F$36=1,15,0) -> 0 | AR39: =IF($F$36=1,15,0) -> 0 | AT39: =IF($F$36=1,15,0) -> 0 | AV39: =IF($F$36=1,15,0) -> 0 | AX39: =IF($F$36=1,15,0) -> 0 | AZ39: =IF($F$36=1,15,0) -> 0 | BB39: =IF($F$36=1,15,0) -> 0 | BD39: =IF($F$36=1,15,0) -> 0 | BF39: =IF($F$36=1,15,0) -> 0 | BH39: =IF($F$36=1,15,0) -> 0 | BJ39: =IF($F$36=1,15,0) -> 0 | BL39: =IF($F$36=1,15,0) -> 0 | BN39: =IF($F$36=1,15,0) -> 0 | BP39: =IF($F$36=1,15,0) -> 0 | BR39: =IF($F$36=1,15,0) -> 0 | BT39: =IF($F$36=1,15,0) -> 0 | BV39: =IF($F$36=1,15,0) -> 0 | BX39: =IF($F$36=1,15,0) -> 0 | BZ39: =IF($F$36=1,15,0) -> 0 | CB39: =IF($F$36=1,15,0) -> 0 | CD39: =IF($F$36=1,15,0) -> 0 | CF39: =IF($F$36=1,15,0) -> 0 | CH39: =IF($F$36=1,15,0) -> 0 | CJ39: =IF($F$36=1,15,0) -> 0 | CL39: =IF($F$36=1,15,0) -> 0 | CN39: =IF($F$36=1,15,0) -> 0 | CP39: =IF($F$36=1,15,0) -> 0 | CR39: =IF($F$36=1,15,0) -> 0 | CT39: =IF($F$36=1,15,0) -> 0 | CV39: =IF($F$36=1,15,0) -> 0 | CX39: =IF($F$36=1,15,0) -> 0 | CZ39: =IF($F$36=1,15,0) -> 0 | DB39: =IF($F$36=1,15,0) -> 0 | DD39: =IF($F$36=1,15,0) -> 0 | DF39: =IF($F$36=1,15,0) -> 0 | DH39: =IF($F$36=1,15,0) -> 0 | DJ39: =IF($F$36=1,15,0) -> 0 | DL39: =IF($F$36=1,15,0) -> 0 | DN39: =IF($F$36=1,15,0) -> 0 | DP39: =IF($F$36=1,15,0) -> 0 | DR39: =IF($F$36=1,15,0) -> 0 | DT39: =IF($F$36=1,15,0) -> 0 | DV39: =IF($F$36=1,15,0) -> 0 | DX39: =IF($F$36=1,15,0) -> 0 | DZ39: =IF($F$36=1,15,0) -> 0 | EB39: =IF($F$36=1,15,0) -> 0 | ED39: =IF($F$36=1,15,0) -> 0 | EF39: =IF($F$36=1,15,0) -> 0 | EH39: =IF($F$36=1,15,0) -> 0 | EJ39: =IF($F$36=1,15,0) -> 0 | EL39: =IF($F$36=1,15,0) -> 0 | EN39: =IF($F$36=1,15,0) -> 0 | EP39: =IF($F$36=1,15,0) -> 0 | ER39: =IF($F$36=1,15,0) -> 0 | ET39: =IF($F$36=1,15,0) -> 0 | EV39: =IF($F$36=1,15,0) -> 0 | EX39: =IF($F$36=1,15,0) -> 0 | EZ39: =IF($F$36=1,15,0) -> 0 | FB39: =IF($F$36=1,15,0) -> 0 | FD39: =IF($F$36=1,15,0) -> 0 | FF39: =IF($F$36=1,15,0) -> 0 | FH39: =IF($F$36=1,15,0) -> 0 | FJ39: =IF($F$36=1,15,0) -> 0 | FL39: =IF($F$36=1,15,0) -> 0 | FN39: =IF($F$36=1,15,0) -> 0 | FP39: =IF($F$36=1,15,0) -> 0 | FR39: =IF($F$36=1,15,0) -> 0 | FT39: =IF($F$36=1,15,0) -> 0 | FV39: =IF($F$36=1,15,0) -> 0 | FX39: =IF($F$36=1,15,0) -> 0 | FZ39: =IF($F$36=1,15,0) -> 0 | GB39: =IF($F$36=1,15,0) -> 0 | GD39: =IF($F$36=1,15,0) -> 0 | GF39: =IF($F$36=1,15,0) -> 0 | GH39: =IF($F$36=1,15,0) -> 0 | GJ39: =IF($F$36=1,15,0) -> 0 | GL39: =IF($F$36=1,15,0) -> 0 | GN39: =IF($F$36=1,15,0) -> 0 | GP39: =IF($F$36=1,15,0) -> 0 | GR39: =IF($F$36=1,15,0) -> 0 | GT39: =IF($F$36=1,15,0) -> 0 | GV39: =IF($F$36=1,15,0) -> 0
A40: Child Closed (11) | D40: =IF(AND(D36=2,C28>""),11,0) -> 0 | F40: =IF(AND($F$36=2,E28>""),11,0) -> 0 | H40: =IF(AND($F$36=2,G28>""),11,0) -> 0 | J40: =IF(AND($F$36=2,I28>""),11,0) -> 0 | L40: =IF(AND($F$36=2,K28>""),11,0) -> 0 | N40: =IF(AND($F$36=2,M28>""),11,0) -> 0 | P40: =IF(AND($F$36=2,O28>""),11,0) -> 0 | R40: =IF(AND($F$36=2,Q28>""),11,0) -> 0 | T40: =IF(AND($F$36=2,S28>""),11,0) -> 0 | V40: =IF(AND($F$36=2,U28>""),11,0) -> 0 | X40: =IF(AND($F$36=2,W28>""),11,0) -> 0 | Z40: =IF(AND($F$36=2,Y28>""),11,0) -> 0 | AB40: =IF(AND($F$36=2,AA28>""),11,0) -> 0 | AD40: =IF(AND($F$36=2,AC28>""),11,0) -> 0 | AF40: =IF(AND($F$36=2,AE28>""),11,0) -> 0 | AH40: =IF(AND($F$36=2,AG28>""),11,0) -> 0 | AJ40: =IF(AND($F$36=2,AI28>""),11,0) -> 0 | AL40: =IF(AND($F$36=2,AK28>""),11,0) -> 0 | AN40: =IF(AND($F$36=2,AM28>""),11,0) -> 0 | AP40: =IF(AND($F$36=2,AO28>""),11,0) -> 0 | AR40: =IF(AND($F$36=2,AQ28>""),11,0) -> 0 | AT40: =IF(AND($F$36=2,AS28>""),11,0) -> 0 | AV40: =IF(AND($F$36=2,AU28>""),11,0) -> 0 | AX40: =IF(AND($F$36=2,AW28>""),11,0) -> 0 | AZ40: =IF(AND($F$36=2,AY28>""),11,0) -> 0 | BB40: =IF(AND($F$36=2,BA28>""),11,0) -> 0 | BD40: =IF(AND($F$36=2,BC28>""),11,0) -> 0 | BF40: =IF(AND($F$36=2,BE28>""),11,0) -> 0 | BH40: =IF(AND($F$36=2,BG28>""),11,0) -> 0 | BJ40: =IF(AND($F$36=2,BI28>""),11,0) -> 0 | BL40: =IF(AND($F$36=2,BK28>""),11,0) -> 0 | BN40: =IF(AND($F$36=2,BM28>""),11,0) -> 0 | BP40: =IF(AND($F$36=2,BO28>""),11,0) -> 0 | BR40: =IF(AND($F$36=2,BQ28>""),11,0) -> 0 | BT40: =IF(AND($F$36=2,BS28>""),11,0) -> 0 | BV40: =IF(AND($F$36=2,BU28>""),11,0) -> 0 | BX40: =IF(AND($F$36=2,BW28>""),11,0) -> 0 | BZ40: =IF(AND($F$36=2,BY28>""),11,0) -> 0 | CB40: =IF(AND($F$36=2,CA28>""),11,0) -> 0 | CD40: =IF(AND($F$36=2,CC28>""),11,0) -> 0 | CF40: =IF(AND($F$36=2,CE28>""),11,0) -> 0 | CH40: =IF(AND($F$36=2,CG28>""),11,0) -> 0 | CJ40: =IF(AND($F$36=2,CI28>""),11,0) -> 0 | CL40: =IF(AND($F$36=2,CK28>""),11,0) -> 0 | CN40: =IF(AND($F$36=2,CM28>""),11,0) -> 0 | CP40: =IF(AND($F$36=2,CO28>""),11,0) -> 0 | CR40: =IF(AND($F$36=2,CQ28>""),11,0) -> 0 | CT40: =IF(AND($F$36=2,CS28>""),11,0) -> 0 | CV40: =IF(AND($F$36=2,CU28>""),11,0) -> 0 | CX40: =IF(AND($F$36=2,CW28>""),11,0) -> 0 | CZ40: =IF(AND($F$36=2,CY28>""),11,0) -> 0 | DB40: =IF(AND($F$36=2,DA28>""),11,0) -> 0 | DD40: =IF(AND($F$36=2,DC28>""),11,0) -> 0 | DF40: =IF(AND($F$36=2,DE28>""),11,0) -> 0 | DH40: =IF(AND($F$36=2,DG28>""),11,0) -> 0 | DJ40: =IF(AND($F$36=2,DI28>""),11,0) -> 0 | DL40: =IF(AND($F$36=2,DK28>""),11,0) -> 0 | DN40: =IF(AND($F$36=2,DM28>""),11,0) -> 0 | DP40: =IF(AND($F$36=2,DO28>""),11,0) -> 0 | DR40: =IF(AND($F$36=2,DQ28>""),11,0) -> 0 | DT40: =IF(AND($F$36=2,DS28>""),11,0) -> 0 | DV40: =IF(AND($F$36=2,DU28>""),11,0) -> 0 | DX40: =IF(AND($F$36=2,DW28>""),11,0) -> 0 | DZ40: =IF(AND($F$36=2,DY28>""),11,0) -> 0 | EB40: =IF(AND($F$36=2,EA28>""),11,0) -> 0 | ED40: =IF(AND($F$36=2,EC28>""),11,0) -> 0 | EF40: =IF(AND($F$36=2,EE28>""),11,0) -> 0 | EH40: =IF(AND($F$36=2,EG28>""),11,0) -> 0 | EJ40: =IF(AND($F$36=2,EI28>""),11,0) -> 0 | EL40: =IF(AND($F$36=2,EK28>""),11,0) -> 0 | EN40: =IF(AND($F$36=2,EM28>""),11,0) -> 0 | EP40: =IF(AND($F$36=2,EO28>""),11,0) -> 0 | ER40: =IF(AND($F$36=2,EQ28>""),11,0) -> 0 | ET40: =IF(AND($F$36=2,ES28>""),11,0) -> 0 | EV40: =IF(AND($F$36=2,EU28>""),11,0) -> 0 | EX40: =IF(AND($F$36=2,EW28>""),11,0) -> 0 | EZ40: =IF(AND($F$36=2,EY28>""),11,0) -> 0 | FB40: =IF(AND($F$36=2,FA28>""),11,0) -> 0 | FD40: =IF(AND($F$36=2,FC28>""),11,0) -> 0 | FF40: =IF(AND($F$36=2,FE28>""),11,0) -> 0 | FH40: =IF(AND($F$36=2,FG28>""),11,0) -> 0 | FJ40: =IF(AND($F$36=2,FI28>""),11,0) -> 0 | FL40: =IF(AND($F$36=2,FK28>""),11,0) -> 0 | FN40: =IF(AND($F$36=2,FM28>""),11,0) -> 0 | FP40: =IF(AND($F$36=2,FO28>""),11,0) -> 0 | FR40: =IF(AND($F$36=2,FQ28>""),11,0) -> 0 | FT40: =IF(AND($F$36=2,FS28>""),11,0) -> 0 | FV40: =IF(AND($F$36=2,FU28>""),11,0) -> 0 | FX40: =IF(AND($F$36=2,FW28>""),11,0) -> 0 | FZ40: =IF(AND($F$36=2,FY28>""),11,0) -> 0 | GB40: =IF(AND($F$36=2,GA28>""),11,0) -> 0 | GD40: =IF(AND($F$36=2,GC28>""),11,0) -> 0 | GF40: =IF(AND($F$36=2,GE28>""),11,0) -> 0 | GH40: =IF(AND($F$36=2,GG28>""),11,0) -> 0 | GJ40: =IF(AND($F$36=2,GI28>""),11,0) -> 0 | GL40: =IF(AND($F$36=2,GK28>""),11,0) -> 0 | GN40: =IF(AND($F$36=2,GM28>""),11,0) -> 0 | GP40: =IF(AND($F$36=2,GO28>""),11,0) -> 0 | GR40: =IF(AND($F$36=2,GQ28>""),11,0) -> 0 | GT40: =IF(AND($F$36=2,GS28>""),11,0) -> 0 | GV40: =IF(AND($F$36=2,GU28>""),11,0) -> 0
A41: Child Open/Annual (10) | D41: =IF(D36=2,10,0) -> 10 | F41: =IF($F$36=2,10,0) -> 10 | H41: =IF($F$36=2,10,0) -> 10 | J41: =IF($F$36=2,10,0) -> 10 | L41: =IF($F$36=2,10,0) -> 10 | N41: =IF($F$36=2,10,0) -> 10 | P41: =IF($F$36=2,10,0) -> 10 | R41: =IF($F$36=2,10,0) -> 10 | T41: =IF($F$36=2,10,0) -> 10 | V41: =IF($F$36=2,10,0) -> 10 | X41: =IF($F$36=2,10,0) -> 10 | Z41: =IF($F$36=2,10,0) -> 10 | AB41: =IF($F$36=2,10,0) -> 10 | AD41: =IF($F$36=2,10,0) -> 10 | AF41: =IF($F$36=2,10,0) -> 10 | AH41: =IF($F$36=2,10,0) -> 10 | AJ41: =IF($F$36=2,10,0) -> 10 | AL41: =IF($F$36=2,10,0) -> 10 | AN41: =IF($F$36=2,10,0) -> 10 | AP41: =IF($F$36=2,10,0) -> 10 | AR41: =IF($F$36=2,10,0) -> 10 | AT41: =IF($F$36=2,10,0) -> 10 | AV41: =IF($F$36=2,10,0) -> 10 | AX41: =IF($F$36=2,10,0) -> 10 | AZ41: =IF($F$36=2,10,0) -> 10 | BB41: =IF($F$36=2,10,0) -> 10 | BD41: =IF($F$36=2,10,0) -> 10 | BF41: =IF($F$36=2,10,0) -> 10 | BH41: =IF($F$36=2,10,0) -> 10 | BJ41: =IF($F$36=2,10,0) -> 10 | BL41: =IF($F$36=2,10,0) -> 10 | BN41: =IF($F$36=2,10,0) -> 10 | BP41: =IF($F$36=2,10,0) -> 10 | BR41: =IF($F$36=2,10,0) -> 10 | BT41: =IF($F$36=2,10,0) -> 10 | BV41: =IF($F$36=2,10,0) -> 10 | BX41: =IF($F$36=2,10,0) -> 10 | BZ41: =IF($F$36=2,10,0) -> 10 | CB41: =IF($F$36=2,10,0) -> 10 | CD41: =IF($F$36=2,10,0) -> 10 | CF41: =IF($F$36=2,10,0) -> 10 | CH41: =IF($F$36=2,10,0) -> 10 | CJ41: =IF($F$36=2,10,0) -> 10 | CL41: =IF($F$36=2,10,0) -> 10 | CN41: =IF($F$36=2,10,0) -> 10 | CP41: =IF($F$36=2,10,0) -> 10 | CR41: =IF($F$36=2,10,0) -> 10 | CT41: =IF($F$36=2,10,0) -> 10 | CV41: =IF($F$36=2,10,0) -> 10 | CX41: =IF($F$36=2,10,0) -> 10 | CZ41: =IF($F$36=2,10,0) -> 10 | DB41: =IF($F$36=2,10,0) -> 10 | DD41: =IF($F$36=2,10,0) -> 10 | DF41: =IF($F$36=2,10,0) -> 10 | DH41: =IF($F$36=2,10,0) -> 10 | DJ41: =IF($F$36=2,10,0) -> 10 | DL41: =IF($F$36=2,10,0) -> 10 | DN41: =IF($F$36=2,10,0) -> 10 | DP41: =IF($F$36=2,10,0) -> 10 | DR41: =IF($F$36=2,10,0) -> 10 | DT41: =IF($F$36=2,10,0) -> 10 | DV41: =IF($F$36=2,10,0) -> 10 | DX41: =IF($F$36=2,10,0) -> 10 | DZ41: =IF($F$36=2,10,0) -> 10 | EB41: =IF($F$36=2,10,0) -> 10 | ED41: =IF($F$36=2,10,0) -> 10 | EF41: =IF($F$36=2,10,0) -> 10 | EH41: =IF($F$36=2,10,0) -> 10 | EJ41: =IF($F$36=2,10,0) -> 10 | EL41: =IF($F$36=2,10,0) -> 10 | EN41: =IF($F$36=2,10,0) -> 10 | EP41: =IF($F$36=2,10,0) -> 10 | ER41: =IF($F$36=2,10,0) -> 10 | ET41: =IF($F$36=2,10,0) -> 10 | EV41: =IF($F$36=2,10,0) -> 10 | EX41: =IF($F$36=2,10,0) -> 10 | EZ41: =IF($F$36=2,10,0) -> 10 | FB41: =IF($F$36=2,10,0) -> 10 | FD41: =IF($F$36=2,10,0) -> 10 | FF41: =IF($F$36=2,10,0) -> 10 | FH41: =IF($F$36=2,10,0) -> 10 | FJ41: =IF($F$36=2,10,0) -> 10 | FL41: =IF($F$36=2,10,0) -> 10 | FN41: =IF($F$36=2,10,0) -> 10 | FP41: =IF($F$36=2,10,0) -> 10 | FR41: =IF($F$36=2,10,0) -> 10 | FT41: =IF($F$36=2,10,0) -> 10 | FV41: =IF($F$36=2,10,0) -> 10 | FX41: =IF($F$36=2,10,0) -> 10 | FZ41: =IF($F$36=2,10,0) -> 10 | GB41: =IF($F$36=2,10,0) -> 10 | GD41: =IF($F$36=2,10,0) -> 10 | GF41: =IF($F$36=2,10,0) -> 10 | GH41: =IF($F$36=2,10,0) -> 10 | GJ41: =IF($F$36=2,10,0) -> 10 | GL41: =IF($F$36=2,10,0) -> 10 | GN41: =IF($F$36=2,10,0) -> 10 | GP41: =IF($F$36=2,10,0) -> 10 | GR41: =IF($F$36=2,10,0) -> 10 | GT41: =IF($F$36=2,10,0) -> 10 | GV41: =IF($F$36=2,10,0) -> 10
A42: Child Open (10) | D42: =IF($D$36=2,10,0) -> 10 | F42: =IF($F$36=2,10,0) -> 10 | H42: =IF($F$36=2,10,0) -> 10 | J42: =IF($F$36=2,10,0) -> 10 | L42: =IF($F$36=2,10,0) -> 10 | N42: =IF($F$36=2,10,0) -> 10 | P42: =IF($F$36=2,10,0) -> 10 | R42: =IF($F$36=2,10,0) -> 10 | T42: =IF($F$36=2,10,0) -> 10 | V42: =IF($F$36=2,10,0) -> 10 | X42: =IF($F$36=2,10,0) -> 10 | Z42: =IF($F$36=2,10,0) -> 10 | AB42: =IF($F$36=2,10,0) -> 10 | AD42: =IF($F$36=2,10,0) -> 10 | AF42: =IF($F$36=2,10,0) -> 10 | AH42: =IF($F$36=2,10,0) -> 10 | AJ42: =IF($F$36=2,10,0) -> 10 | AL42: =IF($F$36=2,10,0) -> 10 | AN42: =IF($F$36=2,10,0) -> 10 | AP42: =IF($F$36=2,10,0) -> 10 | AR42: =IF($F$36=2,10,0) -> 10 | AT42: =IF($F$36=2,10,0) -> 10 | AV42: =IF($F$36=2,10,0) -> 10 | AX42: =IF($F$36=2,10,0) -> 10 | AZ42: =IF($F$36=2,10,0) -> 10 | BB42: =IF($F$36=2,10,0) -> 10 | BD42: =IF($F$36=2,10,0) -> 10 | BF42: =IF($F$36=2,10,0) -> 10 | BH42: =IF($F$36=2,10,0) -> 10 | BJ42: =IF($F$36=2,10,0) -> 10 | BL42: =IF($F$36=2,10,0) -> 10 | BN42: =IF($F$36=2,10,0) -> 10 | BP42: =IF($F$36=2,10,0) -> 10 | BR42: =IF($F$36=2,10,0) -> 10 | BT42: =IF($F$36=2,10,0) -> 10 | BV42: =IF($F$36=2,10,0) -> 10 | BX42: =IF($F$36=2,10,0) -> 10 | BZ42: =IF($F$36=2,10,0) -> 10 | CB42: =IF($F$36=2,10,0) -> 10 | CD42: =IF($F$36=2,10,0) -> 10 | CF42: =IF($F$36=2,10,0) -> 10 | CH42: =IF($F$36=2,10,0) -> 10 | CJ42: =IF($F$36=2,10,0) -> 10 | CL42: =IF($F$36=2,10,0) -> 10 | CN42: =IF($F$36=2,10,0) -> 10 | CP42: =IF($F$36=2,10,0) -> 10 | CR42: =IF($F$36=2,10,0) -> 10 | CT42: =IF($F$36=2,10,0) -> 10 | CV42: =IF($F$36=2,10,0) -> 10 | CX42: =IF($F$36=2,10,0) -> 10 | CZ42: =IF($F$36=2,10,0) -> 10 | DB42: =IF($F$36=2,10,0) -> 10 | DD42: =IF($F$36=2,10,0) -> 10 | DF42: =IF($F$36=2,10,0) -> 10 | DH42: =IF($F$36=2,10,0) -> 10 | DJ42: =IF($F$36=2,10,0) -> 10 | DL42: =IF($F$36=2,10,0) -> 10 | DN42: =IF($F$36=2,10,0) -> 10 | DP42: =IF($F$36=2,10,0) -> 10 | DR42: =IF($F$36=2,10,0) -> 10 | DT42: =IF($F$36=2,10,0) -> 10 | DV42: =IF($F$36=2,10,0) -> 10 | DX42: =IF($F$36=2,10,0) -> 10 | DZ42: =IF($F$36=2,10,0) -> 10 | EB42: =IF($F$36=2,10,0) -> 10 | ED42: =IF($F$36=2,10,0) -> 10 | EF42: =IF($F$36=2,10,0) -> 10 | EH42: =IF($F$36=2,10,0) -> 10 | EJ42: =IF($F$36=2,10,0) -> 10 | EL42: =IF($F$36=2,10,0) -> 10 | EN42: =IF($F$36=2,10,0) -> 10 | EP42: =IF($F$36=2,10,0) -> 10 | ER42: =IF($F$36=2,10,0) -> 10 | ET42: =IF($F$36=2,10,0) -> 10 | EV42: =IF($F$36=2,10,0) -> 10 | EX42: =IF($F$36=2,10,0) -> 10 | EZ42: =IF($F$36=2,10,0) -> 10 | FB42: =IF($F$36=2,10,0) -> 10 | FD42: =IF($F$36=2,10,0) -> 10 | FF42: =IF($F$36=2,10,0) -> 10 | FH42: =IF($F$36=2,10,0) -> 10 | FJ42: =IF($F$36=2,10,0) -> 10 | FL42: =IF($F$36=2,10,0) -> 10 | FN42: =IF($F$36=2,10,0) -> 10 | FP42: =IF($F$36=2,10,0) -> 10 | FR42: =IF($F$36=2,10,0) -> 10 | FT42: =IF($F$36=2,10,0) -> 10 | FV42: =IF($F$36=2,10,0) -> 10 | FX42: =IF($F$36=2,10,0) -> 10 | FZ42: =IF($F$36=2,10,0) -> 10 | GB42: =IF($F$36=2,10,0) -> 10 | GD42: =IF($F$36=2,10,0) -> 10 | GF42: =IF($F$36=2,10,0) -> 10 | GH42: =IF($F$36=2,10,0) -> 10 | GJ42: =IF($F$36=2,10,0) -> 10 | GL42: =IF($F$36=2,10,0) -> 10 | GN42: =IF($F$36=2,10,0) -> 10 | GP42: =IF($F$36=2,10,0) -> 10 | GR42: =IF($F$36=2,10,0) -> 10 | GT42: =IF($F$36=2,10,0) -> 10 | GV42: =IF($F$36=2,10,0) -> 10
D44: Drop down list
D45: Yes | E45: Head of household's child | G45: Head of household's child | I45: Head of household's child | K45: Head of household's child | M45: Head of household's child | O45: Head of household's child | Q45: Head of household's child | S45: Head of household's child | U45: Head of household's child | W45: Head of household's child | Y45: Head of household's child | AA45: Head of household's child | AC45: Head of household's child | AE45: Head of household's child | AG45: Head of household's child | AI45: Head of household's child | AK45: Head of household's child | AM45: Head of household's child | AO45: Head of household's child | AQ45: Head of household's child | AS45: Head of household's child | AU45: Head of household's child | AW45: Head of household's child | AY45: Head of household's child | BA45: Head of household's child | BC45: Head of household's child | BE45: Head of household's child | BG45: Head of household's child | BI45: Head of household's child | BK45: Head of household's child | BM45: Head of household's child | BO45: Head of household's child | BQ45: Head of household's child | BS45: Head of household's child | BU45: Head of household's child | BW45: Head of household's child | BY45: Head of household's child | CA45: Head of household's child | CC45: Head of household's child | CE45: Head of household's child | CG45: Head of household's child | CI45: Head of household's child | CK45: Head of household's child | CM45: Head of household's child | CO45: Head of household's child | CQ45: Head of household's child | CS45: Head of household's child | CU45: Head of household's child | CW45: Head of household's child | CY45: Head of household's child | DA45: Head of household's child | DC45: Head of household's child | DE45: Head of household's child | DG45: Head of household's child | DI45: Head of household's child | DK45: Head of household's child | DM45: Head of household's child | DO45: Head of household's child | DQ45: Head of household's child | DS45: Head of household's child | DU45: Head of household's child | DW45: Head of household's child | DY45: Head of household's child | EA45: Head of household's child | EC45: Head of household's child | EE45: Head of household's child | EG45: Head of household's child | EI45: Head of household's child | EK45: Head of household's child | EM45: Head of household's child | EO45: Head of household's child | EQ45: Head of household's child | ES45: Head of household's child | EU45: Head of household's child | EW45: Head of household's child | EY45: Head of household's child | FA45: Head of household's child | FC45: Head of household's child | FE45: Head of household's child | FG45: Head of household's child | FI45: Head of household's child | FK45: Head of household's child | FM45: Head of household's child | FO45: Head of household's child | FQ45: Head of household's child | FS45: Head of household's child | FU45: Head of household's child | FW45: Head of household's child | FY45: Head of household's child | GA45: Head of household's child | GC45: Head of household's child | GE45: Head of household's child | GG45: Head of household's child | GI45: Head of household's child | GK45: Head of household's child | GM45: Head of household's child | GO45: Head of household's child | GQ45: Head of household's child | GS45: Head of household's child | GU45: Head of household's child
D46: No | E46: Self (head of household) | G46: Self (head of household) | I46: Self (head of household) | K46: Self (head of household) | M46: Self (head of household) | O46: Self (head of household) | Q46: Self (head of household) | S46: Self (head of household) | U46: Self (head of household) | W46: Self (head of household) | Y46: Self (head of household) | AA46: Self (head of household) | AC46: Self (head of household) | AE46: Self (head of household) | AG46: Self (head of household) | AI46: Self (head of household) | AK46: Self (head of household) | AM46: Self (head of household) | AO46: Self (head of household) | AQ46: Self (head of household) | AS46: Self (head of household) | AU46: Self (head of household) | AW46: Self (head of household) | AY46: Self (head of household) | BA46: Self (head of household) | BC46: Self (head of household) | BE46: Self (head of household) | BG46: Self (head of household) | BI46: Self (head of household) | BK46: Self (head of household) | BM46: Self (head of household) | BO46: Self (head of household) | BQ46: Self (head of household) | BS46: Self (head of household) | BU46: Self (head of household) | BW46: Self (head of household) | BY46: Self (head of household) | CA46: Self (head of household) | CC46: Self (head of household) | CE46: Self (head of household) | CG46: Self (head of household) | CI46: Self (head of household) | CK46: Self (head of household) | CM46: Self (head of household) | CO46: Self (head of household) | CQ46: Self (head of household) | CS46: Self (head of household) | CU46: Self (head of household) | CW46: Self (head of household) | CY46: Self (head of household) | DA46: Self (head of household) | DC46: Self (head of household) | DE46: Self (head of household) | DG46: Self (head of household) | DI46: Self (head of household) | DK46: Self (head of household) | DM46: Self (head of household) | DO46: Self (head of household) | DQ46: Self (head of household) | DS46: Self (head of household) | DU46: Self (head of household) | DW46: Self (head of household) | DY46: Self (head of household) | EA46: Self (head of household) | EC46: Self (head of household) | EE46: Self (head of household) | EG46: Self (head of household) | EI46: Self (head of household) | EK46: Self (head of household) | EM46: Self (head of household) | EO46: Self (head of household) | EQ46: Self (head of household) | ES46: Self (head of household) | EU46: Self (head of household) | EW46: Self (head of household) | EY46: Self (head of household) | FA46: Self (head of household) | FC46: Self (head of household) | FE46: Self (head of household) | FG46: Self (head of household) | FI46: Self (head of household) | FK46: Self (head of household) | FM46: Self (head of household) | FO46: Self (head of household) | FQ46: Self (head of household) | FS46: Self (head of household) | FU46: Self (head of household) | FW46: Self (head of household) | FY46: Self (head of household) | GA46: Self (head of household) | GC46: Self (head of household) | GE46: Self (head of household) | GG46: Self (head of household) | GI46: Self (head of household) | GK46: Self (head of household) | GM46: Self (head of household) | GO46: Self (head of household) | GQ46: Self (head of household) | GS46: Self (head of household) | GU46: Self (head of household)
D47: N/A
A51: Adult Closed - 19 | B51: =C28
B56: Data Check | GW56: Applicable | GX56: Non-Comp | GY56: Percentage
A57: Data Acknowledgement | B57: Applicable Files (Yes or No) | D57: =IF(OR(D4="Yes",D4="No"),1,0) -> 0 | F57: =IF(OR(F4="Yes",F4="No"),1,0) -> 0 | H57: =IF(OR(H4="Yes",H4="No"),1,0) -> 0 | J57: =IF(OR(J4="Yes",J4="No"),1,0) -> 0 | L57: =IF(OR(L4="Yes",L4="No"),1,0) -> 0 | N57: =IF(OR(N4="Yes",N4="No"),1,0) -> 0 | P57: =IF(OR(P4="Yes",P4="No"),1,0) -> 0 | R57: =IF(OR(R4="Yes",R4="No"),1,0) -> 0 | T57: =IF(OR(T4="Yes",T4="No"),1,0) -> 0 | V57: =IF(OR(V4="Yes",V4="No"),1,0) -> 0 | X57: =IF(OR(X4="Yes",X4="No"),1,0) -> 0 | Z57: =IF(OR(Z4="Yes",Z4="No"),1,0) -> 0 | AB57: =IF(OR(AB4="Yes",AB4="No"),1,0) -> 0 | AD57: =IF(OR(AD4="Yes",AD4="No"),1,0) -> 0 | AF57: =IF(OR(AF4="Yes",AF4="No"),1,0) -> 0 | AH57: =IF(OR(AH4="Yes",AH4="No"),1,0) -> 0 | AJ57: =IF(OR(AJ4="Yes",AJ4="No"),1,0) -> 0 | AL57: =IF(OR(AL4="Yes",AL4="No"),1,0) -> 0 | AN57: =IF(OR(AN4="Yes",AN4="No"),1,0) -> 0 | AP57: =IF(OR(AP4="Yes",AP4="No"),1,0) -> 0 | AR57: =IF(OR(AR4="Yes",AR4="No"),1,0) -> 0 | AT57: =IF(OR(AT4="Yes",AT4="No"),1,0) -> 0 | AV57: =IF(OR(AV4="Yes",AV4="No"),1,0) -> 0 | AX57: =IF(OR(AX4="Yes",AX4="No"),1,0) -> 0 | AZ57: =IF(OR(AZ4="Yes",AZ4="No"),1,0) -> 0 | BB57: =IF(OR(BB4="Yes",BB4="No"),1,0) -> 0 | BD57: =IF(OR(BD4="Yes",BD4="No"),1,0) -> 0 | BF57: =IF(OR(BF4="Yes",BF4="No"),1,0) -> 0 | BH57: =IF(OR(BH4="Yes",BH4="No"),1,0) -> 0 | BJ57: =IF(OR(BJ4="Yes",BJ4="No"),1,0) -> 0 | BL57: =IF(OR(BL4="Yes",BL4="No"),1,0) -> 0 | BN57: =IF(OR(BN4="Yes",BN4="No"),1,0) -> 0 | BP57: =IF(OR(BP4="Yes",BP4="No"),1,0) -> 0 | BR57: =IF(OR(BR4="Yes",BR4="No"),1,0) -> 0 | BT57: =IF(OR(BT4="Yes",BT4="No"),1,0) -> 0 | BV57: =IF(OR(BV4="Yes",BV4="No"),1,0) -> 0 | BX57: =IF(OR(BX4="Yes",BX4="No"),1,0) -> 0 | BZ57: =IF(OR(BZ4="Yes",BZ4="No"),1,0) -> 0 | CB57: =IF(OR(CB4="Yes",CB4="No"),1,0) -> 0 | CD57: =IF(OR(CD4="Yes",CD4="No"),1,0) -> 0 | CF57: =IF(OR(CF4="Yes",CF4="No"),1,0) -> 0 | CH57: =IF(OR(CH4="Yes",CH4="No"),1,0) -> 0 | CJ57: =IF(OR(CJ4="Yes",CJ4="No"),1,0) -> 0 | CL57: =IF(OR(CL4="Yes",CL4="No"),1,0) -> 0 | CN57: =IF(OR(CN4="Yes",CN4="No"),1,0) -> 0 | CP57: =IF(OR(CP4="Yes",CP4="No"),1,0) -> 0 | CR57: =IF(OR(CR4="Yes",CR4="No"),1,0) -> 0 | CT57: =IF(OR(CT4="Yes",CT4="No"),1,0) -> 0 | CV57: =IF(OR(CV4="Yes",CV4="No"),1,0) -> 0 | CX57: =IF(OR(CX4="Yes",CX4="No"),1,0) -> 0 | CZ57: =IF(OR(CZ4="Yes",CZ4="No"),1,0) -> 0 | DB57: =IF(OR(DB4="Yes",DB4="No"),1,0) -> 0 | DD57: =IF(OR(DD4="Yes",DD4="No"),1,0) -> 0 | DF57: =IF(OR(DF4="Yes",DF4="No"),1,0) -> 0 | DH57: =IF(OR(DH4="Yes",DH4="No"),1,0) -> 0 | DJ57: =IF(OR(DJ4="Yes",DJ4="No"),1,0) -> 0 | DL57: =IF(OR(DL4="Yes",DL4="No"),1,0) -> 0 | DN57: =IF(OR(DN4="Yes",DN4="No"),1,0) -> 0 | DP57: =IF(OR(DP4="Yes",DP4="No"),1,0) -> 0 | DR57: =IF(OR(DR4="Yes",DR4="No"),1,0) -> 0 | DT57: =IF(OR(DT4="Yes",DT4="No"),1,0) -> 0 | DV57: =IF(OR(DV4="Yes",DV4="No"),1,0) -> 0 | DX57: =IF(OR(DX4="Yes",DX4="No"),1,0) -> 0 | DZ57: =IF(OR(DZ4="Yes",DZ4="No"),1,0) -> 0 | EB57: =IF(OR(EB4="Yes",EB4="No"),1,0) -> 0 | ED57: =IF(OR(ED4="Yes",ED4="No"),1,0) -> 0 | EF57: =IF(OR(EF4="Yes",EF4="No"),1,0) -> 0 | EH57: =IF(OR(EH4="Yes",EH4="No"),1,0) -> 0 | EJ57: =IF(OR(EJ4="Yes",EJ4="No"),1,0) -> 0 | EL57: =IF(OR(EL4="Yes",EL4="No"),1,0) -> 0 | EN57: =IF(OR(EN4="Yes",EN4="No"),1,0) -> 0 | EP57: =IF(OR(EP4="Yes",EP4="No"),1,0) -> 0 | ER57: =IF(OR(ER4="Yes",ER4="No"),1,0) -> 0 | ET57: =IF(OR(ET4="Yes",ET4="No"),1,0) -> 0 | EV57: =IF(OR(EV4="Yes",EV4="No"),1,0) -> 0 | EX57: =IF(OR(EX4="Yes",EX4="No"),1,0) -> 0 | EZ57: =IF(OR(EZ4="Yes",EZ4="No"),1,0) -> 0 | FB57: =IF(OR(FB4="Yes",FB4="No"),1,0) -> 0 | FD57: =IF(OR(FD4="Yes",FD4="No"),1,0) -> 0 | FF57: =IF(OR(FF4="Yes",FF4="No"),1,0) -> 0 | FH57: =IF(OR(FH4="Yes",FH4="No"),1,0) -> 0 | FJ57: =IF(OR(FJ4="Yes",FJ4="No"),1,0) -> 0 | FL57: =IF(OR(FL4="Yes",FL4="No"),1,0) -> 0 | FN57: =IF(OR(FN4="Yes",FN4="No"),1,0) -> 0 | FP57: =IF(OR(FP4="Yes",FP4="No"),1,0) -> 0 | FR57: =IF(OR(FR4="Yes",FR4="No"),1,0) -> 0 | FT57: =IF(OR(FT4="Yes",FT4="No"),1,0) -> 0 | FV57: =IF(OR(FV4="Yes",FV4="No"),1,0) -> 0 | FX57: =IF(OR(FX4="Yes",FX4="No"),1,0) -> 0 | FZ57: =IF(OR(FZ4="Yes",FZ4="No"),1,0) -> 0 | GB57: =IF(OR(GB4="Yes",GB4="No"),1,0) -> 0 | GD57: =IF(OR(GD4="Yes",GD4="No"),1,0) -> 0 | GF57: =IF(OR(GF4="Yes",GF4="No"),1,0) -> 0 | GH57: =IF(OR(GH4="Yes",GH4="No"),1,0) -> 0 | GJ57: =IF(OR(GJ4="Yes",GJ4="No"),1,0) -> 0 | GL57: =IF(OR(GL4="Yes",GL4="No"),1,0) -> 0 | GN57: =IF(OR(GN4="Yes",GN4="No"),1,0) -> 0 | GP57: =IF(OR(GP4="Yes",GP4="No"),1,0) -> 0 | GR57: =IF(OR(GR4="Yes",GR4="No"),1,0) -> 0 | GT57: =IF(OR(GT4="Yes",GT4="No"),1,0) -> 0 | GV57: =IF(OR(GV4="Yes",GV4="No"),1,0) -> 0 | GW57: =SUM(D57:GV57) -> 0
B58: Non Compliant (N0) | D58: =IF(D4="No",1,0) -> 0 | F58: =IF(F4="No",1,0) -> 0 | H58: =IF(H4="No",1,0) -> 0 | J58: =IF(J4="No",1,0) -> 0 | L58: =IF(L4="No",1,0) -> 0 | N58: =IF(N4="No",1,0) -> 0 | P58: =IF(P4="No",1,0) -> 0 | R58: =IF(R4="No",1,0) -> 0 | T58: =IF(T4="No",1,0) -> 0 | V58: =IF(V4="No",1,0) -> 0 | X58: =IF(X4="No",1,0) -> 0 | Z58: =IF(Z4="No",1,0) -> 0 | AB58: =IF(AB4="No",1,0) -> 0 | AD58: =IF(AD4="No",1,0) -> 0 | AF58: =IF(AF4="No",1,0) -> 0 | AH58: =IF(AH4="No",1,0) -> 0 | AJ58: =IF(AJ4="No",1,0) -> 0 | AL58: =IF(AL4="No",1,0) -> 0 | AN58: =IF(AN4="No",1,0) -> 0 | AP58: =IF(AP4="No",1,0) -> 0 | AR58: =IF(AR4="No",1,0) -> 0 | AT58: =IF(AT4="No",1,0) -> 0 | AV58: =IF(AV4="No",1,0) -> 0 | AX58: =IF(AX4="No",1,0) -> 0 | AZ58: =IF(AZ4="No",1,0) -> 0 | BB58: =IF(BB4="No",1,0) -> 0 | BD58: =IF(BD4="No",1,0) -> 0 | BF58: =IF(BF4="No",1,0) -> 0 | BH58: =IF(BH4="No",1,0) -> 0 | BJ58: =IF(BJ4="No",1,0) -> 0 | BL58: =IF(BL4="No",1,0) -> 0 | BN58: =IF(BN4="No",1,0) -> 0 | BP58: =IF(BP4="No",1,0) -> 0 | BR58: =IF(BR4="No",1,0) -> 0 | BT58: =IF(BT4="No",1,0) -> 0 | BV58: =IF(BV4="No",1,0) -> 0 | BX58: =IF(BX4="No",1,0) -> 0 | BZ58: =IF(BZ4="No",1,0) -> 0 | CB58: =IF(CB4="No",1,0) -> 0 | CD58: =IF(CD4="No",1,0) -> 0 | CF58: =IF(CF4="No",1,0) -> 0 | CH58: =IF(CH4="No",1,0) -> 0 | CJ58: =IF(CJ4="No",1,0) -> 0 | CL58: =IF(CL4="No",1,0) -> 0 | CN58: =IF(CN4="No",1,0) -> 0 | CP58: =IF(CP4="No",1,0) -> 0 | CR58: =IF(CR4="No",1,0) -> 0 | CT58: =IF(CT4="No",1,0) -> 0 | CV58: =IF(CV4="No",1,0) -> 0 | CX58: =IF(CX4="No",1,0) -> 0 | CZ58: =IF(CZ4="No",1,0) -> 0 | DB58: =IF(DB4="No",1,0) -> 0 | DD58: =IF(DD4="No",1,0) -> 0 | DF58: =IF(DF4="No",1,0) -> 0 | DH58: =IF(DH4="No",1,0) -> 0 | DJ58: =IF(DJ4="No",1,0) -> 0 | DL58: =IF(DL4="No",1,0) -> 0 | DN58: =IF(DN4="No",1,0) -> 0 | DP58: =IF(DP4="No",1,0) -> 0 | DR58: =IF(DR4="No",1,0) -> 0 | DT58: =IF(DT4="No",1,0) -> 0 | DV58: =IF(DV4="No",1,0) -> 0 | DX58: =IF(DX4="No",1,0) -> 0 | DZ58: =IF(DZ4="No",1,0) -> 0 | EB58: =IF(EB4="No",1,0) -> 0 | ED58: =IF(ED4="No",1,0) -> 0 | EF58: =IF(EF4="No",1,0) -> 0 | EH58: =IF(EH4="No",1,0) -> 0 | EJ58: =IF(EJ4="No",1,0) -> 0 | EL58: =IF(EL4="No",1,0) -> 0 | EN58: =IF(EN4="No",1,0) -> 0 | EP58: =IF(EP4="No",1,0) -> 0 | ER58: =IF(ER4="No",1,0) -> 0 | ET58: =IF(ET4="No",1,0) -> 0 | EV58: =IF(EV4="No",1,0) -> 0 | EX58: =IF(EX4="No",1,0) -> 0 | EZ58: =IF(EZ4="No",1,0) -> 0 | FB58: =IF(FB4="No",1,0) -> 0 | FD58: =IF(FD4="No",1,0) -> 0 | FF58: =IF(FF4="No",1,0) -> 0 | FH58: =IF(FH4="No",1,0) -> 0 | FJ58: =IF(FJ4="No",1,0) -> 0 | FL58: =IF(FL4="No",1,0) -> 0 | FN58: =IF(FN4="No",1,0) -> 0 | FP58: =IF(FP4="No",1,0) -> 0 | FR58: =IF(FR4="No",1,0) -> 0 | FT58: =IF(FT4="No",1,0) -> 0 | FV58: =IF(FV4="No",1,0) -> 0 | FX58: =IF(FX4="No",1,0) -> 0 | FZ58: =IF(FZ4="No",1,0) -> 0 | GB58: =IF(GB4="No",1,0) -> 0 | GD58: =IF(GD4="No",1,0) -> 0 | GF58: =IF(GF4="No",1,0) -> 0 | GH58: =IF(GH4="No",1,0) -> 0 | GJ58: =IF(GJ4="No",1,0) -> 0 | GL58: =IF(GL4="No",1,0) -> 0 | GN58: =IF(GN4="No",1,0) -> 0 | GP58: =IF(GP4="No",1,0) -> 0 | GR58: =IF(GR4="No",1,0) -> 0 | GT58: =IF(GT4="No",1,0) -> 0 | GV58: =IF(GV4="No",1,0) -> 0 | GX58: =SUM(D58:GV58) -> 0 | GY58: =1-(X58/W57) -> #DIV/0!
A59: Relationship to head of HH | B59: Applicable Files (Yes or No) | D59: =IF(OR(D9="Yes",D9="No"),1,0) -> 0 | F59: =IF(OR(F9="Yes",F9="No"),1,0) -> 0 | H59: =IF(OR(H9="Yes",H9="No"),1,0) -> 0 | J59: =IF(OR(J9="Yes",J9="No"),1,0) -> 0 | L59: =IF(OR(L9="Yes",L9="No"),1,0) -> 0 | N59: =IF(OR(N9="Yes",N9="No"),1,0) -> 0 | P59: =IF(OR(P9="Yes",P9="No"),1,0) -> 0 | R59: =IF(OR(R9="Yes",R9="No"),1,0) -> 0 | T59: =IF(OR(T9="Yes",T9="No"),1,0) -> 0 | V59: =IF(OR(V9="Yes",V9="No"),1,0) -> 0 | X59: =IF(OR(X9="Yes",X9="No"),1,0) -> 0 | Z59: =IF(OR(Z9="Yes",Z9="No"),1,0) -> 0 | AB59: =IF(OR(AB9="Yes",AB9="No"),1,0) -> 0 | AD59: =IF(OR(AD9="Yes",AD9="No"),1,0) -> 0 | AF59: =IF(OR(AF9="Yes",AF9="No"),1,0) -> 0 | AH59: =IF(OR(AH9="Yes",AH9="No"),1,0) -> 0 | AJ59: =IF(OR(AJ9="Yes",AJ9="No"),1,0) -> 0 | AL59: =IF(OR(AL9="Yes",AL9="No"),1,0) -> 0 | AN59: =IF(OR(AN9="Yes",AN9="No"),1,0) -> 0 | AP59: =IF(OR(AP9="Yes",AP9="No"),1,0) -> 0 | AR59: =IF(OR(AR9="Yes",AR9="No"),1,0) -> 0 | AT59: =IF(OR(AT9="Yes",AT9="No"),1,0) -> 0 | AV59: =IF(OR(AV9="Yes",AV9="No"),1,0) -> 0 | AX59: =IF(OR(AX9="Yes",AX9="No"),1,0) -> 0 | AZ59: =IF(OR(AZ9="Yes",AZ9="No"),1,0) -> 0 | BB59: =IF(OR(BB9="Yes",BB9="No"),1,0) -> 0 | BD59: =IF(OR(BD9="Yes",BD9="No"),1,0) -> 0 | BF59: =IF(OR(BF9="Yes",BF9="No"),1,0) -> 0 | BH59: =IF(OR(BH9="Yes",BH9="No"),1,0) -> 0 | BJ59: =IF(OR(BJ9="Yes",BJ9="No"),1,0) -> 0 | BL59: =IF(OR(BL9="Yes",BL9="No"),1,0) -> 0 | BN59: =IF(OR(BN9="Yes",BN9="No"),1,0) -> 0 | BP59: =IF(OR(BP9="Yes",BP9="No"),1,0) -> 0 | BR59: =IF(OR(BR9="Yes",BR9="No"),1,0) -> 0 | BT59: =IF(OR(BT9="Yes",BT9="No"),1,0) -> 0 | BV59: =IF(OR(BV9="Yes",BV9="No"),1,0) -> 0 | BX59: =IF(OR(BX9="Yes",BX9="No"),1,0) -> 0 | BZ59: =IF(OR(BZ9="Yes",BZ9="No"),1,0) -> 0 | CB59: =IF(OR(CB9="Yes",CB9="No"),1,0) -> 0 | CD59: =IF(OR(CD9="Yes",CD9="No"),1,0) -> 0 | CF59: =IF(OR(CF9="Yes",CF9="No"),1,0) -> 0 | CH59: =IF(OR(CH9="Yes",CH9="No"),1,0) -> 0 | CJ59: =IF(OR(CJ9="Yes",CJ9="No"),1,0) -> 0 | CL59: =IF(OR(CL9="Yes",CL9="No"),1,0) -> 0 | CN59: =IF(OR(CN9="Yes",CN9="No"),1,0) -> 0 | CP59: =IF(OR(CP9="Yes",CP9="No"),1,0) -> 0 | CR59: =IF(OR(CR9="Yes",CR9="No"),1,0) -> 0 | CT59: =IF(OR(CT9="Yes",CT9="No"),1,0) -> 0 | CV59: =IF(OR(CV9="Yes",CV9="No"),1,0) -> 0 | CX59: =IF(OR(CX9="Yes",CX9="No"),1,0) -> 0 | CZ59: =IF(OR(CZ9="Yes",CZ9="No"),1,0) -> 0 | DB59: =IF(OR(DB9="Yes",DB9="No"),1,0) -> 0 | DD59: =IF(OR(DD9="Yes",DD9="No"),1,0) -> 0 | DF59: =IF(OR(DF9="Yes",DF9="No"),1,0) -> 0 | DH59: =IF(OR(DH9="Yes",DH9="No"),1,0) -> 0 | DJ59: =IF(OR(DJ9="Yes",DJ9="No"),1,0) -> 0 | DL59: =IF(OR(DL9="Yes",DL9="No"),1,0) -> 0 | DN59: =IF(OR(DN9="Yes",DN9="No"),1,0) -> 0 | DP59: =IF(OR(DP9="Yes",DP9="No"),1,0) -> 0 | DR59: =IF(OR(DR9="Yes",DR9="No"),1,0) -> 0 | DT59: =IF(OR(DT9="Yes",DT9="No"),1,0) -> 0 | DV59: =IF(OR(DV9="Yes",DV9="No"),1,0) -> 0 | DX59: =IF(OR(DX9="Yes",DX9="No"),1,0) -> 0 | DZ59: =IF(OR(DZ9="Yes",DZ9="No"),1,0) -> 0 | EB59: =IF(OR(EB9="Yes",EB9="No"),1,0) -> 0 | ED59: =IF(OR(ED9="Yes",ED9="No"),1,0) -> 0 | EF59: =IF(OR(EF9="Yes",EF9="No"),1,0) -> 0 | EH59: =IF(OR(EH9="Yes",EH9="No"),1,0) -> 0 | EJ59: =IF(OR(EJ9="Yes",EJ9="No"),1,0) -> 0 | EL59: =IF(OR(EL9="Yes",EL9="No"),1,0) -> 0 | EN59: =IF(OR(EN9="Yes",EN9="No"),1,0) -> 0 | EP59: =IF(OR(EP9="Yes",EP9="No"),1,0) -> 0 | ER59: =IF(OR(ER9="Yes",ER9="No"),1,0) -> 0 | ET59: =IF(OR(ET9="Yes",ET9="No"),1,0) -> 0 | EV59: =IF(OR(EV9="Yes",EV9="No"),1,0) -> 0 | EX59: =IF(OR(EX9="Yes",EX9="No"),1,0) -> 0 | EZ59: =IF(OR(EZ9="Yes",EZ9="No"),1,0) -> 0 | FB59: =IF(OR(FB9="Yes",FB9="No"),1,0) -> 0 | FD59: =IF(OR(FD9="Yes",FD9="No"),1,0) -> 0 | FF59: =IF(OR(FF9="Yes",FF9="No"),1,0) -> 0 | FH59: =IF(OR(FH9="Yes",FH9="No"),1,0) -> 0 | FJ59: =IF(OR(FJ9="Yes",FJ9="No"),1,0) -> 0 | FL59: =IF(OR(FL9="Yes",FL9="No"),1,0) -> 0 | FN59: =IF(OR(FN9="Yes",FN9="No"),1,0) -> 0 | FP59: =IF(OR(FP9="Yes",FP9="No"),1,0) -> 0 | FR59: =IF(OR(FR9="Yes",FR9="No"),1,0) -> 0 | FT59: =IF(OR(FT9="Yes",FT9="No"),1,0) -> 0 | FV59: =IF(OR(FV9="Yes",FV9="No"),1,0) -> 0 | FX59: =IF(OR(FX9="Yes",FX9="No"),1,0) -> 0 | FZ59: =IF(OR(FZ9="Yes",FZ9="No"),1,0) -> 0 | GB59: =IF(OR(GB9="Yes",GB9="No"),1,0) -> 0 | GD59: =IF(OR(GD9="Yes",GD9="No"),1,0) -> 0 | GF59: =IF(OR(GF9="Yes",GF9="No"),1,0) -> 0 | GH59: =IF(OR(GH9="Yes",GH9="No"),1,0) -> 0 | GJ59: =IF(OR(GJ9="Yes",GJ9="No"),1,0) -> 0 | GL59: =IF(OR(GL9="Yes",GL9="No"),1,0) -> 0 | GN59: =IF(OR(GN9="Yes",GN9="No"),1,0) -> 0 | GP59: =IF(OR(GP9="Yes",GP9="No"),1,0) -> 0 | GR59: =IF(OR(GR9="Yes",GR9="No"),1,0) -> 0 | GT59: =IF(OR(GT9="Yes",GT9="No"),1,0) -> 0 | GV59: =IF(OR(GV9="Yes",GV9="No"),1,0) -> 0 | GW59: =SUM(D59:GV59) -> 0
B60: Non Compliant (N0) | D60: =IF(D9="No",1,0) -> 0 | F60: =IF(F9="No",1,0) -> 0 | H60: =IF(H9="No",1,0) -> 0 | J60: =IF(J9="No",1,0) -> 0 | L60: =IF(L9="No",1,0) -> 0 | N60: =IF(N9="No",1,0) -> 0 | P60: =IF(P9="No",1,0) -> 0 | R60: =IF(R9="No",1,0) -> 0 | T60: =IF(T9="No",1,0) -> 0 | V60: =IF(V9="No",1,0) -> 0 | X60: =IF(X9="No",1,0) -> 0 | Z60: =IF(Z9="No",1,0) -> 0 | AB60: =IF(AB9="No",1,0) -> 0 | AD60: =IF(AD9="No",1,0) -> 0 | AF60: =IF(AF9="No",1,0) -> 0 | AH60: =IF(AH9="No",1,0) -> 0 | AJ60: =IF(AJ9="No",1,0) -> 0 | AL60: =IF(AL9="No",1,0) -> 0 | AN60: =IF(AN9="No",1,0) -> 0 | AP60: =IF(AP9="No",1,0) -> 0 | AR60: =IF(AR9="No",1,0) -> 0 | AT60: =IF(AT9="No",1,0) -> 0 | AV60: =IF(AV9="No",1,0) -> 0 | AX60: =IF(AX9="No",1,0) -> 0 | AZ60: =IF(AZ9="No",1,0) -> 0 | BB60: =IF(BB9="No",1,0) -> 0 | BD60: =IF(BD9="No",1,0) -> 0 | BF60: =IF(BF9="No",1,0) -> 0 | BH60: =IF(BH9="No",1,0) -> 0 | BJ60: =IF(BJ9="No",1,0) -> 0 | BL60: =IF(BL9="No",1,0) -> 0 | BN60: =IF(BN9="No",1,0) -> 0 | BP60: =IF(BP9="No",1,0) -> 0 | BR60: =IF(BR9="No",1,0) -> 0 | BT60: =IF(BT9="No",1,0) -> 0 | BV60: =IF(BV9="No",1,0) -> 0 | BX60: =IF(BX9="No",1,0) -> 0 | BZ60: =IF(BZ9="No",1,0) -> 0 | CB60: =IF(CB9="No",1,0) -> 0 | CD60: =IF(CD9="No",1,0) -> 0 | CF60: =IF(CF9="No",1,0) -> 0 | CH60: =IF(CH9="No",1,0) -> 0 | CJ60: =IF(CJ9="No",1,0) -> 0 | CL60: =IF(CL9="No",1,0) -> 0 | CN60: =IF(CN9="No",1,0) -> 0 | CP60: =IF(CP9="No",1,0) -> 0 | CR60: =IF(CR9="No",1,0) -> 0 | CT60: =IF(CT9="No",1,0) -> 0 | CV60: =IF(CV9="No",1,0) -> 0 | CX60: =IF(CX9="No",1,0) -> 0 | CZ60: =IF(CZ9="No",1,0) -> 0 | DB60: =IF(DB9="No",1,0) -> 0 | DD60: =IF(DD9="No",1,0) -> 0 | DF60: =IF(DF9="No",1,0) -> 0 | DH60: =IF(DH9="No",1,0) -> 0 | DJ60: =IF(DJ9="No",1,0) -> 0 | DL60: =IF(DL9="No",1,0) -> 0 | DN60: =IF(DN9="No",1,0) -> 0 | DP60: =IF(DP9="No",1,0) -> 0 | DR60: =IF(DR9="No",1,0) -> 0 | DT60: =IF(DT9="No",1,0) -> 0 | DV60: =IF(DV9="No",1,0) -> 0 | DX60: =IF(DX9="No",1,0) -> 0 | DZ60: =IF(DZ9="No",1,0) -> 0 | EB60: =IF(EB9="No",1,0) -> 0 | ED60: =IF(ED9="No",1,0) -> 0 | EF60: =IF(EF9="No",1,0) -> 0 | EH60: =IF(EH9="No",1,0) -> 0 | EJ60: =IF(EJ9="No",1,0) -> 0 | EL60: =IF(EL9="No",1,0) -> 0 | EN60: =IF(EN9="No",1,0) -> 0 | EP60: =IF(EP9="No",1,0) -> 0 | ER60: =IF(ER9="No",1,0) -> 0 | ET60: =IF(ET9="No",1,0) -> 0 | EV60: =IF(EV9="No",1,0) -> 0 | EX60: =IF(EX9="No",1,0) -> 0 | EZ60: =IF(EZ9="No",1,0) -> 0 | FB60: =IF(FB9="No",1,0) -> 0 | FD60: =IF(FD9="No",1,0) -> 0 | FF60: =IF(FF9="No",1,0) -> 0 | FH60: =IF(FH9="No",1,0) -> 0 | FJ60: =IF(FJ9="No",1,0) -> 0 | FL60: =IF(FL9="No",1,0) -> 0 | FN60: =IF(FN9="No",1,0) -> 0 | FP60: =IF(FP9="No",1,0) -> 0 | FR60: =IF(FR9="No",1,0) -> 0 | FT60: =IF(FT9="No",1,0) -> 0 | FV60: =IF(FV9="No",1,0) -> 0 | FX60: =IF(FX9="No",1,0) -> 0 | FZ60: =IF(FZ9="No",1,0) -> 0 | GB60: =IF(GB9="No",1,0) -> 0 | GD60: =IF(GD9="No",1,0) -> 0 | GF60: =IF(GF9="No",1,0) -> 0 | GH60: =IF(GH9="No",1,0) -> 0 | GJ60: =IF(GJ9="No",1,0) -> 0 | GL60: =IF(GL9="No",1,0) -> 0 | GN60: =IF(GN9="No",1,0) -> 0 | GP60: =IF(GP9="No",1,0) -> 0 | GR60: =IF(GR9="No",1,0) -> 0 | GT60: =IF(GT9="No",1,0) -> 0 | GV60: =IF(GV9="No",1,0) -> 0 | GX60: =SUM(D60:GV60) -> 0 | GY60: =1-(X60/W59) -> #DIV/0!
A61: First Name | B61: Applicable Files (Yes or No) | D61: =IF(OR(D10="Yes",D10="No"),1,0) -> 0 | F61: =IF(OR(F10="Yes",F10="No"),1,0) -> 0 | H61: =IF(OR(H10="Yes",H10="No"),1,0) -> 0 | J61: =IF(OR(J10="Yes",J10="No"),1,0) -> 0 | L61: =IF(OR(L10="Yes",L10="No"),1,0) -> 0 | N61: =IF(OR(N10="Yes",N10="No"),1,0) -> 0 | P61: =IF(OR(P10="Yes",P10="No"),1,0) -> 0 | R61: =IF(OR(R10="Yes",R10="No"),1,0) -> 0 | T61: =IF(OR(T10="Yes",T10="No"),1,0) -> 0 | V61: =IF(OR(V10="Yes",V10="No"),1,0) -> 0 | X61: =IF(OR(X10="Yes",X10="No"),1,0) -> 0 | Z61: =IF(OR(Z10="Yes",Z10="No"),1,0) -> 0 | AB61: =IF(OR(AB10="Yes",AB10="No"),1,0) -> 0 | AD61: =IF(OR(AD10="Yes",AD10="No"),1,0) -> 0 | AF61: =IF(OR(AF10="Yes",AF10="No"),1,0) -> 0 | AH61: =IF(OR(AH10="Yes",AH10="No"),1,0) -> 0 | AJ61: =IF(OR(AJ10="Yes",AJ10="No"),1,0) -> 0 | AL61: =IF(OR(AL10="Yes",AL10="No"),1,0) -> 0 | AN61: =IF(OR(AN10="Yes",AN10="No"),1,0) -> 0 | AP61: =IF(OR(AP10="Yes",AP10="No"),1,0) -> 0 | AR61: =IF(OR(AR10="Yes",AR10="No"),1,0) -> 0 | AT61: =IF(OR(AT10="Yes",AT10="No"),1,0) -> 0 | AV61: =IF(OR(AV10="Yes",AV10="No"),1,0) -> 0 | AX61: =IF(OR(AX10="Yes",AX10="No"),1,0) -> 0 | AZ61: =IF(OR(AZ10="Yes",AZ10="No"),1,0) -> 0 | BB61: =IF(OR(BB10="Yes",BB10="No"),1,0) -> 0 | BD61: =IF(OR(BD10="Yes",BD10="No"),1,0) -> 0 | BF61: =IF(OR(BF10="Yes",BF10="No"),1,0) -> 0 | BH61: =IF(OR(BH10="Yes",BH10="No"),1,0) -> 0 | BJ61: =IF(OR(BJ10="Yes",BJ10="No"),1,0) -> 0 | BL61: =IF(OR(BL10="Yes",BL10="No"),1,0) -> 0 | BN61: =IF(OR(BN10="Yes",BN10="No"),1,0) -> 0 | BP61: =IF(OR(BP10="Yes",BP10="No"),1,0) -> 0 | BR61: =IF(OR(BR10="Yes",BR10="No"),1,0) -> 0 | BT61: =IF(OR(BT10="Yes",BT10="No"),1,0) -> 0 | BV61: =IF(OR(BV10="Yes",BV10="No"),1,0) -> 0 | BX61: =IF(OR(BX10="Yes",BX10="No"),1,0) -> 0 | BZ61: =IF(OR(BZ10="Yes",BZ10="No"),1,0) -> 0 | CB61: =IF(OR(CB10="Yes",CB10="No"),1,0) -> 0 | CD61: =IF(OR(CD10="Yes",CD10="No"),1,0) -> 0 | CF61: =IF(OR(CF10="Yes",CF10="No"),1,0) -> 0 | CH61: =IF(OR(CH10="Yes",CH10="No"),1,0) -> 0 | CJ61: =IF(OR(CJ10="Yes",CJ10="No"),1,0) -> 0 | CL61: =IF(OR(CL10="Yes",CL10="No"),1,0) -> 0 | CN61: =IF(OR(CN10="Yes",CN10="No"),1,0) -> 0 | CP61: =IF(OR(CP10="Yes",CP10="No"),1,0) -> 0 | CR61: =IF(OR(CR10="Yes",CR10="No"),1,0) -> 0 | CT61: =IF(OR(CT10="Yes",CT10="No"),1,0) -> 0 | CV61: =IF(OR(CV10="Yes",CV10="No"),1,0) -> 0 | CX61: =IF(OR(CX10="Yes",CX10="No"),1,0) -> 0 | CZ61: =IF(OR(CZ10="Yes",CZ10="No"),1,0) -> 0 | DB61: =IF(OR(DB10="Yes",DB10="No"),1,0) -> 0 | DD61: =IF(OR(DD10="Yes",DD10="No"),1,0) -> 0 | DF61: =IF(OR(DF10="Yes",DF10="No"),1,0) -> 0 | DH61: =IF(OR(DH10="Yes",DH10="No"),1,0) -> 0 | DJ61: =IF(OR(DJ10="Yes",DJ10="No"),1,0) -> 0 | DL61: =IF(OR(DL10="Yes",DL10="No"),1,0) -> 0 | DN61: =IF(OR(DN10="Yes",DN10="No"),1,0) -> 0 | DP61: =IF(OR(DP10="Yes",DP10="No"),1,0) -> 0 | DR61: =IF(OR(DR10="Yes",DR10="No"),1,0) -> 0 | DT61: =IF(OR(DT10="Yes",DT10="No"),1,0) -> 0 | DV61: =IF(OR(DV10="Yes",DV10="No"),1,0) -> 0 | DX61: =IF(OR(DX10="Yes",DX10="No"),1,0) -> 0 | DZ61: =IF(OR(DZ10="Yes",DZ10="No"),1,0) -> 0 | EB61: =IF(OR(EB10="Yes",EB10="No"),1,0) -> 0 | ED61: =IF(OR(ED10="Yes",ED10="No"),1,0) -> 0 | EF61: =IF(OR(EF10="Yes",EF10="No"),1,0) -> 0 | EH61: =IF(OR(EH10="Yes",EH10="No"),1,0) -> 0 | EJ61: =IF(OR(EJ10="Yes",EJ10="No"),1,0) -> 0 | EL61: =IF(OR(EL10="Yes",EL10="No"),1,0) -> 0 | EN61: =IF(OR(EN10="Yes",EN10="No"),1,0) -> 0 | EP61: =IF(OR(EP10="Yes",EP10="No"),1,0) -> 0 | ER61: =IF(OR(ER10="Yes",ER10="No"),1,0) -> 0 | ET61: =IF(OR(ET10="Yes",ET10="No"),1,0) -> 0 | EV61: =IF(OR(EV10="Yes",EV10="No"),1,0) -> 0 | EX61: =IF(OR(EX10="Yes",EX10="No"),1,0) -> 0 | EZ61: =IF(OR(EZ10="Yes",EZ10="No"),1,0) -> 0 | FB61: =IF(OR(FB10="Yes",FB10="No"),1,0) -> 0 | FD61: =IF(OR(FD10="Yes",FD10="No"),1,0) -> 0 | FF61: =IF(OR(FF10="Yes",FF10="No"),1,0) -> 0 | FH61: =IF(OR(FH10="Yes",FH10="No"),1,0) -> 0 | FJ61: =IF(OR(FJ10="Yes",FJ10="No"),1,0) -> 0 | FL61: =IF(OR(FL10="Yes",FL10="No"),1,0) -> 0 | FN61: =IF(OR(FN10="Yes",FN10="No"),1,0) -> 0 | FP61: =IF(OR(FP10="Yes",FP10="No"),1,0) -> 0 | FR61: =IF(OR(FR10="Yes",FR10="No"),1,0) -> 0 | FT61: =IF(OR(FT10="Yes",FT10="No"),1,0) -> 0 | FV61: =IF(OR(FV10="Yes",FV10="No"),1,0) -> 0 | FX61: =IF(OR(FX10="Yes",FX10="No"),1,0) -> 0 | FZ61: =IF(OR(FZ10="Yes",FZ10="No"),1,0) -> 0 | GB61: =IF(OR(GB10="Yes",GB10="No"),1,0) -> 0 | GD61: =IF(OR(GD10="Yes",GD10="No"),1,0) -> 0 | GF61: =IF(OR(GF10="Yes",GF10="No"),1,0) -> 0 | GH61: =IF(OR(GH10="Yes",GH10="No"),1,0) -> 0 | GJ61: =IF(OR(GJ10="Yes",GJ10="No"),1,0) -> 0 | GL61: =IF(OR(GL10="Yes",GL10="No"),1,0) -> 0 | GN61: =IF(OR(GN10="Yes",GN10="No"),1,0) -> 0 | GP61: =IF(OR(GP10="Yes",GP10="No"),1,0) -> 0 | GR61: =IF(OR(GR10="Yes",GR10="No"),1,0) -> 0 | GT61: =IF(OR(GT10="Yes",GT10="No"),1,0) -> 0 | GV61: =IF(OR(GV10="Yes",GV10="No"),1,0) -> 0 | GW61: =SUM(D61:GV61) -> 0
B62: Non Compliant (N0) | D62: =IF(D10="No",1,0) -> 0 | F62: =IF(F10="No",1,0) -> 0 | H62: =IF(H10="No",1,0) -> 0 | J62: =IF(J10="No",1,0) -> 0 | L62: =IF(L10="No",1,0) -> 0 | N62: =IF(N10="No",1,0) -> 0 | P62: =IF(P10="No",1,0) -> 0 | R62: =IF(R10="No",1,0) -> 0 | T62: =IF(T10="No",1,0) -> 0 | V62: =IF(V10="No",1,0) -> 0 | X62: =IF(X10="No",1,0) -> 0 | Z62: =IF(Z10="No",1,0) -> 0 | AB62: =IF(AB10="No",1,0) -> 0 | AD62: =IF(AD10="No",1,0) -> 0 | AF62: =IF(AF10="No",1,0) -> 0 | AH62: =IF(AH10="No",1,0) -> 0 | AJ62: =IF(AJ10="No",1,0) -> 0 | AL62: =IF(AL10="No",1,0) -> 0 | AN62: =IF(AN10="No",1,0) -> 0 | AP62: =IF(AP10="No",1,0) -> 0 | AR62: =IF(AR10="No",1,0) -> 0 | AT62: =IF(AT10="No",1,0) -> 0 | AV62: =IF(AV10="No",1,0) -> 0 | AX62: =IF(AX10="No",1,0) -> 0 | AZ62: =IF(AZ10="No",1,0) -> 0 | BB62: =IF(BB10="No",1,0) -> 0 | BD62: =IF(BD10="No",1,0) -> 0 | BF62: =IF(BF10="No",1,0) -> 0 | BH62: =IF(BH10="No",1,0) -> 0 | BJ62: =IF(BJ10="No",1,0) -> 0 | BL62: =IF(BL10="No",1,0) -> 0 | BN62: =IF(BN10="No",1,0) -> 0 | BP62: =IF(BP10="No",1,0) -> 0 | BR62: =IF(BR10="No",1,0) -> 0 | BT62: =IF(BT10="No",1,0) -> 0 | BV62: =IF(BV10="No",1,0) -> 0 | BX62: =IF(BX10="No",1,0) -> 0 | BZ62: =IF(BZ10="No",1,0) -> 0 | CB62: =IF(CB10="No",1,0) -> 0 | CD62: =IF(CD10="No",1,0) -> 0 | CF62: =IF(CF10="No",1,0) -> 0 | CH62: =IF(CH10="No",1,0) -> 0 | CJ62: =IF(CJ10="No",1,0) -> 0 | CL62: =IF(CL10="No",1,0) -> 0 | CN62: =IF(CN10="No",1,0) -> 0 | CP62: =IF(CP10="No",1,0) -> 0 | CR62: =IF(CR10="No",1,0) -> 0 | CT62: =IF(CT10="No",1,0) -> 0 | CV62: =IF(CV10="No",1,0) -> 0 | CX62: =IF(CX10="No",1,0) -> 0 | CZ62: =IF(CZ10="No",1,0) -> 0 | DB62: =IF(DB10="No",1,0) -> 0 | DD62: =IF(DD10="No",1,0) -> 0 | DF62: =IF(DF10="No",1,0) -> 0 | DH62: =IF(DH10="No",1,0) -> 0 | DJ62: =IF(DJ10="No",1,0) -> 0 | DL62: =IF(DL10="No",1,0) -> 0 | DN62: =IF(DN10="No",1,0) -> 0 | DP62: =IF(DP10="No",1,0) -> 0 | DR62: =IF(DR10="No",1,0) -> 0 | DT62: =IF(DT10="No",1,0) -> 0 | DV62: =IF(DV10="No",1,0) -> 0 | DX62: =IF(DX10="No",1,0) -> 0 | DZ62: =IF(DZ10="No",1,0) -> 0 | EB62: =IF(EB10="No",1,0) -> 0 | ED62: =IF(ED10="No",1,0) -> 0 | EF62: =IF(EF10="No",1,0) -> 0 | EH62: =IF(EH10="No",1,0) -> 0 | EJ62: =IF(EJ10="No",1,0) -> 0 | EL62: =IF(EL10="No",1,0) -> 0 | EN62: =IF(EN10="No",1,0) -> 0 | EP62: =IF(EP10="No",1,0) -> 0 | ER62: =IF(ER10="No",1,0) -> 0 | ET62: =IF(ET10="No",1,0) -> 0 | EV62: =IF(EV10="No",1,0) -> 0 | EX62: =IF(EX10="No",1,0) -> 0 | EZ62: =IF(EZ10="No",1,0) -> 0 | FB62: =IF(FB10="No",1,0) -> 0 | FD62: =IF(FD10="No",1,0) -> 0 | FF62: =IF(FF10="No",1,0) -> 0 | FH62: =IF(FH10="No",1,0) -> 0 | FJ62: =IF(FJ10="No",1,0) -> 0 | FL62: =IF(FL10="No",1,0) -> 0 | FN62: =IF(FN10="No",1,0) -> 0 | FP62: =IF(FP10="No",1,0) -> 0 | FR62: =IF(FR10="No",1,0) -> 0 | FT62: =IF(FT10="No",1,0) -> 0 | FV62: =IF(FV10="No",1,0) -> 0 | FX62: =IF(FX10="No",1,0) -> 0 | FZ62: =IF(FZ10="No",1,0) -> 0 | GB62: =IF(GB10="No",1,0) -> 0 | GD62: =IF(GD10="No",1,0) -> 0 | GF62: =IF(GF10="No",1,0) -> 0 | GH62: =IF(GH10="No",1,0) -> 0 | GJ62: =IF(GJ10="No",1,0) -> 0 | GL62: =IF(GL10="No",1,0) -> 0 | GN62: =IF(GN10="No",1,0) -> 0 | GP62: =IF(GP10="No",1,0) -> 0 | GR62: =IF(GR10="No",1,0) -> 0 | GT62: =IF(GT10="No",1,0) -> 0 | GV62: =IF(GV10="No",1,0) -> 0 | GX62: =SUM(D62:GV62) -> 0 | GY62: =1-(X62/W61) -> #DIV/0!
A63: Last Name | B63: Applicable Files (Yes or No) | D63: =IF(OR(D11="Yes",D11="No"),1,0) -> 0 | F63: =IF(OR(F11="Yes",F11="No"),1,0) -> 0 | H63: =IF(OR(H11="Yes",H11="No"),1,0) -> 0 | J63: =IF(OR(J11="Yes",J11="No"),1,0) -> 0 | L63: =IF(OR(L11="Yes",L11="No"),1,0) -> 0 | N63: =IF(OR(N11="Yes",N11="No"),1,0) -> 0 | P63: =IF(OR(P11="Yes",P11="No"),1,0) -> 0 | R63: =IF(OR(R11="Yes",R11="No"),1,0) -> 0 | T63: =IF(OR(T11="Yes",T11="No"),1,0) -> 0 | V63: =IF(OR(V11="Yes",V11="No"),1,0) -> 0 | X63: =IF(OR(X11="Yes",X11="No"),1,0) -> 0 | Z63: =IF(OR(Z11="Yes",Z11="No"),1,0) -> 0 | AB63: =IF(OR(AB11="Yes",AB11="No"),1,0) -> 0 | AD63: =IF(OR(AD11="Yes",AD11="No"),1,0) -> 0 | AF63: =IF(OR(AF11="Yes",AF11="No"),1,0) -> 0 | AH63: =IF(OR(AH11="Yes",AH11="No"),1,0) -> 0 | AJ63: =IF(OR(AJ11="Yes",AJ11="No"),1,0) -> 0 | AL63: =IF(OR(AL11="Yes",AL11="No"),1,0) -> 0 | AN63: =IF(OR(AN11="Yes",AN11="No"),1,0) -> 0 | AP63: =IF(OR(AP11="Yes",AP11="No"),1,0) -> 0 | AR63: =IF(OR(AR11="Yes",AR11="No"),1,0) -> 0 | AT63: =IF(OR(AT11="Yes",AT11="No"),1,0) -> 0 | AV63: =IF(OR(AV11="Yes",AV11="No"),1,0) -> 0 | AX63: =IF(OR(AX11="Yes",AX11="No"),1,0) -> 0 | AZ63: =IF(OR(AZ11="Yes",AZ11="No"),1,0) -> 0 | BB63: =IF(OR(BB11="Yes",BB11="No"),1,0) -> 0 | BD63: =IF(OR(BD11="Yes",BD11="No"),1,0) -> 0 | BF63: =IF(OR(BF11="Yes",BF11="No"),1,0) -> 0 | BH63: =IF(OR(BH11="Yes",BH11="No"),1,0) -> 0 | BJ63: =IF(OR(BJ11="Yes",BJ11="No"),1,0) -> 0 | BL63: =IF(OR(BL11="Yes",BL11="No"),1,0) -> 0 | BN63: =IF(OR(BN11="Yes",BN11="No"),1,0) -> 0 | BP63: =IF(OR(BP11="Yes",BP11="No"),1,0) -> 0 | BR63: =IF(OR(BR11="Yes",BR11="No"),1,0) -> 0 | BT63: =IF(OR(BT11="Yes",BT11="No"),1,0) -> 0 | BV63: =IF(OR(BV11="Yes",BV11="No"),1,0) -> 0 | BX63: =IF(OR(BX11="Yes",BX11="No"),1,0) -> 0 | BZ63: =IF(OR(BZ11="Yes",BZ11="No"),1,0) -> 0 | CB63: =IF(OR(CB11="Yes",CB11="No"),1,0) -> 0 | CD63: =IF(OR(CD11="Yes",CD11="No"),1,0) -> 0 | CF63: =IF(OR(CF11="Yes",CF11="No"),1,0) -> 0 | CH63: =IF(OR(CH11="Yes",CH11="No"),1,0) -> 0 | CJ63: =IF(OR(CJ11="Yes",CJ11="No"),1,0) -> 0 | CL63: =IF(OR(CL11="Yes",CL11="No"),1,0) -> 0 | CN63: =IF(OR(CN11="Yes",CN11="No"),1,0) -> 0 | CP63: =IF(OR(CP11="Yes",CP11="No"),1,0) -> 0 | CR63: =IF(OR(CR11="Yes",CR11="No"),1,0) -> 0 | CT63: =IF(OR(CT11="Yes",CT11="No"),1,0) -> 0 | CV63: =IF(OR(CV11="Yes",CV11="No"),1,0) -> 0 | CX63: =IF(OR(CX11="Yes",CX11="No"),1,0) -> 0 | CZ63: =IF(OR(CZ11="Yes",CZ11="No"),1,0) -> 0 | DB63: =IF(OR(DB11="Yes",DB11="No"),1,0) -> 0 | DD63: =IF(OR(DD11="Yes",DD11="No"),1,0) -> 0 | DF63: =IF(OR(DF11="Yes",DF11="No"),1,0) -> 0 | DH63: =IF(OR(DH11="Yes",DH11="No"),1,0) -> 0 | DJ63: =IF(OR(DJ11="Yes",DJ11="No"),1,0) -> 0 | DL63: =IF(OR(DL11="Yes",DL11="No"),1,0) -> 0 | DN63: =IF(OR(DN11="Yes",DN11="No"),1,0) -> 0 | DP63: =IF(OR(DP11="Yes",DP11="No"),1,0) -> 0 | DR63: =IF(OR(DR11="Yes",DR11="No"),1,0) -> 0 | DT63: =IF(OR(DT11="Yes",DT11="No"),1,0) -> 0 | DV63: =IF(OR(DV11="Yes",DV11="No"),1,0) -> 0 | DX63: =IF(OR(DX11="Yes",DX11="No"),1,0) -> 0 | DZ63: =IF(OR(DZ11="Yes",DZ11="No"),1,0) -> 0 | EB63: =IF(OR(EB11="Yes",EB11="No"),1,0) -> 0 | ED63: =IF(OR(ED11="Yes",ED11="No"),1,0) -> 0 | EF63: =IF(OR(EF11="Yes",EF11="No"),1,0) -> 0 | EH63: =IF(OR(EH11="Yes",EH11="No"),1,0) -> 0 | EJ63: =IF(OR(EJ11="Yes",EJ11="No"),1,0) -> 0 | EL63: =IF(OR(EL11="Yes",EL11="No"),1,0) -> 0 | EN63: =IF(OR(EN11="Yes",EN11="No"),1,0) -> 0 | EP63: =IF(OR(EP11="Yes",EP11="No"),1,0) -> 0 | ER63: =IF(OR(ER11="Yes",ER11="No"),1,0) -> 0 | ET63: =IF(OR(ET11="Yes",ET11="No"),1,0) -> 0 | EV63: =IF(OR(EV11="Yes",EV11="No"),1,0) -> 0 | EX63: =IF(OR(EX11="Yes",EX11="No"),1,0) -> 0 | EZ63: =IF(OR(EZ11="Yes",EZ11="No"),1,0) -> 0 | FB63: =IF(OR(FB11="Yes",FB11="No"),1,0) -> 0 | FD63: =IF(OR(FD11="Yes",FD11="No"),1,0) -> 0 | FF63: =IF(OR(FF11="Yes",FF11="No"),1,0) -> 0 | FH63: =IF(OR(FH11="Yes",FH11="No"),1,0) -> 0 | FJ63: =IF(OR(FJ11="Yes",FJ11="No"),1,0) -> 0 | FL63: =IF(OR(FL11="Yes",FL11="No"),1,0) -> 0 | FN63: =IF(OR(FN11="Yes",FN11="No"),1,0) -> 0 | FP63: =IF(OR(FP11="Yes",FP11="No"),1,0) -> 0 | FR63: =IF(OR(FR11="Yes",FR11="No"),1,0) -> 0 | FT63: =IF(OR(FT11="Yes",FT11="No"),1,0) -> 0 | FV63: =IF(OR(FV11="Yes",FV11="No"),1,0) -> 0 | FX63: =IF(OR(FX11="Yes",FX11="No"),1,0) -> 0 | FZ63: =IF(OR(FZ11="Yes",FZ11="No"),1,0) -> 0 | GB63: =IF(OR(GB11="Yes",GB11="No"),1,0) -> 0 | GD63: =IF(OR(GD11="Yes",GD11="No"),1,0) -> 0 | GF63: =IF(OR(GF11="Yes",GF11="No"),1,0) -> 0 | GH63: =IF(OR(GH11="Yes",GH11="No"),1,0) -> 0 | GJ63: =IF(OR(GJ11="Yes",GJ11="No"),1,0) -> 0 | GL63: =IF(OR(GL11="Yes",GL11="No"),1,0) -> 0 | GN63: =IF(OR(GN11="Yes",GN11="No"),1,0) -> 0 | GP63: =IF(OR(GP11="Yes",GP11="No"),1,0) -> 0 | GR63: =IF(OR(GR11="Yes",GR11="No"),1,0) -> 0 | GT63: =IF(OR(GT11="Yes",GT11="No"),1,0) -> 0 | GV63: =IF(OR(GV11="Yes",GV11="No"),1,0) -> 0 | GW63: =SUM(D63:GV63) -> 0
B64: Non Compliant (N0) | D64: =IF(D11="No",1,0) -> 0 | F64: =IF(F11="No",1,0) -> 0 | H64: =IF(H11="No",1,0) -> 0 | J64: =IF(J11="No",1,0) -> 0 | L64: =IF(L11="No",1,0) -> 0 | N64: =IF(N11="No",1,0) -> 0 | P64: =IF(P11="No",1,0) -> 0 | R64: =IF(R11="No",1,0) -> 0 | T64: =IF(T11="No",1,0) -> 0 | V64: =IF(V11="No",1,0) -> 0 | X64: =IF(X11="No",1,0) -> 0 | Z64: =IF(Z11="No",1,0) -> 0 | AB64: =IF(AB11="No",1,0) -> 0 | AD64: =IF(AD11="No",1,0) -> 0 | AF64: =IF(AF11="No",1,0) -> 0 | AH64: =IF(AH11="No",1,0) -> 0 | AJ64: =IF(AJ11="No",1,0) -> 0 | AL64: =IF(AL11="No",1,0) -> 0 | AN64: =IF(AN11="No",1,0) -> 0 | AP64: =IF(AP11="No",1,0) -> 0 | AR64: =IF(AR11="No",1,0) -> 0 | AT64: =IF(AT11="No",1,0) -> 0 | AV64: =IF(AV11="No",1,0) -> 0 | AX64: =IF(AX11="No",1,0) -> 0 | AZ64: =IF(AZ11="No",1,0) -> 0 | BB64: =IF(BB11="No",1,0) -> 0 | BD64: =IF(BD11="No",1,0) -> 0 | BF64: =IF(BF11="No",1,0) -> 0 | BH64: =IF(BH11="No",1,0) -> 0 | BJ64: =IF(BJ11="No",1,0) -> 0 | BL64: =IF(BL11="No",1,0) -> 0 | BN64: =IF(BN11="No",1,0) -> 0 | BP64: =IF(BP11="No",1,0) -> 0 | BR64: =IF(BR11="No",1,0) -> 0 | BT64: =IF(BT11="No",1,0) -> 0 | BV64: =IF(BV11="No",1,0) -> 0 | BX64: =IF(BX11="No",1,0) -> 0 | BZ64: =IF(BZ11="No",1,0) -> 0 | CB64: =IF(CB11="No",1,0) -> 0 | CD64: =IF(CD11="No",1,0) -> 0 | CF64: =IF(CF11="No",1,0) -> 0 | CH64: =IF(CH11="No",1,0) -> 0 | CJ64: =IF(CJ11="No",1,0) -> 0 | CL64: =IF(CL11="No",1,0) -> 0 | CN64: =IF(CN11="No",1,0) -> 0 | CP64: =IF(CP11="No",1,0) -> 0 | CR64: =IF(CR11="No",1,0) -> 0 | CT64: =IF(CT11="No",1,0) -> 0 | CV64: =IF(CV11="No",1,0) -> 0 | CX64: =IF(CX11="No",1,0) -> 0 | CZ64: =IF(CZ11="No",1,0) -> 0 | DB64: =IF(DB11="No",1,0) -> 0 | DD64: =IF(DD11="No",1,0) -> 0 | DF64: =IF(DF11="No",1,0) -> 0 | DH64: =IF(DH11="No",1,0) -> 0 | DJ64: =IF(DJ11="No",1,0) -> 0 | DL64: =IF(DL11="No",1,0) -> 0 | DN64: =IF(DN11="No",1,0) -> 0 | DP64: =IF(DP11="No",1,0) -> 0 | DR64: =IF(DR11="No",1,0) -> 0 | DT64: =IF(DT11="No",1,0) -> 0 | DV64: =IF(DV11="No",1,0) -> 0 | DX64: =IF(DX11="No",1,0) -> 0 | DZ64: =IF(DZ11="No",1,0) -> 0 | EB64: =IF(EB11="No",1,0) -> 0 | ED64: =IF(ED11="No",1,0) -> 0 | EF64: =IF(EF11="No",1,0) -> 0 | EH64: =IF(EH11="No",1,0) -> 0 | EJ64: =IF(EJ11="No",1,0) -> 0 | EL64: =IF(EL11="No",1,0) -> 0 | EN64: =IF(EN11="No",1,0) -> 0 | EP64: =IF(EP11="No",1,0) -> 0 | ER64: =IF(ER11="No",1,0) -> 0 | ET64: =IF(ET11="No",1,0) -> 0 | EV64: =IF(EV11="No",1,0) -> 0 | EX64: =IF(EX11="No",1,0) -> 0 | EZ64: =IF(EZ11="No",1,0) -> 0 | FB64: =IF(FB11="No",1,0) -> 0 | FD64: =IF(FD11="No",1,0) -> 0 | FF64: =IF(FF11="No",1,0) -> 0 | FH64: =IF(FH11="No",1,0) -> 0 | FJ64: =IF(FJ11="No",1,0) -> 0 | FL64: =IF(FL11="No",1,0) -> 0 | FN64: =IF(FN11="No",1,0) -> 0 | FP64: =IF(FP11="No",1,0) -> 0 | FR64: =IF(FR11="No",1,0) -> 0 | FT64: =IF(FT11="No",1,0) -> 0 | FV64: =IF(FV11="No",1,0) -> 0 | FX64: =IF(FX11="No",1,0) -> 0 | FZ64: =IF(FZ11="No",1,0) -> 0 | GB64: =IF(GB11="No",1,0) -> 0 | GD64: =IF(GD11="No",1,0) -> 0 | GF64: =IF(GF11="No",1,0) -> 0 | GH64: =IF(GH11="No",1,0) -> 0 | GJ64: =IF(GJ11="No",1,0) -> 0 | GL64: =IF(GL11="No",1,0) -> 0 | GN64: =IF(GN11="No",1,0) -> 0 | GP64: =IF(GP11="No",1,0) -> 0 | GR64: =IF(GR11="No",1,0) -> 0 | GT64: =IF(GT11="No",1,0) -> 0 | GV64: =IF(GV11="No",1,0) -> 0 | GX64: =SUM(D64:GV64) -> 0 | GY64: =1-(X64/W63) -> #DIV/0!
A65: Last 4 SSN | B65: Applicable Files (Yes or No) | D65: =IF(OR(D12="Yes",D12="No"),1,0) -> 0 | F65: =IF(OR(F12="Yes",F12="No"),1,0) -> 0 | H65: =IF(OR(H12="Yes",H12="No"),1,0) -> 0 | J65: =IF(OR(J12="Yes",J12="No"),1,0) -> 0 | L65: =IF(OR(L12="Yes",L12="No"),1,0) -> 0 | N65: =IF(OR(N12="Yes",N12="No"),1,0) -> 0 | P65: =IF(OR(P12="Yes",P12="No"),1,0) -> 0 | R65: =IF(OR(R12="Yes",R12="No"),1,0) -> 0 | T65: =IF(OR(T12="Yes",T12="No"),1,0) -> 0 | V65: =IF(OR(V12="Yes",V12="No"),1,0) -> 0 | X65: =IF(OR(X12="Yes",X12="No"),1,0) -> 0 | Z65: =IF(OR(Z12="Yes",Z12="No"),1,0) -> 0 | AB65: =IF(OR(AB12="Yes",AB12="No"),1,0) -> 0 | AD65: =IF(OR(AD12="Yes",AD12="No"),1,0) -> 0 | AF65: =IF(OR(AF12="Yes",AF12="No"),1,0) -> 0 | AH65: =IF(OR(AH12="Yes",AH12="No"),1,0) -> 0 | AJ65: =IF(OR(AJ12="Yes",AJ12="No"),1,0) -> 0 | AL65: =IF(OR(AL12="Yes",AL12="No"),1,0) -> 0 | AN65: =IF(OR(AN12="Yes",AN12="No"),1,0) -> 0 | AP65: =IF(OR(AP12="Yes",AP12="No"),1,0) -> 0 | AR65: =IF(OR(AR12="Yes",AR12="No"),1,0) -> 0 | AT65: =IF(OR(AT12="Yes",AT12="No"),1,0) -> 0 | AV65: =IF(OR(AV12="Yes",AV12="No"),1,0) -> 0 | AX65: =IF(OR(AX12="Yes",AX12="No"),1,0) -> 0 | AZ65: =IF(OR(AZ12="Yes",AZ12="No"),1,0) -> 0 | BB65: =IF(OR(BB12="Yes",BB12="No"),1,0) -> 0 | BD65: =IF(OR(BD12="Yes",BD12="No"),1,0) -> 0 | BF65: =IF(OR(BF12="Yes",BF12="No"),1,0) -> 0 | BH65: =IF(OR(BH12="Yes",BH12="No"),1,0) -> 0 | BJ65: =IF(OR(BJ12="Yes",BJ12="No"),1,0) -> 0 | BL65: =IF(OR(BL12="Yes",BL12="No"),1,0) -> 0 | BN65: =IF(OR(BN12="Yes",BN12="No"),1,0) -> 0 | BP65: =IF(OR(BP12="Yes",BP12="No"),1,0) -> 0 | BR65: =IF(OR(BR12="Yes",BR12="No"),1,0) -> 0 | BT65: =IF(OR(BT12="Yes",BT12="No"),1,0) -> 0 | BV65: =IF(OR(BV12="Yes",BV12="No"),1,0) -> 0 | BX65: =IF(OR(BX12="Yes",BX12="No"),1,0) -> 0 | BZ65: =IF(OR(BZ12="Yes",BZ12="No"),1,0) -> 0 | CB65: =IF(OR(CB12="Yes",CB12="No"),1,0) -> 0 | CD65: =IF(OR(CD12="Yes",CD12="No"),1,0) -> 0 | CF65: =IF(OR(CF12="Yes",CF12="No"),1,0) -> 0 | CH65: =IF(OR(CH12="Yes",CH12="No"),1,0) -> 0 | CJ65: =IF(OR(CJ12="Yes",CJ12="No"),1,0) -> 0 | CL65: =IF(OR(CL12="Yes",CL12="No"),1,0) -> 0 | CN65: =IF(OR(CN12="Yes",CN12="No"),1,0) -> 0 | CP65: =IF(OR(CP12="Yes",CP12="No"),1,0) -> 0 | CR65: =IF(OR(CR12="Yes",CR12="No"),1,0) -> 0 | CT65: =IF(OR(CT12="Yes",CT12="No"),1,0) -> 0 | CV65: =IF(OR(CV12="Yes",CV12="No"),1,0) -> 0 | CX65: =IF(OR(CX12="Yes",CX12="No"),1,0) -> 0 | CZ65: =IF(OR(CZ12="Yes",CZ12="No"),1,0) -> 0 | DB65: =IF(OR(DB12="Yes",DB12="No"),1,0) -> 0 | DD65: =IF(OR(DD12="Yes",DD12="No"),1,0) -> 0 | DF65: =IF(OR(DF12="Yes",DF12="No"),1,0) -> 0 | DH65: =IF(OR(DH12="Yes",DH12="No"),1,0) -> 0 | DJ65: =IF(OR(DJ12="Yes",DJ12="No"),1,0) -> 0 | DL65: =IF(OR(DL12="Yes",DL12="No"),1,0) -> 0 | DN65: =IF(OR(DN12="Yes",DN12="No"),1,0) -> 0 | DP65: =IF(OR(DP12="Yes",DP12="No"),1,0) -> 0 | DR65: =IF(OR(DR12="Yes",DR12="No"),1,0) -> 0 | DT65: =IF(OR(DT12="Yes",DT12="No"),1,0) -> 0 | DV65: =IF(OR(DV12="Yes",DV12="No"),1,0) -> 0 | DX65: =IF(OR(DX12="Yes",DX12="No"),1,0) -> 0 | DZ65: =IF(OR(DZ12="Yes",DZ12="No"),1,0) -> 0 | EB65: =IF(OR(EB12="Yes",EB12="No"),1,0) -> 0 | ED65: =IF(OR(ED12="Yes",ED12="No"),1,0) -> 0 | EF65: =IF(OR(EF12="Yes",EF12="No"),1,0) -> 0 | EH65: =IF(OR(EH12="Yes",EH12="No"),1,0) -> 0 | EJ65: =IF(OR(EJ12="Yes",EJ12="No"),1,0) -> 0 | EL65: =IF(OR(EL12="Yes",EL12="No"),1,0) -> 0 | EN65: =IF(OR(EN12="Yes",EN12="No"),1,0) -> 0 | EP65: =IF(OR(EP12="Yes",EP12="No"),1,0) -> 0 | ER65: =IF(OR(ER12="Yes",ER12="No"),1,0) -> 0 | ET65: =IF(OR(ET12="Yes",ET12="No"),1,0) -> 0 | EV65: =IF(OR(EV12="Yes",EV12="No"),1,0) -> 0 | EX65: =IF(OR(EX12="Yes",EX12="No"),1,0) -> 0 | EZ65: =IF(OR(EZ12="Yes",EZ12="No"),1,0) -> 0 | FB65: =IF(OR(FB12="Yes",FB12="No"),1,0) -> 0 | FD65: =IF(OR(FD12="Yes",FD12="No"),1,0) -> 0 | FF65: =IF(OR(FF12="Yes",FF12="No"),1,0) -> 0 | FH65: =IF(OR(FH12="Yes",FH12="No"),1,0) -> 0 | FJ65: =IF(OR(FJ12="Yes",FJ12="No"),1,0) -> 0 | FL65: =IF(OR(FL12="Yes",FL12="No"),1,0) -> 0 | FN65: =IF(OR(FN12="Yes",FN12="No"),1,0) -> 0 | FP65: =IF(OR(FP12="Yes",FP12="No"),1,0) -> 0 | FR65: =IF(OR(FR12="Yes",FR12="No"),1,0) -> 0 | FT65: =IF(OR(FT12="Yes",FT12="No"),1,0) -> 0 | FV65: =IF(OR(FV12="Yes",FV12="No"),1,0) -> 0 | FX65: =IF(OR(FX12="Yes",FX12="No"),1,0) -> 0 | FZ65: =IF(OR(FZ12="Yes",FZ12="No"),1,0) -> 0 | GB65: =IF(OR(GB12="Yes",GB12="No"),1,0) -> 0 | GD65: =IF(OR(GD12="Yes",GD12="No"),1,0) -> 0 | GF65: =IF(OR(GF12="Yes",GF12="No"),1,0) -> 0 | GH65: =IF(OR(GH12="Yes",GH12="No"),1,0) -> 0 | GJ65: =IF(OR(GJ12="Yes",GJ12="No"),1,0) -> 0 | GL65: =IF(OR(GL12="Yes",GL12="No"),1,0) -> 0 | GN65: =IF(OR(GN12="Yes",GN12="No"),1,0) -> 0 | GP65: =IF(OR(GP12="Yes",GP12="No"),1,0) -> 0 | GR65: =IF(OR(GR12="Yes",GR12="No"),1,0) -> 0 | GT65: =IF(OR(GT12="Yes",GT12="No"),1,0) -> 0 | GV65: =IF(OR(GV12="Yes",GV12="No"),1,0) -> 0 | GW65: =SUM(D65:GV65) -> 0
B66: Non Compliant (N0) | D66: =IF(D12="No",1,0) -> 0 | F66: =IF(F12="No",1,0) -> 0 | H66: =IF(H12="No",1,0) -> 0 | J66: =IF(J12="No",1,0) -> 0 | L66: =IF(L12="No",1,0) -> 0 | N66: =IF(N12="No",1,0) -> 0 | P66: =IF(P12="No",1,0) -> 0 | R66: =IF(R12="No",1,0) -> 0 | T66: =IF(T12="No",1,0) -> 0 | V66: =IF(V12="No",1,0) -> 0 | X66: =IF(X12="No",1,0) -> 0 | Z66: =IF(Z12="No",1,0) -> 0 | AB66: =IF(AB12="No",1,0) -> 0 | AD66: =IF(AD12="No",1,0) -> 0 | AF66: =IF(AF12="No",1,0) -> 0 | AH66: =IF(AH12="No",1,0) -> 0 | AJ66: =IF(AJ12="No",1,0) -> 0 | AL66: =IF(AL12="No",1,0) -> 0 | AN66: =IF(AN12="No",1,0) -> 0 | AP66: =IF(AP12="No",1,0) -> 0 | AR66: =IF(AR12="No",1,0) -> 0 | AT66: =IF(AT12="No",1,0) -> 0 | AV66: =IF(AV12="No",1,0) -> 0 | AX66: =IF(AX12="No",1,0) -> 0 | AZ66: =IF(AZ12="No",1,0) -> 0 | BB66: =IF(BB12="No",1,0) -> 0 | BD66: =IF(BD12="No",1,0) -> 0 | BF66: =IF(BF12="No",1,0) -> 0 | BH66: =IF(BH12="No",1,0) -> 0 | BJ66: =IF(BJ12="No",1,0) -> 0 | BL66: =IF(BL12="No",1,0) -> 0 | BN66: =IF(BN12="No",1,0) -> 0 | BP66: =IF(BP12="No",1,0) -> 0 | BR66: =IF(BR12="No",1,0) -> 0 | BT66: =IF(BT12="No",1,0) -> 0 | BV66: =IF(BV12="No",1,0) -> 0 | BX66: =IF(BX12="No",1,0) -> 0 | BZ66: =IF(BZ12="No",1,0) -> 0 | CB66: =IF(CB12="No",1,0) -> 0 | CD66: =IF(CD12="No",1,0) -> 0 | CF66: =IF(CF12="No",1,0) -> 0 | CH66: =IF(CH12="No",1,0) -> 0 | CJ66: =IF(CJ12="No",1,0) -> 0 | CL66: =IF(CL12="No",1,0) -> 0 | CN66: =IF(CN12="No",1,0) -> 0 | CP66: =IF(CP12="No",1,0) -> 0 | CR66: =IF(CR12="No",1,0) -> 0 | CT66: =IF(CT12="No",1,0) -> 0 | CV66: =IF(CV12="No",1,0) -> 0 | CX66: =IF(CX12="No",1,0) -> 0 | CZ66: =IF(CZ12="No",1,0) -> 0 | DB66: =IF(DB12="No",1,0) -> 0 | DD66: =IF(DD12="No",1,0) -> 0 | DF66: =IF(DF12="No",1,0) -> 0 | DH66: =IF(DH12="No",1,0) -> 0 | DJ66: =IF(DJ12="No",1,0) -> 0 | DL66: =IF(DL12="No",1,0) -> 0 | DN66: =IF(DN12="No",1,0) -> 0 | DP66: =IF(DP12="No",1,0) -> 0 | DR66: =IF(DR12="No",1,0) -> 0 | DT66: =IF(DT12="No",1,0) -> 0 | DV66: =IF(DV12="No",1,0) -> 0 | DX66: =IF(DX12="No",1,0) -> 0 | DZ66: =IF(DZ12="No",1,0) -> 0 | EB66: =IF(EB12="No",1,0) -> 0 | ED66: =IF(ED12="No",1,0) -> 0 | EF66: =IF(EF12="No",1,0) -> 0 | EH66: =IF(EH12="No",1,0) -> 0 | EJ66: =IF(EJ12="No",1,0) -> 0 | EL66: =IF(EL12="No",1,0) -> 0 | EN66: =IF(EN12="No",1,0) -> 0 | EP66: =IF(EP12="No",1,0) -> 0 | ER66: =IF(ER12="No",1,0) -> 0 | ET66: =IF(ET12="No",1,0) -> 0 | EV66: =IF(EV12="No",1,0) -> 0 | EX66: =IF(EX12="No",1,0) -> 0 | EZ66: =IF(EZ12="No",1,0) -> 0 | FB66: =IF(FB12="No",1,0) -> 0 | FD66: =IF(FD12="No",1,0) -> 0 | FF66: =IF(FF12="No",1,0) -> 0 | FH66: =IF(FH12="No",1,0) -> 0 | FJ66: =IF(FJ12="No",1,0) -> 0 | FL66: =IF(FL12="No",1,0) -> 0 | FN66: =IF(FN12="No",1,0) -> 0 | FP66: =IF(FP12="No",1,0) -> 0 | FR66: =IF(FR12="No",1,0) -> 0 | FT66: =IF(FT12="No",1,0) -> 0 | FV66: =IF(FV12="No",1,0) -> 0 | FX66: =IF(FX12="No",1,0) -> 0 | FZ66: =IF(FZ12="No",1,0) -> 0 | GB66: =IF(GB12="No",1,0) -> 0 | GD66: =IF(GD12="No",1,0) -> 0 | GF66: =IF(GF12="No",1,0) -> 0 | GH66: =IF(GH12="No",1,0) -> 0 | GJ66: =IF(GJ12="No",1,0) -> 0 | GL66: =IF(GL12="No",1,0) -> 0 | GN66: =IF(GN12="No",1,0) -> 0 | GP66: =IF(GP12="No",1,0) -> 0 | GR66: =IF(GR12="No",1,0) -> 0 | GT66: =IF(GT12="No",1,0) -> 0 | GV66: =IF(GV12="No",1,0) -> 0 | GX66: =SUM(D66:GV66) -> 0 | GY66: =1-(X66/W65) -> #DIV/0!
A67: Date of Birth | B67: Applicable Files (Yes or No) | D67: =IF(OR(D13="Yes",D13="No"),1,0) -> 0 | F67: =IF(OR(F13="Yes",F13="No"),1,0) -> 0 | H67: =IF(OR(H13="Yes",H13="No"),1,0) -> 0 | J67: =IF(OR(J13="Yes",J13="No"),1,0) -> 0 | L67: =IF(OR(L13="Yes",L13="No"),1,0) -> 0 | N67: =IF(OR(N13="Yes",N13="No"),1,0) -> 0 | P67: =IF(OR(P13="Yes",P13="No"),1,0) -> 0 | R67: =IF(OR(R13="Yes",R13="No"),1,0) -> 0 | T67: =IF(OR(T13="Yes",T13="No"),1,0) -> 0 | V67: =IF(OR(V13="Yes",V13="No"),1,0) -> 0 | X67: =IF(OR(X13="Yes",X13="No"),1,0) -> 0 | Z67: =IF(OR(Z13="Yes",Z13="No"),1,0) -> 0 | AB67: =IF(OR(AB13="Yes",AB13="No"),1,0) -> 0 | AD67: =IF(OR(AD13="Yes",AD13="No"),1,0) -> 0 | AF67: =IF(OR(AF13="Yes",AF13="No"),1,0) -> 0 | AH67: =IF(OR(AH13="Yes",AH13="No"),1,0) -> 0 | AJ67: =IF(OR(AJ13="Yes",AJ13="No"),1,0) -> 0 | AL67: =IF(OR(AL13="Yes",AL13="No"),1,0) -> 0 | AN67: =IF(OR(AN13="Yes",AN13="No"),1,0) -> 0 | AP67: =IF(OR(AP13="Yes",AP13="No"),1,0) -> 0 | AR67: =IF(OR(AR13="Yes",AR13="No"),1,0) -> 0 | AT67: =IF(OR(AT13="Yes",AT13="No"),1,0) -> 0 | AV67: =IF(OR(AV13="Yes",AV13="No"),1,0) -> 0 | AX67: =IF(OR(AX13="Yes",AX13="No"),1,0) -> 0 | AZ67: =IF(OR(AZ13="Yes",AZ13="No"),1,0) -> 0 | BB67: =IF(OR(BB13="Yes",BB13="No"),1,0) -> 0 | BD67: =IF(OR(BD13="Yes",BD13="No"),1,0) -> 0 | BF67: =IF(OR(BF13="Yes",BF13="No"),1,0) -> 0 | BH67: =IF(OR(BH13="Yes",BH13="No"),1,0) -> 0 | BJ67: =IF(OR(BJ13="Yes",BJ13="No"),1,0) -> 0 | BL67: =IF(OR(BL13="Yes",BL13="No"),1,0) -> 0 | BN67: =IF(OR(BN13="Yes",BN13="No"),1,0) -> 0 | BP67: =IF(OR(BP13="Yes",BP13="No"),1,0) -> 0 | BR67: =IF(OR(BR13="Yes",BR13="No"),1,0) -> 0 | BT67: =IF(OR(BT13="Yes",BT13="No"),1,0) -> 0 | BV67: =IF(OR(BV13="Yes",BV13="No"),1,0) -> 0 | BX67: =IF(OR(BX13="Yes",BX13="No"),1,0) -> 0 | BZ67: =IF(OR(BZ13="Yes",BZ13="No"),1,0) -> 0 | CB67: =IF(OR(CB13="Yes",CB13="No"),1,0) -> 0 | CD67: =IF(OR(CD13="Yes",CD13="No"),1,0) -> 0 | CF67: =IF(OR(CF13="Yes",CF13="No"),1,0) -> 0 | CH67: =IF(OR(CH13="Yes",CH13="No"),1,0) -> 0 | CJ67: =IF(OR(CJ13="Yes",CJ13="No"),1,0) -> 0 | CL67: =IF(OR(CL13="Yes",CL13="No"),1,0) -> 0 | CN67: =IF(OR(CN13="Yes",CN13="No"),1,0) -> 0 | CP67: =IF(OR(CP13="Yes",CP13="No"),1,0) -> 0 | CR67: =IF(OR(CR13="Yes",CR13="No"),1,0) -> 0 | CT67: =IF(OR(CT13="Yes",CT13="No"),1,0) -> 0 | CV67: =IF(OR(CV13="Yes",CV13="No"),1,0) -> 0 | CX67: =IF(OR(CX13="Yes",CX13="No"),1,0) -> 0 | CZ67: =IF(OR(CZ13="Yes",CZ13="No"),1,0) -> 0 | DB67: =IF(OR(DB13="Yes",DB13="No"),1,0) -> 0 | DD67: =IF(OR(DD13="Yes",DD13="No"),1,0) -> 0 | DF67: =IF(OR(DF13="Yes",DF13="No"),1,0) -> 0 | DH67: =IF(OR(DH13="Yes",DH13="No"),1,0) -> 0 | DJ67: =IF(OR(DJ13="Yes",DJ13="No"),1,0) -> 0 | DL67: =IF(OR(DL13="Yes",DL13="No"),1,0) -> 0 | DN67: =IF(OR(DN13="Yes",DN13="No"),1,0) -> 0 | DP67: =IF(OR(DP13="Yes",DP13="No"),1,0) -> 0 | DR67: =IF(OR(DR13="Yes",DR13="No"),1,0) -> 0 | DT67: =IF(OR(DT13="Yes",DT13="No"),1,0) -> 0 | DV67: =IF(OR(DV13="Yes",DV13="No"),1,0) -> 0 | DX67: =IF(OR(DX13="Yes",DX13="No"),1,0) -> 0 | DZ67: =IF(OR(DZ13="Yes",DZ13="No"),1,0) -> 0 | EB67: =IF(OR(EB13="Yes",EB13="No"),1,0) -> 0 | ED67: =IF(OR(ED13="Yes",ED13="No"),1,0) -> 0 | EF67: =IF(OR(EF13="Yes",EF13="No"),1,0) -> 0 | EH67: =IF(OR(EH13="Yes",EH13="No"),1,0) -> 0 | EJ67: =IF(OR(EJ13="Yes",EJ13="No"),1,0) -> 0 | EL67: =IF(OR(EL13="Yes",EL13="No"),1,0) -> 0 | EN67: =IF(OR(EN13="Yes",EN13="No"),1,0) -> 0 | EP67: =IF(OR(EP13="Yes",EP13="No"),1,0) -> 0 | ER67: =IF(OR(ER13="Yes",ER13="No"),1,0) -> 0 | ET67: =IF(OR(ET13="Yes",ET13="No"),1,0) -> 0 | EV67: =IF(OR(EV13="Yes",EV13="No"),1,0) -> 0 | EX67: =IF(OR(EX13="Yes",EX13="No"),1,0) -> 0 | EZ67: =IF(OR(EZ13="Yes",EZ13="No"),1,0) -> 0 | FB67: =IF(OR(FB13="Yes",FB13="No"),1,0) -> 0 | FD67: =IF(OR(FD13="Yes",FD13="No"),1,0) -> 0 | FF67: =IF(OR(FF13="Yes",FF13="No"),1,0) -> 0 | FH67: =IF(OR(FH13="Yes",FH13="No"),1,0) -> 0 | FJ67: =IF(OR(FJ13="Yes",FJ13="No"),1,0) -> 0 | FL67: =IF(OR(FL13="Yes",FL13="No"),1,0) -> 0 | FN67: =IF(OR(FN13="Yes",FN13="No"),1,0) -> 0 | FP67: =IF(OR(FP13="Yes",FP13="No"),1,0) -> 0 | FR67: =IF(OR(FR13="Yes",FR13="No"),1,0) -> 0 | FT67: =IF(OR(FT13="Yes",FT13="No"),1,0) -> 0 | FV67: =IF(OR(FV13="Yes",FV13="No"),1,0) -> 0 | FX67: =IF(OR(FX13="Yes",FX13="No"),1,0) -> 0 | FZ67: =IF(OR(FZ13="Yes",FZ13="No"),1,0) -> 0 | GB67: =IF(OR(GB13="Yes",GB13="No"),1,0) -> 0 | GD67: =IF(OR(GD13="Yes",GD13="No"),1,0) -> 0 | GF67: =IF(OR(GF13="Yes",GF13="No"),1,0) -> 0 | GH67: =IF(OR(GH13="Yes",GH13="No"),1,0) -> 0 | GJ67: =IF(OR(GJ13="Yes",GJ13="No"),1,0) -> 0 | GL67: =IF(OR(GL13="Yes",GL13="No"),1,0) -> 0 | GN67: =IF(OR(GN13="Yes",GN13="No"),1,0) -> 0 | GP67: =IF(OR(GP13="Yes",GP13="No"),1,0) -> 0 | GR67: =IF(OR(GR13="Yes",GR13="No"),1,0) -> 0 | GT67: =IF(OR(GT13="Yes",GT13="No"),1,0) -> 0 | GV67: =IF(OR(GV13="Yes",GV13="No"),1,0) -> 0 | GW67: =SUM(D67:GV67) -> 0
B68: Non Compliant (N0) | D68: =IF(D13="No",1,0) -> 0 | F68: =IF(F13="No",1,0) -> 0 | H68: =IF(H13="No",1,0) -> 0 | J68: =IF(J13="No",1,0) -> 0 | L68: =IF(L13="No",1,0) -> 0 | N68: =IF(N13="No",1,0) -> 0 | P68: =IF(P13="No",1,0) -> 0 | R68: =IF(R13="No",1,0) -> 0 | T68: =IF(T13="No",1,0) -> 0 | V68: =IF(V13="No",1,0) -> 0 | X68: =IF(X13="No",1,0) -> 0 | Z68: =IF(Z13="No",1,0) -> 0 | AB68: =IF(AB13="No",1,0) -> 0 | AD68: =IF(AD13="No",1,0) -> 0 | AF68: =IF(AF13="No",1,0) -> 0 | AH68: =IF(AH13="No",1,0) -> 0 | AJ68: =IF(AJ13="No",1,0) -> 0 | AL68: =IF(AL13="No",1,0) -> 0 | AN68: =IF(AN13="No",1,0) -> 0 | AP68: =IF(AP13="No",1,0) -> 0 | AR68: =IF(AR13="No",1,0) -> 0 | AT68: =IF(AT13="No",1,0) -> 0 | AV68: =IF(AV13="No",1,0) -> 0 | AX68: =IF(AX13="No",1,0) -> 0 | AZ68: =IF(AZ13="No",1,0) -> 0 | BB68: =IF(BB13="No",1,0) -> 0 | BD68: =IF(BD13="No",1,0) -> 0 | BF68: =IF(BF13="No",1,0) -> 0 | BH68: =IF(BH13="No",1,0) -> 0 | BJ68: =IF(BJ13="No",1,0) -> 0 | BL68: =IF(BL13="No",1,0) -> 0 | BN68: =IF(BN13="No",1,0) -> 0 | BP68: =IF(BP13="No",1,0) -> 0 | BR68: =IF(BR13="No",1,0) -> 0 | BT68: =IF(BT13="No",1,0) -> 0 | BV68: =IF(BV13="No",1,0) -> 0 | BX68: =IF(BX13="No",1,0) -> 0 | BZ68: =IF(BZ13="No",1,0) -> 0 | CB68: =IF(CB13="No",1,0) -> 0 | CD68: =IF(CD13="No",1,0) -> 0 | CF68: =IF(CF13="No",1,0) -> 0 | CH68: =IF(CH13="No",1,0) -> 0 | CJ68: =IF(CJ13="No",1,0) -> 0 | CL68: =IF(CL13="No",1,0) -> 0 | CN68: =IF(CN13="No",1,0) -> 0 | CP68: =IF(CP13="No",1,0) -> 0 | CR68: =IF(CR13="No",1,0) -> 0 | CT68: =IF(CT13="No",1,0) -> 0 | CV68: =IF(CV13="No",1,0) -> 0 | CX68: =IF(CX13="No",1,0) -> 0 | CZ68: =IF(CZ13="No",1,0) -> 0 | DB68: =IF(DB13="No",1,0) -> 0 | DD68: =IF(DD13="No",1,0) -> 0 | DF68: =IF(DF13="No",1,0) -> 0 | DH68: =IF(DH13="No",1,0) -> 0 | DJ68: =IF(DJ13="No",1,0) -> 0 | DL68: =IF(DL13="No",1,0) -> 0 | DN68: =IF(DN13="No",1,0) -> 0 | DP68: =IF(DP13="No",1,0) -> 0 | DR68: =IF(DR13="No",1,0) -> 0 | DT68: =IF(DT13="No",1,0) -> 0 | DV68: =IF(DV13="No",1,0) -> 0 | DX68: =IF(DX13="No",1,0) -> 0 | DZ68: =IF(DZ13="No",1,0) -> 0 | EB68: =IF(EB13="No",1,0) -> 0 | ED68: =IF(ED13="No",1,0) -> 0 | EF68: =IF(EF13="No",1,0) -> 0 | EH68: =IF(EH13="No",1,0) -> 0 | EJ68: =IF(EJ13="No",1,0) -> 0 | EL68: =IF(EL13="No",1,0) -> 0 | EN68: =IF(EN13="No",1,0) -> 0 | EP68: =IF(EP13="No",1,0) -> 0 | ER68: =IF(ER13="No",1,0) -> 0 | ET68: =IF(ET13="No",1,0) -> 0 | EV68: =IF(EV13="No",1,0) -> 0 | EX68: =IF(EX13="No",1,0) -> 0 | EZ68: =IF(EZ13="No",1,0) -> 0 | FB68: =IF(FB13="No",1,0) -> 0 | FD68: =IF(FD13="No",1,0) -> 0 | FF68: =IF(FF13="No",1,0) -> 0 | FH68: =IF(FH13="No",1,0) -> 0 | FJ68: =IF(FJ13="No",1,0) -> 0 | FL68: =IF(FL13="No",1,0) -> 0 | FN68: =IF(FN13="No",1,0) -> 0 | FP68: =IF(FP13="No",1,0) -> 0 | FR68: =IF(FR13="No",1,0) -> 0 | FT68: =IF(FT13="No",1,0) -> 0 | FV68: =IF(FV13="No",1,0) -> 0 | FX68: =IF(FX13="No",1,0) -> 0 | FZ68: =IF(FZ13="No",1,0) -> 0 | GB68: =IF(GB13="No",1,0) -> 0 | GD68: =IF(GD13="No",1,0) -> 0 | GF68: =IF(GF13="No",1,0) -> 0 | GH68: =IF(GH13="No",1,0) -> 0 | GJ68: =IF(GJ13="No",1,0) -> 0 | GL68: =IF(GL13="No",1,0) -> 0 | GN68: =IF(GN13="No",1,0) -> 0 | GP68: =IF(GP13="No",1,0) -> 0 | GR68: =IF(GR13="No",1,0) -> 0 | GT68: =IF(GT13="No",1,0) -> 0 | GV68: =IF(GV13="No",1,0) -> 0 | GX68: =SUM(D68:GV68) -> 0 | GY68: =1-(X68/W67) -> #DIV/0!
A69: Gender | B69: Applicable Files (Yes or No) | D69: =IF(OR(D14="Yes",D14="No"),1,0) -> 0 | F69: =IF(OR(F14="Yes",F14="No"),1,0) -> 0 | H69: =IF(OR(H14="Yes",H14="No"),1,0) -> 0 | J69: =IF(OR(J14="Yes",J14="No"),1,0) -> 0 | L69: =IF(OR(L14="Yes",L14="No"),1,0) -> 0 | N69: =IF(OR(N14="Yes",N14="No"),1,0) -> 0 | P69: =IF(OR(P14="Yes",P14="No"),1,0) -> 0 | R69: =IF(OR(R14="Yes",R14="No"),1,0) -> 0 | T69: =IF(OR(T14="Yes",T14="No"),1,0) -> 0 | V69: =IF(OR(V14="Yes",V14="No"),1,0) -> 0 | X69: =IF(OR(X14="Yes",X14="No"),1,0) -> 0 | Z69: =IF(OR(Z14="Yes",Z14="No"),1,0) -> 0 | AB69: =IF(OR(AB14="Yes",AB14="No"),1,0) -> 0 | AD69: =IF(OR(AD14="Yes",AD14="No"),1,0) -> 0 | AF69: =IF(OR(AF14="Yes",AF14="No"),1,0) -> 0 | AH69: =IF(OR(AH14="Yes",AH14="No"),1,0) -> 0 | AJ69: =IF(OR(AJ14="Yes",AJ14="No"),1,0) -> 0 | AL69: =IF(OR(AL14="Yes",AL14="No"),1,0) -> 0 | AN69: =IF(OR(AN14="Yes",AN14="No"),1,0) -> 0 | AP69: =IF(OR(AP14="Yes",AP14="No"),1,0) -> 0 | AR69: =IF(OR(AR14="Yes",AR14="No"),1,0) -> 0 | AT69: =IF(OR(AT14="Yes",AT14="No"),1,0) -> 0 | AV69: =IF(OR(AV14="Yes",AV14="No"),1,0) -> 0 | AX69: =IF(OR(AX14="Yes",AX14="No"),1,0) -> 0 | AZ69: =IF(OR(AZ14="Yes",AZ14="No"),1,0) -> 0 | BB69: =IF(OR(BB14="Yes",BB14="No"),1,0) -> 0 | BD69: =IF(OR(BD14="Yes",BD14="No"),1,0) -> 0 | BF69: =IF(OR(BF14="Yes",BF14="No"),1,0) -> 0 | BH69: =IF(OR(BH14="Yes",BH14="No"),1,0) -> 0 | BJ69: =IF(OR(BJ14="Yes",BJ14="No"),1,0) -> 0 | BL69: =IF(OR(BL14="Yes",BL14="No"),1,0) -> 0 | BN69: =IF(OR(BN14="Yes",BN14="No"),1,0) -> 0 | BP69: =IF(OR(BP14="Yes",BP14="No"),1,0) -> 0 | BR69: =IF(OR(BR14="Yes",BR14="No"),1,0) -> 0 | BT69: =IF(OR(BT14="Yes",BT14="No"),1,0) -> 0 | BV69: =IF(OR(BV14="Yes",BV14="No"),1,0) -> 0 | BX69: =IF(OR(BX14="Yes",BX14="No"),1,0) -> 0 | BZ69: =IF(OR(BZ14="Yes",BZ14="No"),1,0) -> 0 | CB69: =IF(OR(CB14="Yes",CB14="No"),1,0) -> 0 | CD69: =IF(OR(CD14="Yes",CD14="No"),1,0) -> 0 | CF69: =IF(OR(CF14="Yes",CF14="No"),1,0) -> 0 | CH69: =IF(OR(CH14="Yes",CH14="No"),1,0) -> 0 | CJ69: =IF(OR(CJ14="Yes",CJ14="No"),1,0) -> 0 | CL69: =IF(OR(CL14="Yes",CL14="No"),1,0) -> 0 | CN69: =IF(OR(CN14="Yes",CN14="No"),1,0) -> 0 | CP69: =IF(OR(CP14="Yes",CP14="No"),1,0) -> 0 | CR69: =IF(OR(CR14="Yes",CR14="No"),1,0) -> 0 | CT69: =IF(OR(CT14="Yes",CT14="No"),1,0) -> 0 | CV69: =IF(OR(CV14="Yes",CV14="No"),1,0) -> 0 | CX69: =IF(OR(CX14="Yes",CX14="No"),1,0) -> 0 | CZ69: =IF(OR(CZ14="Yes",CZ14="No"),1,0) -> 0 | DB69: =IF(OR(DB14="Yes",DB14="No"),1,0) -> 0 | DD69: =IF(OR(DD14="Yes",DD14="No"),1,0) -> 0 | DF69: =IF(OR(DF14="Yes",DF14="No"),1,0) -> 0 | DH69: =IF(OR(DH14="Yes",DH14="No"),1,0) -> 0 | DJ69: =IF(OR(DJ14="Yes",DJ14="No"),1,0) -> 0 | DL69: =IF(OR(DL14="Yes",DL14="No"),1,0) -> 0 | DN69: =IF(OR(DN14="Yes",DN14="No"),1,0) -> 0 | DP69: =IF(OR(DP14="Yes",DP14="No"),1,0) -> 0 | DR69: =IF(OR(DR14="Yes",DR14="No"),1,0) -> 0 | DT69: =IF(OR(DT14="Yes",DT14="No"),1,0) -> 0 | DV69: =IF(OR(DV14="Yes",DV14="No"),1,0) -> 0 | DX69: =IF(OR(DX14="Yes",DX14="No"),1,0) -> 0 | DZ69: =IF(OR(DZ14="Yes",DZ14="No"),1,0) -> 0 | EB69: =IF(OR(EB14="Yes",EB14="No"),1,0) -> 0 | ED69: =IF(OR(ED14="Yes",ED14="No"),1,0) -> 0 | EF69: =IF(OR(EF14="Yes",EF14="No"),1,0) -> 0 | EH69: =IF(OR(EH14="Yes",EH14="No"),1,0) -> 0 | EJ69: =IF(OR(EJ14="Yes",EJ14="No"),1,0) -> 0 | EL69: =IF(OR(EL14="Yes",EL14="No"),1,0) -> 0 | EN69: =IF(OR(EN14="Yes",EN14="No"),1,0) -> 0 | EP69: =IF(OR(EP14="Yes",EP14="No"),1,0) -> 0 | ER69: =IF(OR(ER14="Yes",ER14="No"),1,0) -> 0 | ET69: =IF(OR(ET14="Yes",ET14="No"),1,0) -> 0 | EV69: =IF(OR(EV14="Yes",EV14="No"),1,0) -> 0 | EX69: =IF(OR(EX14="Yes",EX14="No"),1,0) -> 0 | EZ69: =IF(OR(EZ14="Yes",EZ14="No"),1,0) -> 0 | FB69: =IF(OR(FB14="Yes",FB14="No"),1,0) -> 0 | FD69: =IF(OR(FD14="Yes",FD14="No"),1,0) -> 0 | FF69: =IF(OR(FF14="Yes",FF14="No"),1,0) -> 0 | FH69: =IF(OR(FH14="Yes",FH14="No"),1,0) -> 0 | FJ69: =IF(OR(FJ14="Yes",FJ14="No"),1,0) -> 0 | FL69: =IF(OR(FL14="Yes",FL14="No"),1,0) -> 0 | FN69: =IF(OR(FN14="Yes",FN14="No"),1,0) -> 0 | FP69: =IF(OR(FP14="Yes",FP14="No"),1,0) -> 0 | FR69: =IF(OR(FR14="Yes",FR14="No"),1,0) -> 0 | FT69: =IF(OR(FT14="Yes",FT14="No"),1,0) -> 0 | FV69: =IF(OR(FV14="Yes",FV14="No"),1,0) -> 0 | FX69: =IF(OR(FX14="Yes",FX14="No"),1,0) -> 0 | FZ69: =IF(OR(FZ14="Yes",FZ14="No"),1,0) -> 0 | GB69: =IF(OR(GB14="Yes",GB14="No"),1,0) -> 0 | GD69: =IF(OR(GD14="Yes",GD14="No"),1,0) -> 0 | GF69: =IF(OR(GF14="Yes",GF14="No"),1,0) -> 0 | GH69: =IF(OR(GH14="Yes",GH14="No"),1,0) -> 0 | GJ69: =IF(OR(GJ14="Yes",GJ14="No"),1,0) -> 0 | GL69: =IF(OR(GL14="Yes",GL14="No"),1,0) -> 0 | GN69: =IF(OR(GN14="Yes",GN14="No"),1,0) -> 0 | GP69: =IF(OR(GP14="Yes",GP14="No"),1,0) -> 0 | GR69: =IF(OR(GR14="Yes",GR14="No"),1,0) -> 0 | GT69: =IF(OR(GT14="Yes",GT14="No"),1,0) -> 0 | GV69: =IF(OR(GV14="Yes",GV14="No"),1,0) -> 0 | GW69: =SUM(D69:GV69) -> 0
B70: Non Compliant (N0) | D70: =IF(D14="No",1,0) -> 0 | F70: =IF(F14="No",1,0) -> 0 | H70: =IF(H14="No",1,0) -> 0 | J70: =IF(J14="No",1,0) -> 0 | L70: =IF(L14="No",1,0) -> 0 | N70: =IF(N14="No",1,0) -> 0 | P70: =IF(P14="No",1,0) -> 0 | R70: =IF(R14="No",1,0) -> 0 | T70: =IF(T14="No",1,0) -> 0 | V70: =IF(V14="No",1,0) -> 0 | X70: =IF(X14="No",1,0) -> 0 | Z70: =IF(Z14="No",1,0) -> 0 | AB70: =IF(AB14="No",1,0) -> 0 | AD70: =IF(AD14="No",1,0) -> 0 | AF70: =IF(AF14="No",1,0) -> 0 | AH70: =IF(AH14="No",1,0) -> 0 | AJ70: =IF(AJ14="No",1,0) -> 0 | AL70: =IF(AL14="No",1,0) -> 0 | AN70: =IF(AN14="No",1,0) -> 0 | AP70: =IF(AP14="No",1,0) -> 0 | AR70: =IF(AR14="No",1,0) -> 0 | AT70: =IF(AT14="No",1,0) -> 0 | AV70: =IF(AV14="No",1,0) -> 0 | AX70: =IF(AX14="No",1,0) -> 0 | AZ70: =IF(AZ14="No",1,0) -> 0 | BB70: =IF(BB14="No",1,0) -> 0 | BD70: =IF(BD14="No",1,0) -> 0 | BF70: =IF(BF14="No",1,0) -> 0 | BH70: =IF(BH14="No",1,0) -> 0 | BJ70: =IF(BJ14="No",1,0) -> 0 | BL70: =IF(BL14="No",1,0) -> 0 | BN70: =IF(BN14="No",1,0) -> 0 | BP70: =IF(BP14="No",1,0) -> 0 | BR70: =IF(BR14="No",1,0) -> 0 | BT70: =IF(BT14="No",1,0) -> 0 | BV70: =IF(BV14="No",1,0) -> 0 | BX70: =IF(BX14="No",1,0) -> 0 | BZ70: =IF(BZ14="No",1,0) -> 0 | CB70: =IF(CB14="No",1,0) -> 0 | CD70: =IF(CD14="No",1,0) -> 0 | CF70: =IF(CF14="No",1,0) -> 0 | CH70: =IF(CH14="No",1,0) -> 0 | CJ70: =IF(CJ14="No",1,0) -> 0 | CL70: =IF(CL14="No",1,0) -> 0 | CN70: =IF(CN14="No",1,0) -> 0 | CP70: =IF(CP14="No",1,0) -> 0 | CR70: =IF(CR14="No",1,0) -> 0 | CT70: =IF(CT14="No",1,0) -> 0 | CV70: =IF(CV14="No",1,0) -> 0 | CX70: =IF(CX14="No",1,0) -> 0 | CZ70: =IF(CZ14="No",1,0) -> 0 | DB70: =IF(DB14="No",1,0) -> 0 | DD70: =IF(DD14="No",1,0) -> 0 | DF70: =IF(DF14="No",1,0) -> 0 | DH70: =IF(DH14="No",1,0) -> 0 | DJ70: =IF(DJ14="No",1,0) -> 0 | DL70: =IF(DL14="No",1,0) -> 0 | DN70: =IF(DN14="No",1,0) -> 0 | DP70: =IF(DP14="No",1,0) -> 0 | DR70: =IF(DR14="No",1,0) -> 0 | DT70: =IF(DT14="No",1,0) -> 0 | DV70: =IF(DV14="No",1,0) -> 0 | DX70: =IF(DX14="No",1,0) -> 0 | DZ70: =IF(DZ14="No",1,0) -> 0 | EB70: =IF(EB14="No",1,0) -> 0 | ED70: =IF(ED14="No",1,0) -> 0 | EF70: =IF(EF14="No",1,0) -> 0 | EH70: =IF(EH14="No",1,0) -> 0 | EJ70: =IF(EJ14="No",1,0) -> 0 | EL70: =IF(EL14="No",1,0) -> 0 | EN70: =IF(EN14="No",1,0) -> 0 | EP70: =IF(EP14="No",1,0) -> 0 | ER70: =IF(ER14="No",1,0) -> 0 | ET70: =IF(ET14="No",1,0) -> 0 | EV70: =IF(EV14="No",1,0) -> 0 | EX70: =IF(EX14="No",1,0) -> 0 | EZ70: =IF(EZ14="No",1,0) -> 0 | FB70: =IF(FB14="No",1,0) -> 0 | FD70: =IF(FD14="No",1,0) -> 0 | FF70: =IF(FF14="No",1,0) -> 0 | FH70: =IF(FH14="No",1,0) -> 0 | FJ70: =IF(FJ14="No",1,0) -> 0 | FL70: =IF(FL14="No",1,0) -> 0 | FN70: =IF(FN14="No",1,0) -> 0 | FP70: =IF(FP14="No",1,0) -> 0 | FR70: =IF(FR14="No",1,0) -> 0 | FT70: =IF(FT14="No",1,0) -> 0 | FV70: =IF(FV14="No",1,0) -> 0 | FX70: =IF(FX14="No",1,0) -> 0 | FZ70: =IF(FZ14="No",1,0) -> 0 | GB70: =IF(GB14="No",1,0) -> 0 | GD70: =IF(GD14="No",1,0) -> 0 | GF70: =IF(GF14="No",1,0) -> 0 | GH70: =IF(GH14="No",1,0) -> 0 | GJ70: =IF(GJ14="No",1,0) -> 0 | GL70: =IF(GL14="No",1,0) -> 0 | GN70: =IF(GN14="No",1,0) -> 0 | GP70: =IF(GP14="No",1,0) -> 0 | GR70: =IF(GR14="No",1,0) -> 0 | GT70: =IF(GT14="No",1,0) -> 0 | GV70: =IF(GV14="No",1,0) -> 0 | GX70: =SUM(D70:GV70) -> 0 | GY70: =1-(X70/W69) -> #DIV/0!
A71: Prior Living Situation | B71: Applicable Files (Yes or No) | D71: =IF(OR(D15="Yes",D15="No"),1,0) -> 0 | F71: =IF(OR(F15="Yes",F15="No"),1,0) -> 0 | H71: =IF(OR(H15="Yes",H15="No"),1,0) -> 0 | J71: =IF(OR(J15="Yes",J15="No"),1,0) -> 0 | L71: =IF(OR(L15="Yes",L15="No"),1,0) -> 0 | N71: =IF(OR(N15="Yes",N15="No"),1,0) -> 0 | P71: =IF(OR(P15="Yes",P15="No"),1,0) -> 0 | R71: =IF(OR(R15="Yes",R15="No"),1,0) -> 0 | T71: =IF(OR(T15="Yes",T15="No"),1,0) -> 0 | V71: =IF(OR(V15="Yes",V15="No"),1,0) -> 0 | X71: =IF(OR(X15="Yes",X15="No"),1,0) -> 0 | Z71: =IF(OR(Z15="Yes",Z15="No"),1,0) -> 0 | AB71: =IF(OR(AB15="Yes",AB15="No"),1,0) -> 0 | AD71: =IF(OR(AD15="Yes",AD15="No"),1,0) -> 0 | AF71: =IF(OR(AF15="Yes",AF15="No"),1,0) -> 0 | AH71: =IF(OR(AH15="Yes",AH15="No"),1,0) -> 0 | AJ71: =IF(OR(AJ15="Yes",AJ15="No"),1,0) -> 0 | AL71: =IF(OR(AL15="Yes",AL15="No"),1,0) -> 0 | AN71: =IF(OR(AN15="Yes",AN15="No"),1,0) -> 0 | AP71: =IF(OR(AP15="Yes",AP15="No"),1,0) -> 0 | AR71: =IF(OR(AR15="Yes",AR15="No"),1,0) -> 0 | AT71: =IF(OR(AT15="Yes",AT15="No"),1,0) -> 0 | AV71: =IF(OR(AV15="Yes",AV15="No"),1,0) -> 0 | AX71: =IF(OR(AX15="Yes",AX15="No"),1,0) -> 0 | AZ71: =IF(OR(AZ15="Yes",AZ15="No"),1,0) -> 0 | BB71: =IF(OR(BB15="Yes",BB15="No"),1,0) -> 0 | BD71: =IF(OR(BD15="Yes",BD15="No"),1,0) -> 0 | BF71: =IF(OR(BF15="Yes",BF15="No"),1,0) -> 0 | BH71: =IF(OR(BH15="Yes",BH15="No"),1,0) -> 0 | BJ71: =IF(OR(BJ15="Yes",BJ15="No"),1,0) -> 0 | BL71: =IF(OR(BL15="Yes",BL15="No"),1,0) -> 0 | BN71: =IF(OR(BN15="Yes",BN15="No"),1,0) -> 0 | BP71: =IF(OR(BP15="Yes",BP15="No"),1,0) -> 0 | BR71: =IF(OR(BR15="Yes",BR15="No"),1,0) -> 0 | BT71: =IF(OR(BT15="Yes",BT15="No"),1,0) -> 0 | BV71: =IF(OR(BV15="Yes",BV15="No"),1,0) -> 0 | BX71: =IF(OR(BX15="Yes",BX15="No"),1,0) -> 0 | BZ71: =IF(OR(BZ15="Yes",BZ15="No"),1,0) -> 0 | CB71: =IF(OR(CB15="Yes",CB15="No"),1,0) -> 0 | CD71: =IF(OR(CD15="Yes",CD15="No"),1,0) -> 0 | CF71: =IF(OR(CF15="Yes",CF15="No"),1,0) -> 0 | CH71: =IF(OR(CH15="Yes",CH15="No"),1,0) -> 0 | CJ71: =IF(OR(CJ15="Yes",CJ15="No"),1,0) -> 0 | CL71: =IF(OR(CL15="Yes",CL15="No"),1,0) -> 0 | CN71: =IF(OR(CN15="Yes",CN15="No"),1,0) -> 0 | CP71: =IF(OR(CP15="Yes",CP15="No"),1,0) -> 0 | CR71: =IF(OR(CR15="Yes",CR15="No"),1,0) -> 0 | CT71: =IF(OR(CT15="Yes",CT15="No"),1,0) -> 0 | CV71: =IF(OR(CV15="Yes",CV15="No"),1,0) -> 0 | CX71: =IF(OR(CX15="Yes",CX15="No"),1,0) -> 0 | CZ71: =IF(OR(CZ15="Yes",CZ15="No"),1,0) -> 0 | DB71: =IF(OR(DB15="Yes",DB15="No"),1,0) -> 0 | DD71: =IF(OR(DD15="Yes",DD15="No"),1,0) -> 0 | DF71: =IF(OR(DF15="Yes",DF15="No"),1,0) -> 0 | DH71: =IF(OR(DH15="Yes",DH15="No"),1,0) -> 0 | DJ71: =IF(OR(DJ15="Yes",DJ15="No"),1,0) -> 0 | DL71: =IF(OR(DL15="Yes",DL15="No"),1,0) -> 0 | DN71: =IF(OR(DN15="Yes",DN15="No"),1,0) -> 0 | DP71: =IF(OR(DP15="Yes",DP15="No"),1,0) -> 0 | DR71: =IF(OR(DR15="Yes",DR15="No"),1,0) -> 0 | DT71: =IF(OR(DT15="Yes",DT15="No"),1,0) -> 0 | DV71: =IF(OR(DV15="Yes",DV15="No"),1,0) -> 0 | DX71: =IF(OR(DX15="Yes",DX15="No"),1,0) -> 0 | DZ71: =IF(OR(DZ15="Yes",DZ15="No"),1,0) -> 0 | EB71: =IF(OR(EB15="Yes",EB15="No"),1,0) -> 0 | ED71: =IF(OR(ED15="Yes",ED15="No"),1,0) -> 0 | EF71: =IF(OR(EF15="Yes",EF15="No"),1,0) -> 0 | EH71: =IF(OR(EH15="Yes",EH15="No"),1,0) -> 0 | EJ71: =IF(OR(EJ15="Yes",EJ15="No"),1,0) -> 0 | EL71: =IF(OR(EL15="Yes",EL15="No"),1,0) -> 0 | EN71: =IF(OR(EN15="Yes",EN15="No"),1,0) -> 0 | EP71: =IF(OR(EP15="Yes",EP15="No"),1,0) -> 0 | ER71: =IF(OR(ER15="Yes",ER15="No"),1,0) -> 0 | ET71: =IF(OR(ET15="Yes",ET15="No"),1,0) -> 0 | EV71: =IF(OR(EV15="Yes",EV15="No"),1,0) -> 0 | EX71: =IF(OR(EX15="Yes",EX15="No"),1,0) -> 0 | EZ71: =IF(OR(EZ15="Yes",EZ15="No"),1,0) -> 0 | FB71: =IF(OR(FB15="Yes",FB15="No"),1,0) -> 0 | FD71: =IF(OR(FD15="Yes",FD15="No"),1,0) -> 0 | FF71: =IF(OR(FF15="Yes",FF15="No"),1,0) -> 0 | FH71: =IF(OR(FH15="Yes",FH15="No"),1,0) -> 0 | FJ71: =IF(OR(FJ15="Yes",FJ15="No"),1,0) -> 0 | FL71: =IF(OR(FL15="Yes",FL15="No"),1,0) -> 0 | FN71: =IF(OR(FN15="Yes",FN15="No"),1,0) -> 0 | FP71: =IF(OR(FP15="Yes",FP15="No"),1,0) -> 0 | FR71: =IF(OR(FR15="Yes",FR15="No"),1,0) -> 0 | FT71: =IF(OR(FT15="Yes",FT15="No"),1,0) -> 0 | FV71: =IF(OR(FV15="Yes",FV15="No"),1,0) -> 0 | FX71: =IF(OR(FX15="Yes",FX15="No"),1,0) -> 0 | FZ71: =IF(OR(FZ15="Yes",FZ15="No"),1,0) -> 0 | GB71: =IF(OR(GB15="Yes",GB15="No"),1,0) -> 0 | GD71: =IF(OR(GD15="Yes",GD15="No"),1,0) -> 0 | GF71: =IF(OR(GF15="Yes",GF15="No"),1,0) -> 0 | GH71: =IF(OR(GH15="Yes",GH15="No"),1,0) -> 0 | GJ71: =IF(OR(GJ15="Yes",GJ15="No"),1,0) -> 0 | GL71: =IF(OR(GL15="Yes",GL15="No"),1,0) -> 0 | GN71: =IF(OR(GN15="Yes",GN15="No"),1,0) -> 0 | GP71: =IF(OR(GP15="Yes",GP15="No"),1,0) -> 0 | GR71: =IF(OR(GR15="Yes",GR15="No"),1,0) -> 0 | GT71: =IF(OR(GT15="Yes",GT15="No"),1,0) -> 0 | GV71: =IF(OR(GV15="Yes",GV15="No"),1,0) -> 0 | GW71: =SUM(D71:GV71) -> 0
B72: Non Compliant (N0) | D72: =IF(D15="No",1,0) -> 0 | F72: =IF(F15="No",1,0) -> 0 | H72: =IF(H15="No",1,0) -> 0 | J72: =IF(J15="No",1,0) -> 0 | L72: =IF(L15="No",1,0) -> 0 | N72: =IF(N15="No",1,0) -> 0 | P72: =IF(P15="No",1,0) -> 0 | R72: =IF(R15="No",1,0) -> 0 | T72: =IF(T15="No",1,0) -> 0 | V72: =IF(V15="No",1,0) -> 0 | X72: =IF(X15="No",1,0) -> 0 | Z72: =IF(Z15="No",1,0) -> 0 | AB72: =IF(AB15="No",1,0) -> 0 | AD72: =IF(AD15="No",1,0) -> 0 | AF72: =IF(AF15="No",1,0) -> 0 | AH72: =IF(AH15="No",1,0) -> 0 | AJ72: =IF(AJ15="No",1,0) -> 0 | AL72: =IF(AL15="No",1,0) -> 0 | AN72: =IF(AN15="No",1,0) -> 0 | AP72: =IF(AP15="No",1,0) -> 0 | AR72: =IF(AR15="No",1,0) -> 0 | AT72: =IF(AT15="No",1,0) -> 0 | AV72: =IF(AV15="No",1,0) -> 0 | AX72: =IF(AX15="No",1,0) -> 0 | AZ72: =IF(AZ15="No",1,0) -> 0 | BB72: =IF(BB15="No",1,0) -> 0 | BD72: =IF(BD15="No",1,0) -> 0 | BF72: =IF(BF15="No",1,0) -> 0 | BH72: =IF(BH15="No",1,0) -> 0 | BJ72: =IF(BJ15="No",1,0) -> 0 | BL72: =IF(BL15="No",1,0) -> 0 | BN72: =IF(BN15="No",1,0) -> 0 | BP72: =IF(BP15="No",1,0) -> 0 | BR72: =IF(BR15="No",1,0) -> 0 | BT72: =IF(BT15="No",1,0) -> 0 | BV72: =IF(BV15="No",1,0) -> 0 | BX72: =IF(BX15="No",1,0) -> 0 | BZ72: =IF(BZ15="No",1,0) -> 0 | CB72: =IF(CB15="No",1,0) -> 0 | CD72: =IF(CD15="No",1,0) -> 0 | CF72: =IF(CF15="No",1,0) -> 0 | CH72: =IF(CH15="No",1,0) -> 0 | CJ72: =IF(CJ15="No",1,0) -> 0 | CL72: =IF(CL15="No",1,0) -> 0 | CN72: =IF(CN15="No",1,0) -> 0 | CP72: =IF(CP15="No",1,0) -> 0 | CR72: =IF(CR15="No",1,0) -> 0 | CT72: =IF(CT15="No",1,0) -> 0 | CV72: =IF(CV15="No",1,0) -> 0 | CX72: =IF(CX15="No",1,0) -> 0 | CZ72: =IF(CZ15="No",1,0) -> 0 | DB72: =IF(DB15="No",1,0) -> 0 | DD72: =IF(DD15="No",1,0) -> 0 | DF72: =IF(DF15="No",1,0) -> 0 | DH72: =IF(DH15="No",1,0) -> 0 | DJ72: =IF(DJ15="No",1,0) -> 0 | DL72: =IF(DL15="No",1,0) -> 0 | DN72: =IF(DN15="No",1,0) -> 0 | DP72: =IF(DP15="No",1,0) -> 0 | DR72: =IF(DR15="No",1,0) -> 0 | DT72: =IF(DT15="No",1,0) -> 0 | DV72: =IF(DV15="No",1,0) -> 0 | DX72: =IF(DX15="No",1,0) -> 0 | DZ72: =IF(DZ15="No",1,0) -> 0 | EB72: =IF(EB15="No",1,0) -> 0 | ED72: =IF(ED15="No",1,0) -> 0 | EF72: =IF(EF15="No",1,0) -> 0 | EH72: =IF(EH15="No",1,0) -> 0 | EJ72: =IF(EJ15="No",1,0) -> 0 | EL72: =IF(EL15="No",1,0) -> 0 | EN72: =IF(EN15="No",1,0) -> 0 | EP72: =IF(EP15="No",1,0) -> 0 | ER72: =IF(ER15="No",1,0) -> 0 | ET72: =IF(ET15="No",1,0) -> 0 | EV72: =IF(EV15="No",1,0) -> 0 | EX72: =IF(EX15="No",1,0) -> 0 | EZ72: =IF(EZ15="No",1,0) -> 0 | FB72: =IF(FB15="No",1,0) -> 0 | FD72: =IF(FD15="No",1,0) -> 0 | FF72: =IF(FF15="No",1,0) -> 0 | FH72: =IF(FH15="No",1,0) -> 0 | FJ72: =IF(FJ15="No",1,0) -> 0 | FL72: =IF(FL15="No",1,0) -> 0 | FN72: =IF(FN15="No",1,0) -> 0 | FP72: =IF(FP15="No",1,0) -> 0 | FR72: =IF(FR15="No",1,0) -> 0 | FT72: =IF(FT15="No",1,0) -> 0 | FV72: =IF(FV15="No",1,0) -> 0 | FX72: =IF(FX15="No",1,0) -> 0 | FZ72: =IF(FZ15="No",1,0) -> 0 | GB72: =IF(GB15="No",1,0) -> 0 | GD72: =IF(GD15="No",1,0) -> 0 | GF72: =IF(GF15="No",1,0) -> 0 | GH72: =IF(GH15="No",1,0) -> 0 | GJ72: =IF(GJ15="No",1,0) -> 0 | GL72: =IF(GL15="No",1,0) -> 0 | GN72: =IF(GN15="No",1,0) -> 0 | GP72: =IF(GP15="No",1,0) -> 0 | GR72: =IF(GR15="No",1,0) -> 0 | GT72: =IF(GT15="No",1,0) -> 0 | GV72: =IF(GV15="No",1,0) -> 0 | GX72: =SUM(D72:GV72) -> 0 | GY72: =1-(X72/W71) -> #DIV/0!
A73: Subsidy Type | B73: Applicable Files (Yes or No) | D73: =IF(OR(D16="Yes",D16="No"),1,0) -> 0 | F73: =IF(OR(F16="Yes",F16="No"),1,0) -> 0 | H73: =IF(OR(H16="Yes",H16="No"),1,0) -> 0 | J73: =IF(OR(J16="Yes",J16="No"),1,0) -> 0 | L73: =IF(OR(L16="Yes",L16="No"),1,0) -> 0 | N73: =IF(OR(N16="Yes",N16="No"),1,0) -> 0 | P73: =IF(OR(P16="Yes",P16="No"),1,0) -> 0 | R73: =IF(OR(R16="Yes",R16="No"),1,0) -> 0 | T73: =IF(OR(T16="Yes",T16="No"),1,0) -> 0 | V73: =IF(OR(V16="Yes",V16="No"),1,0) -> 0 | X73: =IF(OR(X16="Yes",X16="No"),1,0) -> 0 | Z73: =IF(OR(Z16="Yes",Z16="No"),1,0) -> 0 | AB73: =IF(OR(AB16="Yes",AB16="No"),1,0) -> 0 | AD73: =IF(OR(AD16="Yes",AD16="No"),1,0) -> 0 | AF73: =IF(OR(AF16="Yes",AF16="No"),1,0) -> 0 | AH73: =IF(OR(AH16="Yes",AH16="No"),1,0) -> 0 | AJ73: =IF(OR(AJ16="Yes",AJ16="No"),1,0) -> 0 | AL73: =IF(OR(AL16="Yes",AL16="No"),1,0) -> 0 | AN73: =IF(OR(AN16="Yes",AN16="No"),1,0) -> 0 | AP73: =IF(OR(AP16="Yes",AP16="No"),1,0) -> 0 | AR73: =IF(OR(AR16="Yes",AR16="No"),1,0) -> 0 | AT73: =IF(OR(AT16="Yes",AT16="No"),1,0) -> 0 | AV73: =IF(OR(AV16="Yes",AV16="No"),1,0) -> 0 | AX73: =IF(OR(AX16="Yes",AX16="No"),1,0) -> 0 | AZ73: =IF(OR(AZ16="Yes",AZ16="No"),1,0) -> 0 | BB73: =IF(OR(BB16="Yes",BB16="No"),1,0) -> 0 | BD73: =IF(OR(BD16="Yes",BD16="No"),1,0) -> 0 | BF73: =IF(OR(BF16="Yes",BF16="No"),1,0) -> 0 | BH73: =IF(OR(BH16="Yes",BH16="No"),1,0) -> 0 | BJ73: =IF(OR(BJ16="Yes",BJ16="No"),1,0) -> 0 | BL73: =IF(OR(BL16="Yes",BL16="No"),1,0) -> 0 | BN73: =IF(OR(BN16="Yes",BN16="No"),1,0) -> 0 | BP73: =IF(OR(BP16="Yes",BP16="No"),1,0) -> 0 | BR73: =IF(OR(BR16="Yes",BR16="No"),1,0) -> 0 | BT73: =IF(OR(BT16="Yes",BT16="No"),1,0) -> 0 | BV73: =IF(OR(BV16="Yes",BV16="No"),1,0) -> 0 | BX73: =IF(OR(BX16="Yes",BX16="No"),1,0) -> 0 | BZ73: =IF(OR(BZ16="Yes",BZ16="No"),1,0) -> 0 | CB73: =IF(OR(CB16="Yes",CB16="No"),1,0) -> 0 | CD73: =IF(OR(CD16="Yes",CD16="No"),1,0) -> 0 | CF73: =IF(OR(CF16="Yes",CF16="No"),1,0) -> 0 | CH73: =IF(OR(CH16="Yes",CH16="No"),1,0) -> 0 | CJ73: =IF(OR(CJ16="Yes",CJ16="No"),1,0) -> 0 | CL73: =IF(OR(CL16="Yes",CL16="No"),1,0) -> 0 | CN73: =IF(OR(CN16="Yes",CN16="No"),1,0) -> 0 | CP73: =IF(OR(CP16="Yes",CP16="No"),1,0) -> 0 | CR73: =IF(OR(CR16="Yes",CR16="No"),1,0) -> 0 | CT73: =IF(OR(CT16="Yes",CT16="No"),1,0) -> 0 | CV73: =IF(OR(CV16="Yes",CV16="No"),1,0) -> 0 | CX73: =IF(OR(CX16="Yes",CX16="No"),1,0) -> 0 | CZ73: =IF(OR(CZ16="Yes",CZ16="No"),1,0) -> 0 | DB73: =IF(OR(DB16="Yes",DB16="No"),1,0) -> 0 | DD73: =IF(OR(DD16="Yes",DD16="No"),1,0) -> 0 | DF73: =IF(OR(DF16="Yes",DF16="No"),1,0) -> 0 | DH73: =IF(OR(DH16="Yes",DH16="No"),1,0) -> 0 | DJ73: =IF(OR(DJ16="Yes",DJ16="No"),1,0) -> 0 | DL73: =IF(OR(DL16="Yes",DL16="No"),1,0) -> 0 | DN73: =IF(OR(DN16="Yes",DN16="No"),1,0) -> 0 | DP73: =IF(OR(DP16="Yes",DP16="No"),1,0) -> 0 | DR73: =IF(OR(DR16="Yes",DR16="No"),1,0) -> 0 | DT73: =IF(OR(DT16="Yes",DT16="No"),1,0) -> 0 | DV73: =IF(OR(DV16="Yes",DV16="No"),1,0) -> 0 | DX73: =IF(OR(DX16="Yes",DX16="No"),1,0) -> 0 | DZ73: =IF(OR(DZ16="Yes",DZ16="No"),1,0) -> 0 | EB73: =IF(OR(EB16="Yes",EB16="No"),1,0) -> 0 | ED73: =IF(OR(ED16="Yes",ED16="No"),1,0) -> 0 | EF73: =IF(OR(EF16="Yes",EF16="No"),1,0) -> 0 | EH73: =IF(OR(EH16="Yes",EH16="No"),1,0) -> 0 | EJ73: =IF(OR(EJ16="Yes",EJ16="No"),1,0) -> 0 | EL73: =IF(OR(EL16="Yes",EL16="No"),1,0) -> 0 | EN73: =IF(OR(EN16="Yes",EN16="No"),1,0) -> 0 | EP73: =IF(OR(EP16="Yes",EP16="No"),1,0) -> 0 | ER73: =IF(OR(ER16="Yes",ER16="No"),1,0) -> 0 | ET73: =IF(OR(ET16="Yes",ET16="No"),1,0) -> 0 | EV73: =IF(OR(EV16="Yes",EV16="No"),1,0) -> 0 | EX73: =IF(OR(EX16="Yes",EX16="No"),1,0) -> 0 | EZ73: =IF(OR(EZ16="Yes",EZ16="No"),1,0) -> 0 | FB73: =IF(OR(FB16="Yes",FB16="No"),1,0) -> 0 | FD73: =IF(OR(FD16="Yes",FD16="No"),1,0) -> 0 | FF73: =IF(OR(FF16="Yes",FF16="No"),1,0) -> 0 | FH73: =IF(OR(FH16="Yes",FH16="No"),1,0) -> 0 | FJ73: =IF(OR(FJ16="Yes",FJ16="No"),1,0) -> 0 | FL73: =IF(OR(FL16="Yes",FL16="No"),1,0) -> 0 | FN73: =IF(OR(FN16="Yes",FN16="No"),1,0) -> 0 | FP73: =IF(OR(FP16="Yes",FP16="No"),1,0) -> 0 | FR73: =IF(OR(FR16="Yes",FR16="No"),1,0) -> 0 | FT73: =IF(OR(FT16="Yes",FT16="No"),1,0) -> 0 | FV73: =IF(OR(FV16="Yes",FV16="No"),1,0) -> 0 | FX73: =IF(OR(FX16="Yes",FX16="No"),1,0) -> 0 | FZ73: =IF(OR(FZ16="Yes",FZ16="No"),1,0) -> 0 | GB73: =IF(OR(GB16="Yes",GB16="No"),1,0) -> 0 | GD73: =IF(OR(GD16="Yes",GD16="No"),1,0) -> 0 | GF73: =IF(OR(GF16="Yes",GF16="No"),1,0) -> 0 | GH73: =IF(OR(GH16="Yes",GH16="No"),1,0) -> 0 | GJ73: =IF(OR(GJ16="Yes",GJ16="No"),1,0) -> 0 | GL73: =IF(OR(GL16="Yes",GL16="No"),1,0) -> 0 | GN73: =IF(OR(GN16="Yes",GN16="No"),1,0) -> 0 | GP73: =IF(OR(GP16="Yes",GP16="No"),1,0) -> 0 | GR73: =IF(OR(GR16="Yes",GR16="No"),1,0) -> 0 | GT73: =IF(OR(GT16="Yes",GT16="No"),1,0) -> 0 | GV73: =IF(OR(GV16="Yes",GV16="No"),1,0) -> 0 | GW73: =SUM(D73:GV73) -> 0
