Workbook

Sheet DV-SSO-CE Tool
A1: DV-SSO-CE Monitoring Tool | B1: 1 | C1: =B1+1 -> 2 | D1: =C1+1 -> 3 | E1: =D1+1 -> 4 | F1: =E1+1 -> 5 | G1: =F1+1 -> 6 | H1: =G1+1 -> 7 | I1: =H1+1 -> 8 | J1: =I1+1 -> 9 | ... AY1: =AX1+1 -> 50
A2: Agency Name
A3: Program Name
A4: Monitoring Date
A6: Client ID HMIS
A7: Last Name
A8: Entry Date
A9: Exit Date
A10: Length of Stay-Days | B10: =IF(B9="",$B$4-B8,B9-B8) -> 0 | C10: =IF(C9="",$B$4-C8,C9-C8) -> 0 | D10: =IF(D9="",$B$4-D8,D9-D8) -> 0 | E10: =IF(E9="",$B$4-E8,E9-E8) -> 0 | F10: =IF(F9="",$B$4-F8,F9-F8) -> 0 | G10: =IF(G9="",$B$4-G8,G9-G8) -> 0 | H10: =IF(H9="",$B$4-H8,H9-H8) -> 0 | I10: =IF(I9="",$B$4-I8,I9-I8) -> 0 | ... AY10: =IF(AY9="",$B$4-AY8,AY9-AY8) -> 0
A13: Standard | B13: Determination and Notes | C13: Determination and Notes | D13: Determination and Notes | E13: Determination and Notes | F13: Determination and Notes | G13: Determination and Notes | H13: Determination and Notes | I13: Determination and Notes | J13: Determination and Notes | K13: Determination and Notes | L13: Determination and Notes | M13: Determination and Notes | N13: Determination and Notes | O13: Determination and Notes | P13: Determination and Notes | Q13: Determination and Notes | R13: Determination and Notes | S13: Determination and Notes | T13: Determination and Notes | U13: Determination and Notes | V13: Determination and Notes | W13: Determination and Notes | X13: Determination and Notes | Y13: Determination and Notes | Z13: Determination and Notes | AA13: Determination and Notes | AB13: Determination and Notes | AC13: Determination and Notes | AD13: Determination and Notes | AE13: Determination and Notes | AF13: Determination and Notes | AG13: Determination and Notes | AH13: Determination and Notes | AI13: Determination and Notes | AJ13: Determination and Notes | AK13: Determination and Notes | AL13: Determination and Notes | AM13: Determination and Notes | AN13: Determination and Notes | AO13: Determination and Notes | AP13: Determination and Notes | AQ13: Determination and Notes | AR13: Determination and Notes | AS13: Determination and Notes | AT13: Determination and Notes | AU13: Determination and Notes | AV13: Determination and Notes | AW13: Determination and Notes | AX13: Determination and Notes | AY13: Determination and Notes
A14: Documentation of Homlessness
A16: Evaluation / Needs Assessment
A18: Annual Reassessment
A20: Termination and Appeals Acknowledgement
A22: Termination and Appeals Documentation
A24: Individualized Housing Stability Plans
A26: Case file documentation
A28: Lease or Housing Agreement Requirements
A30: VAWA client notification
A32: Assessment/Prioritization (HAST/RPT)
A34: Documentation of Habitability Inspection
A36: Lead Based Paint
... A42: FMR/Rent Reasonableness
B48: Yes
B49: No
B50: N/A
A52: =A14 -> Documentation of Homlessness
A53: Files Reviewed | B53: =IF(B14="",0,1) -> 0 | C53: =IF(C14="",0,1) -> 0 | D53: =IF(D14="",0,1) -> 0 | E53: =IF(E14="",0,1) -> 0 | F53: =IF(F14="",0,1) -> 0 | G53: =IF(G14="",0,1) -> 0 | H53: =IF(H14="",0,1) -> 0 | I53: =IF(I14="",0,1) -> 0 | ... AY53: =IF(AY14="",0,1) -> 0 | AZ53: =SUM(B53:AY53) -> 0
A54: Applicable Files | B54: =IF(B14="N/A",0,1) -> 1 | C54: =IF(C14="N/A",0,1) -> 1 | D54: =IF(D14="N/A",0,1) -> 1 | E54: =IF(E14="N/A",0,1) -> 1 | F54: =IF(F14="N/A",0,1) -> 1 | G54: =IF(G14="N/A",0,1) -> 1 | H54: =IF(H14="N/A",0,1) -> 1 | I54: =IF(I14="N/A",0,1) -> 1 | ... AY54: =IF(AY14="N/A",0,1) -> 1 | AZ54: =SUM(B54:AY54) -> 50
A55: Non Compliant | B55: =IF(B14="NO",1,0) -> 0 | C55: =IF(C14="NO",1,0) -> 0 | D55: =IF(D14="NO",1,0) -> 0 | E55: =IF(E14="NO",1,0) -> 0 | F55: =IF(F14="NO",1,0) -> 0 | G55: =IF(G14="NO",1,0) -> 0 | H55: =IF(H14="NO",1,0) -> 0 | I55: =IF(I14="NO",1,0) -> 0 | ... AY55: =IF(AY14="NO",1,0) -> 0 | AZ55: =SUM(B55:AY55) -> 0
A56: =A16 -> Evaluation / Needs Assessment
A57: Files Reviewed | B57: =IF(B16="",0,1) -> 0 | C57: =IF(C16="",0,1) -> 0 | D57: =IF(D16="",0,1) -> 0 | E57: =IF(E16="",0,1) -> 0 | F57: =IF(F16="",0,1) -> 0 | G57: =IF(G16="",0,1) -> 0 | H57: =IF(H16="",0,1) -> 0 | I57: =IF(I16="",0,1) -> 0 | ... AY57: =IF(AY16="",0,1) -> 0 | AZ57: =SUM(B57:AY57) -> 0
A58: Applicable Files | B58: =IF(B16="N/A",0,1) -> 1 | C58: =IF(C16="N/A",0,1) -> 1 | D58: =IF(D16="N/A",0,1) -> 1 | E58: =IF(E16="N/A",0,1) -> 1 | F58: =IF(F16="N/A",0,1) -> 1 | G58: =IF(G16="N/A",0,1) -> 1 | H58: =IF(H16="N/A",0,1) -> 1 | I58: =IF(I16="N/A",0,1) -> 1 | ... AY58: =IF(AY16="N/A",0,1) -> 1 | AZ58: =SUM(B58:AY58) -> 50
A59: Non Compliant | B59: =IF(B16="NO",1,0) -> 0 | C59: =IF(C16="NO",1,0) -> 0 | D59: =IF(D16="NO",1,0) -> 0 | E59: =IF(E16="NO",1,0) -> 0 | F59: =IF(F16="NO",1,0) -> 0 | G59: =IF(G16="NO",1,0) -> 0 | H59: =IF(H16="NO",1,0) -> 0 | I59: =IF(I16="NO",1,0) -> 0 | ... AY59: =IF(AY16="NO",1,0) -> 0 | AZ59: =SUM(B59:AY59) -> 0
A60: =A18 -> Annual Reassessment
A61: Files Reviewed | B61: =IF(B18="",0,1) -> 0 | C61: =IF(C18="",0,1) -> 0 | D61: =IF(D18="",0,1) -> 0 | E61: =IF(E18="",0,1) -> 0 | F61: =IF(F18="",0,1) -> 0 | G61: =IF(G18="",0,1) -> 0 | H61: =IF(H18="",0,1) -> 0 | I61: =IF(I18="",0,1) -> 0 | ... AY61: =IF(AY18="",0,1) -> 0 | AZ61: =SUM(B61:AY61) -> 0
A62: Applicable Files | B62: =IF(B18="N/A",0,1) -> 1 | C62: =IF(C18="N/A",0,1) -> 1 | D62: =IF(D18="N/A",0,1) -> 1 | E62: =IF(E18="N/A",0,1) -> 1 | F62: =IF(F18="N/A",0,1) -> 1 | G62: =IF(G18="N/A",0,1) -> 1 | H62: =IF(H18="N/A",0,1) -> 1 | I62: =IF(I18="N/A",0,1) -> 1 | ... AY62: =IF(AY18="N/A",0,1) -> 1 | AZ62: =SUM(B62:AY62) -> 50
A63: Non Compliant | B63: =IF(B18="NO",1,0) -> 0 | C63: =IF(C18="NO",1,0) -> 0 | D63: =IF(D18="NO",1,0) -> 0 | E63: =IF(E18="NO",1,0) -> 0 | F63: =IF(F18="NO",1,0) -> 0 | G63: =IF(G18="NO",1,0) -> 0 | H63: =IF(H18="NO",1,0) -> 0 | I63: =IF(I18="NO",1,0) -> 0 | ... AY63: =IF(AY18="NO",1,0) -> 0 | AZ63: =SUM(B63:AY63) -> 0
A64: =A20 -> Termination and Appeals Acknowledgement
A65: Files Reviewed | B65: =IF(B20="",0,1) -> 0 | C65: =IF(C20="",0,1) -> 0 | D65: =IF(D22="",0,1) -> 0 | E65: =IF(E22="",0,1) -> 0 | F65: =IF(F22="",0,1) -> 0 | G65: =IF(G22="",0,1) -> 0 | H65: =IF(H22="",0,1) -> 0 | I65: =IF(I22="",0,1) -> 0 | J65: =IF(J22="",0,1) -> 0 | K65: =IF(K22="",0,1) -> 0 | ... AY65: =IF(AY22="",0,1) -> 0 | AZ65: =SUM(B65:AY65) -> 0
...

Sheet DV-SSO-CE Guide
A2: DV-SSO-CE
A5: Documentation of Homelessness
A6: Agencies operating Emergency Solutions Grant (ESG) Street Outreach programs must document that each participant meets HUD’s Category 1: Literally Homeless definition (24 CFR §576.2) at the time services begin.
A7: A person is considered literally homeless if they are:
A8: Living in a place not meant for human habitation (such as streets, vehicles, abandoned buildings, or encampments),
A9: Staying in an emergency shelter, or
A10: Exiting an institution (such as jail, hospital, or treatment facility) where they stayed 90 days or less and were living in a place not meant for human habitation or in an emergency shelter immediately before entering the institution.
A11: Acceptable Documentation
A12: Agencies must maintain records showing the participant met the Category 1 definition at program entry. Acceptable documentation may include:
A13: Written verification from a street outreach worker confirming the person was observed living in a place not meant for human habitation.
A14: HMIS records showing the participant entered the program from a street outreach contact or emergency shelter.
A15: Discharge paperwork or written verification from an institution confirming the length of stay and prior homeless status.
... A396: Proper documentation ensures that rental assistance is cost-effective, compliant, and supports long-term housing stability.

Sheet PRCExit
A2: PR&C Exit Interview Form (DV-SSO-CE)
A4: Date | B4: Partner Agency | F4: Program | I4: Reviewers
A5: ='DV-SSO-CE Tool'!B4 -> 0 | B5: ='DV-SSO-CE Tool'!B2 -> 0 | F5: ='DV-SSO-CE Tool'!B3 -> 0
A6: Client File Review Summary
A7: Standard | G7: Number of Applicable Files | I7: Number Non Compliant | K7: Compliance Percentage
A8: ='DV-SSO-CE Tool'!A14 -> Documentation of Homlessness | G8: ='DV-SSO-CE Tool'!AZ54 -> 50 | I8: ='DV-SSO-CE Tool'!AZ55 -> 0 | K8: =1-(I8/G8) -> 1
A9: ='DV-SSO-CE Tool'!A16 -> Evaluation / Needs Assessment | G9: ='DV-SSO-CE Tool'!AZ58 -> 50 | I9: ='DV-SSO-CE Tool'!AZ59 -> 0 | K9: =1-(I9/G9) -> 1
A10: ='DV-SSO-CE Tool'!A18 -> Annual Reassessment | G10: ='DV-SSO-CE Tool'!AZ62 -> 50 | I10: ='DV-SSO-CE Tool'!AZ63 -> 0 | K10: =1-(I10/G10) -> 1
A11: ='DV-SSO-CE Tool'!A20 -> Termination and Appeals Acknowledgement | G11: ='DV-SSO-CE Tool'!AZ66 -> 50 | I11: ='DV-SSO-CE Tool'!AZ67 -> 0 | K11: =1-(I11/G11) -> 1
A12: ='DV-SSO-CE Tool'!A22 -> Termination and Appeals Documentation | G12: ='DV-SSO-CE Tool'!AZ70 -> 50 | I12: ='DV-SSO-CE Tool'!AZ71 -> 0 | K12: =1-(I12/G12) -> 1
A13: ='DV-SSO-CE Tool'!A24 -> Individualized Housing Stability Plans | G13: ='DV-SSO-CE Tool'!AZ74 -> 50 | I13: ='DV-SSO-CE Tool'!AZ75 -> 0 | K13: =1-(I13/G13) -> 1
A14: ='DV-SSO-CE Tool'!A26 -> Case file documentation | G14: ='DV-SSO-CE Tool'!AZ78 -> 50 | I14: ='DV-SSO-CE Tool'!AZ79 -> 0 | K14: =1-(I14/G14) -> 1
A15: ='DV-SSO-CE Tool'!A28 -> Lease or Housing Agreement Requirements | G15: ='DV-SSO-CE Tool'!AZ82 -> 50 | I15: ='DV-SSO-CE Tool'!AZ83 -> 0 | K15: =1-(I15/G15) -> 1
A16: ='DV-SSO-CE Tool'!A84 -> VAWA client notification | G16: ='DV-SSO-CE Tool'!AZ86 -> 50 | I16: ='DV-SSO-CE Tool'!BB86 -> 0 | K16: =1-(I16/G16) -> 1
A17: ='DV-SSO-CE Tool'!A32 -> Assessment/Prioritization (HAST/RPT) | G17: ='DV-SSO-CE Tool'!AZ90 -> 50 | I17: ='DV-SSO-CE Tool'!AZ91 -> 0 | K17: =1-(I17/G17) -> 1
A18: ='DV-SSO-CE Tool'!A34 -> Documentation of Habitability Inspection | G18: ='DV-SSO-CE Tool'!AZ94 -> 50 | I18: ='DV-SSO-CE Tool'!AZ95 -> 0 | K18: =1-(I18/G18) -> 1
A19: ='DV-SSO-CE Tool'!A36 -> Lead Based Paint | G19: ='DV-SSO-CE Tool'!AZ98 -> 50 | I19: ='DV-SSO-CE Tool'!AZ99 -> 0 | K19: =1-(I19/G19) -> 1
A20: ='DV-SSO-CE Tool'!A38 -> Provision of Eligible Assistance | G20: ='DV-SSO-CE Tool'!AZ102 -> 50 | I20: ='DV-SSO-CE Tool'!AZ103 -> 0 | K20: =1-(I20/G20) -> 1
A21: ='DV-SSO-CE Tool'!A40 -> Rental Asistance Agreement | G21: ='DV-SSO-CE Tool'!AZ106 -> 50 | I21: ='DV-SSO-CE Tool'!AZ107 -> 0 | K21: =1-(I21/G21) -> 1
A22: ='DV-SSO-CE Tool'!A42 -> FMR/Rent Reasonableness | G22: ='DV-SSO-CE Tool'!AZ110 -> 50 | I22: ='DV-SSO-CE Tool'!AZ111 -> 0 | K22: =1-(I22/G22) -> 1
A23: Overall Monitoring Score | G23: =SUM(G8:H22) -> 750 | I23: =SUM(I8:J22) -> 0 | K23: =1-(I23/G23) -> 1
A24: Standards feedback, recommendations and improvement needed
A27: Next Steps (Follow up)
B28: No follow up needed at this time. Final review and determination will be provided on the PR&C report
A29: x | B29: Please provide follow up information for the items listed below
A31: 1
A32: 2
A33: 3
A34: 4
A35: 5
