Workbook

Sheet Tool
B1: Coordinated Point of Access - Tool 1 2 | E1: 3 | F1: =E1+1 -> 4 | G1: =F1+1 -> 5 | H1: =G1+1 -> 6 | I1: =H1+1 -> 7 | J1: =I1+1 -> 8 | K1: =J1+1 -> 9 | L1: =K1+1 -> 10 | M1: =L1+1 -> 11 | ... BJ1: =BI1+1 -> 60
B2: Agency Name
B3: Program Name
B4: Monitoring Date
B6: Client ID HMIS
B7: Last Name
B8: Entry Date
B9: Exit Date
B10: Length of Stay-Days | C10: =IF(C9="",$C$4-C8,C9-C8) -> 0 | D10: =IF(D9="",$C$4-D8,D9-D8) -> 0 | E10: =IF(E9="",$C$4-E8,E9-E8) -> 0 | F10: =IF(F9="",$C$4-F8,F9-F8) -> 0 | G10: =IF(G9="",$C$4-G8,G9-G8) -> 0 | H10: =IF(H9="",$C$4-H8,H9-H8) -> 0 | I10: =IF(I9="",$C$4-I8,I9-I8) -> 0 | J10: =IF(J9="",$C$4-J8,J9-J8) -> 0 | ... BJ10: =IF(BJ9="",$C$4-BJ8,BJ9-BJ8) -> 0
A13: Tier | B13: Standard | C13: Determination and Notes | D13: Determination and Notes | E13: Determination and Notes | F13: Determination and Notes | G13: Determination and Notes | H13: Determination and Notes | I13: Determination and Notes | J13: Determination and Notes | K13: Determination and Notes | L13: Determination and Notes | M13: Determination and Notes | N13: Determination and Notes | O13: Determination and Notes | P13: Determination and Notes | Q13: Determination and Notes | R13: Determination and Notes | S13: Determination and Notes | T13: Determination and Notes | U13: Determination and Notes | V13: Determination and Notes | W13: Determination and Notes | X13: Determination and Notes | Y13: Determination and Notes | Z13: Determination and Notes | AA13: Determination and Notes | AB13: Determination and Notes | AC13: Determination and Notes | AD13: Determination and Notes | AE13: Determination and Notes | AF13: Determination and Notes | AG13: Determination and Notes | AH13: Determination and Notes | AI13: Determination and Notes | AJ13: Determination and Notes | AK13: Determination and Notes | AL13: Determination and Notes | AM13: Determination and Notes | AN13: Determination and Notes | AO13: Determination and Notes | AP13: Determination and Notes | AQ13: Determination and Notes | AR13: Determination and Notes | AS13: Determination and Notes | AT13: Determination and Notes | AU13: Determination and Notes | AV13: Determination and Notes | AW13: Determination and Notes | AX13: Determination and Notes | AY13: Determination and Notes | AZ13: Determination and Notes | BA13: Determination and Notes | BB13: Determination and Notes | BC13: Determination and Notes | BD13: Determination and Notes | BE13: Determination and Notes | BF13: Determination and Notes | BG13: Determination and Notes | BH13: Determination and Notes | BI13: Determination and Notes | BJ13: Determination and Notes
A14: 1 | B14: E2 Housing First
A16: 1 | B16: E3 Documentation of Homlessness
A18: 1 | B18: F3 Formal Grievance/Appeal policy
A20: 1 | B20: F4 Termination Policy
A22: 1 | B22: G1 Individualized Housing Stability Plans (where applicable; not for CPoA direct calls/diversion-only cases)
A24: 1 | B24: G2 Engagement Documentation (Case Notes)
A26: 1 | B26: G3 Referrals to mainstream benefits & Resources
A28: 1 | B28: G4 Screening/Prioritization (HAST, SSNA, diversion toolsl)
C32: Yes
C33: No
C34: N/A
B36: =B14 -> E2 Housing First
B37: Files Reviewed | C37: =IF(C14="",0,1) -> 0 | D37: =IF(D14="",0,1) -> 0 | E37: =IF(E14="",0,1) -> 0 | F37: =IF(F14="",0,1) -> 0 | G37: =IF(G14="",0,1) -> 0 | H37: =IF(H14="",0,1) -> 0 | I37: =IF(I14="",0,1) -> 0 | J37: =IF(J14="",0,1) -> 0 | ... BJ37: =IF(BJ14="",0,1) -> 0 | BK37: =SUM(C37:BJ37) -> 0
B38: Applicable Files | C38: =IF(C14="N/A",0,1) -> 1 | D38: =IF(D14="N/A",0,1) -> 1 | E38: =IF(E14="N/A",0,1) -> 1 | F38: =IF(F14="N/A",0,1) -> 1 | G38: =IF(G14="N/A",0,1) -> 1 | H38: =IF(H14="N/A",0,1) -> 1 | I38: =IF(I14="N/A",0,1) -> 1 | J38: =IF(J14="N/A",0,1) -> 1 | ... BJ38: =IF(BJ14="N/A",0,1) -> 1 | BK38: =SUM(C38:BJ38) -> 60
B39: Non Compliant | C39: =IF(C14="NO",1,0) -> 0 | D39: =IF(D14="NO",1,0) -> 0 | E39: =IF(E14="NO",1,0) -> 0 | F39: =IF(F14="NO",1,0) -> 0 | G39: =IF(G14="NO",1,0) -> 0 | H39: =IF(H14="NO",1,0) -> 0 | I39: =IF(I14="NO",1,0) -> 0 | J39: =IF(J14="NO",1,0) -> 0 | ... BJ39: =IF(BJ14="NO",1,0) -> 0 | BK39: =SUM(C39:BJ39) -> 0
B40: =B16 -> E3 Documentation of Homlessness
B41: Files Reviewed | C41: =IF(C16="",0,1) -> 0 | D41: =IF(D16="",0,1) -> 0 | E41: =IF(E16="",0,1) -> 0 | F41: =IF(F16="",0,1) -> 0 | G41: =IF(G16="",0,1) -> 0 | H41: =IF(H16="",0,1) -> 0 | I41: =IF(I16="",0,1) -> 0 | J41: =IF(J16="",0,1) -> 0 | ... BJ41: =IF(BJ16="",0,1) -> 0 | BK41: =SUM(C41:BJ41) -> 0
B42: Applicable Files | C42: =IF(C16="N/A",0,1) -> 1 | D42: =IF(D16="N/A",0,1) -> 1 | E42: =IF(E16="N/A",0,1) -> 1 | F42: =IF(F16="N/A",0,1) -> 1 | G42: =IF(G16="N/A",0,1) -> 1 | H42: =IF(H16="N/A",0,1) -> 1 | I42: =IF(I16="N/A",0,1) -> 1 | J42: =IF(J16="N/A",0,1) -> 1 | ... BJ42: =IF(BJ16="N/A",0,1) -> 1 | BK42: =SUM(C42:BJ42) -> 60
B43: Non Compliant | C43: =IF(C16="NO",1,0) -> 0 | D43: =IF(D16="NO",1,0) -> 0 | E43: =IF(E16="NO",1,0) -> 0 | F43: =IF(F16="NO",1,0) -> 0 | G43: =IF(G16="NO",1,0) -> 0 | H43: =IF(H16="NO",1,0) -> 0 | I43: =IF(I16="NO",1,0) -> 0 | J43: =IF(J16="NO",1,0) -> 0 | ... BJ43: =IF(BJ16="NO",1,0) -> 0 | BK43: =SUM(C43:BJ43) -> 0
B44: =B18 -> F3 Formal Grievance/Appeal policy
B45: Files Reviewed | C45: =IF(C18="",0,1) -> 0 | D45: =IF(D18="",0,1) -> 0 | E45: =IF(E18="",0,1) -> 0 | F45: =IF(F18="",0,1) -> 0 | G45: =IF(G18="",0,1) -> 0 | H45: =IF(H18="",0,1) -> 0 | I45: =IF(I18="",0,1) -> 0 | J45: =IF(J18="",0,1) -> 0 | ... BJ45: =IF(BJ18="",0,1) -> 0 | BK45: =SUM(C45:BJ45) -> 0
B46: Applicable Files | C46: =IF(C18="N/A",0,1) -> 1 | D46: =IF(D18="N/A",0,1) -> 1 | E46: =IF(E18="N/A",0,1) -> 1 | F46: =IF(F18="N/A",0,1) -> 1 | G46: =IF(G18="N/A",0,1) -> 1 | H46: =IF(H18="N/A",0,1) -> 1 | I46: =IF(I18="N/A",0,1) -> 1 | J46: =IF(J18="N/A",0,1) -> 1 | ... BJ46: =IF(BJ18="N/A",0,1) -> 1 | BK46: =SUM(C46:BJ46) -> 60
B47: Non Compliant | C47: =IF(C18="NO",1,0) -> 0 | D47: =IF(D18="NO",1,0) -> 0 | E47: =IF(E18="NO",1,0) -> 0 | F47: =IF(F18="NO",1,0) -> 0 | G47: =IF(G18="NO",1,0) -> 0 | H47: =IF(H18="NO",1,0) -> 0 | I47: =IF(I18="NO",1,0) -> 0 | J47: =IF(J18="NO",1,0) -> 0 | ... BJ47: =IF(BJ18="NO",1,0) -> 0 | BK47: =SUM(C47:BJ47) -> 0
B48: =B20 -> F4 Termination Policy
B49: Files Reviewed | C49: =IF(C20="",0,1) -> 0 | D49: =IF(D20="",0,1) -> 0 | E49: =IF(E20="",0,1) -> 0 | F49: =IF(F20="",0,1) -> 0 | G49: =IF(G20="",0,1) -> 0 | H49: =IF(H20="",0,1) -> 0 | I49: =IF(I20="",0,1) -> 0 | J49: =IF(J20="",0,1) -> 0 | ... BJ49: =IF(BJ20="",0,1) -> 0 | BK49: =SUM(C49:BJ49) -> 0
B50: Applicable Files | C50: =IF(C20="N/A",0,1) -> 1 | D50: =IF(D20="N/A",0,1) -> 1 | E50: =IF(E20="N/A",0,1) -> 1 | F50: =IF(F20="N/A",0,1) -> 1 | G50: =IF(G20="N/A",0,1) -> 1 | H50: =IF(H20="N/A",0,1) -> 1 | I50: =IF(I20="N/A",0,1) -> 1 | J50: =IF(J20="N/A",0,1) -> 1 | ... BJ50: =IF(BJ20="N/A",0,1) -> 1 | BK50: =SUM(C50:BJ50) -> 60
B51: Non Compliant | C51: =IF(C20="NO",1,0) -> 0 | D51: =IF(D20="NO",1,0) -> 0 | E51: =IF(E20="NO",1,0) -> 0 | F51: =IF(F20="NO",1,0) -> 0 | G51: =IF(G20="NO",1,0) -> 0 | H51: =IF(H20="NO",1,0) -> 0 | I51: =IF(I20="NO",1,0) -> 0 | J51: =IF(J20="NO",1,0) -> 0 | ... BJ51: =IF(BJ20="NO",1,0) -> 0 | BK51: =SUM(C51:BJ51) -> 0
B52: =B22 -> G1 Individualized Housing Stability Plans (where applicable; not for CPoA direct calls/diversion-only cases)
B53: Files Reviewed | C53: =IF(C22="",0,1) -> 0 | D53: =IF(D22="",0,1) -> 0 | E53: =IF(E22="",0,1) -> 0 | F53: =IF(F22="",0,1) -> 0 | G53: =IF(G22="",0,1) -> 0 | H53: =IF(H22="",0,1) -> 0 | I53: =IF(I22="",0,1) -> 0 | J53: =IF(J22="",0,1) -> 0 | ... BJ53: =IF(BJ22="",0,1) -> 0 | BK53: =SUM(C53:BJ53) -> 0
B54: Applicable Files | C54: =IF(C22="N/A",0,1) -> 1 | D54: =IF(D22="N/A",0,1) -> 1 | E54: =IF(E22="N/A",0,1) -> 1 | F54: =IF(F22="N/A",0,1) -> 1 | G54: =IF(G22="N/A",0,1) -> 1 | H54: =IF(H22="N/A",0,1) -> 1 | I54: =IF(I22="N/A",0,1) -> 1 | J54: =IF(J22="N/A",0,1) -> 1 | ... BJ54: =IF(BJ22="N/A",0,1) -> 1 | BK54: =SUM(C54:BJ54) -> 60
...

Sheet Guide
A2: CPOA TOOL
A3: Standard | C3: Detail
A5: E2 | C5: Housing First
A6: CPoA, Diversion, CARR Team divert clients with safe options and link to housing/services without preconditions. Polices and file documentation must be consistent with a Housing First model designed to place persons in housing without preconditions. Case managers should initiate contact within 24-48 hours and supportive services should be housing focused and designed to move persons into permanent housing as quickly as possible. Disability-related supportive services are voluntary, except where required by HUD regulations. While non-housing services are voluntary, programs may require participation in housing services needed to transition participants to permanent housing. Case files should clearly demonstrate efforts to quickly obtain low-barrier housing with voluntary services as well as efforts to ensure that the household remains is not terminated from the program despite repeated rule violations, or other circumstances. Shelters should avoid exits to other homeless situations and involuntary exits are only for imminent health and safety reasons.
A8: E3 | C8: Documentation of Homelessness
A9: The agency must provide documentation that client was homeless according to Category 1 (Literally Homeless) of HUD's definition of homeless upon entering the program. This would include living in places not fit for human habitation, exiting from another homeless program, or exiting an institution where (s)he resided 90 days or less and was literally homeless immediately before entering that institution. Acceptable documentation would include outreach worker verification, Self Certification of Homelessness, HMIS records showing client is entering from another homeless program discharge paperwork from an institution, or documented efforts the intake worker made to secure the appropriate information from the discharging institution. In most cases homeless documentation would consist of HMIS records, since households normally enter RRH housing from the emergency shelter system or street outreach. Please note that while HMIS records showing the that client came from another homeless shelter, or street outreach is acceptable documentation, HMIS records showing a referral from Coordinated Entry is not sufficient. In that case the agency should secure a Self Certification from the client. See the following link for HUD guidance on the homeless definition and record keeping.
A10: https://files.hudexchange.info/resources/documents/HomelessDefinition_RecordkeepingRequirementsandCriteria.pdf
A12: F3 | C12: Formal grievance/appeal policy
A13: Formal grievance/appeal policy; due process protections; annual review of restrictions
A15: F4 | C15: Termination policy
A16: Termination policy protects client rights; written notice, appeal process; attempts to prevent return to homelessness
A18: G1 | C18: Individualized housing stabilization plans (where applicable; not for CPoA direct calls/diversion-only cases)
A19: Staff develop Individualized Housing Stabilization Plans (IHSPs) with clients to document client housing goals and the actions necessary to address housing barriers and other service needs.
A21: G2 | C21: Engagement documentation
A22: Case files are up-to-date documenting client and service provider contacts, services provided and progress towards obtaining and maintaining permanent housing. Case notes should show progress towards long-term housing stability and that the participant met with the case manager at least monthly to address housing issues and barriers and assess continued financial assistance needs (amount, type, and duration).
A24: G3 | C24: Referrals to mainstream benefits & resources
A25: Make referrals to mainstream benefits/resources (SNAP, SSI, health care, etc.)
A27: G4 | C27: Screening/Prioritization (HAST, SSNA, diversion tools)
A28: All shelters (except Maryhaven Safety program) complete or have access to the Housing Assistance Screening Tool (HAST) for each client within 5 business days of program entry to document prioritization. Shelters may complete an SSNA if referring a client to the USHS pool for PSH prioritization.

Sheet PRCExit
A2: PR&C Exit Interview Form (CPOA)
A4: Date | B4: Partner Agency | F4: Program | I4: Reviewers
A5: =Tool!C4 -> 0 | B5: =Tool!C2 -> 0 | F5: =Tool!C3 -> 0
A6: Monitoring Summary
A8: Client File Review Summary
A9: Standard | G9: Number of Applicable Files | I9: Number Non Compliant | K9: Compliance Percentage
A10: =Tool!B14 -> E2 Housing First | G10: =Tool!BK38 -> 60 | I10: =Tool!BK39 -> 0 | K10: =1-(I10/G10) -> 1
A11: =Tool!B16 -> E3 Documentation of Homlessness | G11: =Tool!BK42 -> 60 | I11: =Tool!BK43 -> 0 | K11: =1-(I11/G11) -> 1
A12: =Tool!B44 -> F3 Formal Grievance/Appeal policy | G12: =Tool!BK46 -> 60 | I12: =Tool!BK52 -> 0 | K12: =1-(I12/G12) -> 1
A13: =Tool!B48 -> F4 Termination Policy | G13: =Tool!BK50 -> 60 | I13: =Tool!BK56 -> 0 | K13: =1-(I13/G13) -> 1
A14: =Tool!B52 -> G1 Individualized Housing Stability Plans (where applicable; not for CPoA direct calls/diversion-only cases) | G14: =Tool!BK54 -> 60 | I14: =Tool!BK60 -> 0 | K14: =1-(I14/G14) -> 1
A15: =Tool!B56 -> G2 Engagement Documentation (Case Notes) | G15: =Tool!BK58 -> 60 | I15: =Tool!BK55 -> 0 | K15: =1-(I15/G15) -> 1
A16: =Tool!B60 -> G3 Referrals to mainstream benefits & Resources | G16: =Tool!BK62 -> 60 | I16: =Tool!BK59 -> 0 | K16: =1-(I16/G16) -> 1
A17: =Tool!B64 -> G4 Screening/Prioritization (HAST, SSNA, diversion toolsl) | G17: =Tool!BK66 -> 60 | I17: =Tool!BK63 -> 0 | K17: =1-(I17/G17) -> 1
A19: Standards feedback, recommendations and improvement needed
A22: Next Steps (Follow up)
B23: No follow up needed at this time. Final review and determination will be provided on the PR&C report
A24: x | B24: Please provide follow up information for the items listed below
A26: 1
A27: 2
A28: 3
A29: 4
A30: 5
