Workbook

Sheet Tool
A1: Coordinated Point of Access - Tool | B1: 1 | C1: 2 | D1: 3 | E1: =D1+1 -> 4 | F1: =E1+1 -> 5 | G1: =F1+1 -> 6 | H1: =G1+1 -> 7 | I1: =H1+1 -> 8 | J1: =I1+1 -> 9 | K1: =J1+1 -> 10 | L1: =K1+1 -> 11 | ... AY1: =AX1+1 -> 50
A2: Agency Name
A3: Program Name
A4: Monitoring Date
A6: Client ID HMIS
A7: Last Name
A8: Entry Date
A9: Exit Date
A10: Length of Stay-Days | B10: =IF(B9="",$B$4-B8,B9-B8) -> 0 | C10: =IF(C9="",$B$4-C8,C9-C8) -> 0 | D10: =IF(D9="",$B$4-D8,D9-D8) -> 0 | E10: =IF(E9="",$B$4-E8,E9-E8) -> 0 | F10: =IF(F9="",$B$4-F8,F9-F8) -> 0 | G10: =IF(G9="",$B$4-G8,G9-G8) -> 0 | H10: =IF(H9="",$B$4-H8,H9-H8) -> 0 | I10: =IF(I9="",$B$4-I8,I9-I8) -> 0 | ... AY10: =IF(AY9="",$B$4-AY8,AY9-AY8) -> 0
A13: Standard | B13: Determination and Notes | C13: Determination and Notes | D13: Determination and Notes | E13: Determination and Notes | F13: Determination and Notes | G13: Determination and Notes | H13: Determination and Notes | I13: Determination and Notes | J13: Determination and Notes | K13: Determination and Notes | L13: Determination and Notes | M13: Determination and Notes | N13: Determination and Notes | O13: Determination and Notes | P13: Determination and Notes | Q13: Determination and Notes | R13: Determination and Notes | S13: Determination and Notes | T13: Determination and Notes | U13: Determination and Notes | V13: Determination and Notes | W13: Determination and Notes | X13: Determination and Notes | Y13: Determination and Notes | Z13: Determination and Notes | AA13: Determination and Notes | AB13: Determination and Notes | AC13: Determination and Notes | AD13: Determination and Notes | AE13: Determination and Notes | AF13: Determination and Notes | AG13: Determination and Notes | AH13: Determination and Notes | AI13: Determination and Notes | AJ13: Determination and Notes | AK13: Determination and Notes | AL13: Determination and Notes | AM13: Determination and Notes | AN13: Determination and Notes | AO13: Determination and Notes | AP13: Determination and Notes | AQ13: Determination and Notes | AR13: Determination and Notes | AS13: Determination and Notes | AT13: Determination and Notes | AU13: Determination and Notes | AV13: Determination and Notes | AW13: Determination and Notes | AX13: Determination and Notes | AY13: Determination and Notes
A14: Documentation of Homelessness
A16: Standarized Triage / Assessment
A18: Referrals
B22: Yes
B23: No
B24: N/A
A26: =A14 -> Documentation of Homelessness
A27: Files Reviewed | B27: =IF(B14="",0,1) -> 0 | C27: =IF(C14="",0,1) -> 0 | D27: =IF(D14="",0,1) -> 0 | E27: =IF(E14="",0,1) -> 0 | F27: =IF(F14="",0,1) -> 0 | G27: =IF(G14="",0,1) -> 0 | H27: =IF(H14="",0,1) -> 0 | I27: =IF(I14="",0,1) -> 0 | ... AY27: =IF(AY14="",0,1) -> 0 | AZ27: =SUM(B27:AY27) -> 0
A28: Applicable Files | B28: =IF(B14="N/A",0,1) -> 1 | C28: =IF(C14="N/A",0,1) -> 1 | D28: =IF(D14="N/A",0,1) -> 1 | E28: =IF(E14="N/A",0,1) -> 1 | F28: =IF(F14="N/A",0,1) -> 1 | G28: =IF(G14="N/A",0,1) -> 1 | H28: =IF(H14="N/A",0,1) -> 1 | I28: =IF(I14="N/A",0,1) -> 1 | ... AY28: =IF(AY14="N/A",0,1) -> 1 | AZ28: =SUM(B28:AY28) -> 50
A29: Non Compliant | B29: =IF(B14="NO",1,0) -> 0 | C29: =IF(C14="NO",1,0) -> 0 | D29: =IF(D14="NO",1,0) -> 0 | E29: =IF(E14="NO",1,0) -> 0 | F29: =IF(F14="NO",1,0) -> 0 | G29: =IF(G14="NO",1,0) -> 0 | H29: =IF(H14="NO",1,0) -> 0 | I29: =IF(I14="NO",1,0) -> 0 | ... AY29: =IF(AY14="NO",1,0) -> 0 | AZ29: =SUM(B29:AY29) -> 0
A30: =A16 -> Standarized Triage / Assessment
A31: Files Reviewed | B31: =IF(B16="",0,1) -> 0 | C31: =IF(C16="",0,1) -> 0 | D31: =IF(D16="",0,1) -> 0 | E31: =IF(E16="",0,1) -> 0 | F31: =IF(F16="",0,1) -> 0 | G31: =IF(G16="",0,1) -> 0 | H31: =IF(H16="",0,1) -> 0 | I31: =IF(I16="",0,1) -> 0 | ... AY31: =IF(AY16="",0,1) -> 0 | AZ31: =SUM(B31:AY31) -> 0
A32: Applicable Files | B32: =IF(B16="N/A",0,1) -> 1 | C32: =IF(C16="N/A",0,1) -> 1 | D32: =IF(D16="N/A",0,1) -> 1 | E32: =IF(E16="N/A",0,1) -> 1 | F32: =IF(F16="N/A",0,1) -> 1 | G32: =IF(G16="N/A",0,1) -> 1 | H32: =IF(H16="N/A",0,1) -> 1 | I32: =IF(I16="N/A",0,1) -> 1 | ... AY32: =IF(AY16="N/A",0,1) -> 1 | AZ32: =SUM(B32:AY32) -> 50
A33: Non Compliant | B33: =IF(B16="NO",1,0) -> 0 | C33: =IF(C16="NO",1,0) -> 0 | D33: =IF(D16="NO",1,0) -> 0 | E33: =IF(E16="NO",1,0) -> 0 | F33: =IF(F16="NO",1,0) -> 0 | G33: =IF(G16="NO",1,0) -> 0 | H33: =IF(H16="NO",1,0) -> 0 | I33: =IF(I16="NO",1,0) -> 0 | ... AY33: =IF(AY16="NO",1,0) -> 0 | AZ33: =SUM(B33:AY33) -> 0
A34: =A18 -> Referrals
A35: Files Reviewed | B35: =IF(B18="",0,1) -> 0 | C35: =IF(C18="",0,1) -> 0 | D35: =IF(D18="",0,1) -> 0 | E35: =IF(E18="",0,1) -> 0 | F35: =IF(F18="",0,1) -> 0 | G35: =IF(G18="",0,1) -> 0 | H35: =IF(H18="",0,1) -> 0 | I35: =IF(I18="",0,1) -> 0 | ... AY35: =IF(AY18="",0,1) -> 0 | AZ35: =SUM(B35:AY35) -> 0
A36: Applicable Files | B36: =IF(B18="N/A",0,1) -> 1 | C36: =IF(C18="N/A",0,1) -> 1 | D36: =IF(D18="N/A",0,1) -> 1 | E36: =IF(E18="N/A",0,1) -> 1 | F36: =IF(F18="N/A",0,1) -> 1 | G36: =IF(G18="N/A",0,1) -> 1 | H36: =IF(H18="N/A",0,1) -> 1 | I36: =IF(I18="N/A",0,1) -> 1 | ... AY36: =IF(AY18="N/A",0,1) -> 1 | AZ36: =SUM(B36:AY36) -> 50
A37: Non Compliant | B37: =IF(B18="NO",1,0) -> 0 | C37: =IF(C18="NO",1,0) -> 0 | D37: =IF(D18="NO",1,0) -> 0 | E37: =IF(E18="NO",1,0) -> 0 | F37: =IF(F18="NO",1,0) -> 0 | G37: =IF(G18="NO",1,0) -> 0 | H37: =IF(H18="NO",1,0) -> 0 | I37: =IF(I18="NO",1,0) -> 0 | ... AY37: =IF(AY18="NO",1,0) -> 0 | AZ37: =SUM(B37:AY37) -> 0

Sheet Guide
A2: CPOA monitoring Tool
A4: Documentation of Homelessness
A5: Agencies operating Emergency Solutions Grant (ESG) Street Outreach programs must document that each participant meets HUD’s Category 1: Literally Homeless definition (24 CFR §576.2) at the time services begin.
A6: A person is considered literally homeless if they are:
A7: Living in a place not meant for human habitation (such as streets, vehicles, abandoned buildings, or encampments),
A8: Staying in an emergency shelter, or
A9: Exiting an institution (such as jail, hospital, or treatment facility) where they stayed 90 days or less and were living in a place not meant for human habitation or in an emergency shelter immediately before entering the institution.
A10: Acceptable Documentation
A11: Agencies must maintain records showing the participant met the Category 1 definition at program entry. Acceptable documentation may include:
A12: Written verification from a street outreach worker confirming the person was observed living in a place not meant for human habitation.
A13: HMIS records showing the participant entered the program from a street outreach contact or emergency shelter.
A14: Discharge paperwork or written verification from an institution confirming the length of stay and prior homeless status.
... A82: Proper referral practices ensure that the Coordinated Entry system is fair, efficient, and focused on quickly connecting people to housing and services.

Sheet PRCExit
A2: PR&C Exit Interview Form (CPOA)
A4: Date | B4: Partner Agency | F4: Program | I4: Reviewers
A5: =Tool!B4 -> 0 | B5: =Tool!B2 -> 0 | F5: =Tool!B3 -> 0
A6: Client File Review Summary
A7: Standard | G7: Number of Applicable Files | I7: Number Non Compliant | K7: Compliance Percentage
A8: =Tool!A14 -> Documentation of Homelessness | G8: =Tool!AZ28 -> 50 | I8: =Tool!AZ29 -> 0 | K8: =1-(I8/G8) -> 1
A9: =Tool!A16 -> Standarized Triage / Assessment | G9: =Tool!AZ32 -> 50 | I9: =Tool!AZ33 -> 0 | K9: =1-(I9/G9) -> 1
A10: =Tool!A34 -> Referrals | G10: =Tool!AZ36 -> 50 | I10: =Tool!BB37 -> 0 | K10: =1-(I10/G10) -> 1
A11: Overall Monitoring Score | G11: =SUM(G8:H10) -> 150 | I11: =SUM(I8:J10) -> 0 | K11: =1-(I11/G11) -> 1
A12: Standards feedback, recommendations and improvement needed
A15: Next Steps (Follow up)
B16: No follow up needed at this time. Final review and determination will be provided on the PR&C report
A17: x | B17: Please provide follow up information for the items listed below
A19: 1
A20: 2
A21: 3
A22: 4
A23: 5
